Workbook

Sheet CONSOLIDADO
C1: CONSOLIDADO ANTEPROYECTO PRESUPUESTO
C4: DEPENDENCIA: | D4: GRUPO JÚRIDICO Y AGENDA LEGISLATIVA | F4: VIGENCIA: | G4: 2012
A6: CODIGO CUBS | B6: TIPO | C6: CATEGORÍA/ CLASE O SUBCLASE | D6: DESCRIPCIÓN DEL BIEN, SERVICIO U OBRA | E6: MODALIDA DE CONTRATACIÓN | F6: MES PROYECTADO ADQUISICIÓN DEL BIEN, SERVICIO U OBRA | G6: CANTIDAD | H6: VALOR ASIGNADO DEL PRESUPUESTO | I6: RUBRO | J6: NOMBRE DE LOS PROGRAMAS O PROYECTOS | K6: OBSERVACIONES
A8: 2.31.16 | B8: SERVICIOS | C8: SERVICIOS PERSONALES | D8: Prestación de servicios profesionales Y PERSONAL DE PLANTA | F8: 12 | G8: =+'SERVICIOS PERSONALES'!I15 -> 8 | H8: =+'SERVICIOS PERSONALES'!J15 -> 348067200 | K8: N/A
A9: 2.39.3 | B9: SERVICIOS | C9: SERVICIO ÁEREO PARA PASAJEROS VIATÍCOS Y GASTOS DE VIAJE | D9: Suministro de tiquetes áereos en rutas nacionales e internacionales. | F9: 12 | G9: =+'SERVICIOS ÁEREOS y viaticos '!H11 -> 34 | H9: =+'SERVICIOS ÁEREOS y viaticos '!I11 -> 27023200 | K9: Este servicio será contratado por la Coordinación Administrativa.
A10: 1.16.2.9 | B10: BIENES | C10: MAQUINARIA PARA INDUSTRIAS ESPECIALES/ IMPRESORAS, DUPLICADORAS Y EQUIPO PARA ENCUADERNACIÓN | D10: Copiadora (fotocopiadora) | F10: 12 | G10: =+'MAQ ESP IMPRESORAS-COPIADORAS'!H10 -> 1 | H10: =+'MAQ ESP IMPRESORAS-COPIADORAS'!I10 -> 1600000 | K10: Este servicio serán contratados por la Coordinación de Apoyo Tecnológico.
A11: 1.47.1 | B11: BIENES | C11: HARDWARE, SOFTWARE, REDES Y SUS ACCESORIOS | D11: Computadores,computador portatil e impresora multifuncional. | F11: 12 | G11: =+'HARDWARE,SOFTWARE Y ACCESORIOS'!H13 -> 12 | H11: =+'HARDWARE,SOFTWARE Y ACCESORIOS'!J13 -> 12490000 | K11: el suministro de estos elementos serán contratados por la Coordinación de Apoyo Tecnológico, ver anexo.
B12: SERVICIOS | C12: SERVICIOS DE PROCESAMIENTO DE INFORMACIÓN/ SERVICIOS AUTOMATIZADOS DE NOTICIAS | D12: Servicios de publicación de los avisos de convocatorias públicas, avisos emplazatorios, edictos y notificaciones cuscripcion notinet. | F12: 12 | G12: =+PUBLICACIONES!H11 -> 2 | H12: =+PUBLICACIONES!I11 -> 4500000 | K12: Este servicio será contratado entre las oficinas de IVC, Grupo Contratación y Secretaria General.
A13: 1.53.1/7 | B13: BIENES | C13: LIGROS, MAPAS Y OTRAS PUBLICACIONES/ DIVERSOS MATERIALES IMPRESOS | D13: Libros, manuales | F13: 12 | G13: =+'LIBROS MAPAS, OTRAS PUBLICACION'!L22 -> 9 | H13: =+'LIBROS MAPAS, OTRAS PUBLICACION'!M22 -> 2260600 | K13: El suministro de estos elementos serán contratados por la Coordinación Administrativa.
A14: 1.52.1 | B14: BIENES | C14: SUMINISTROS Y APARATOS DE OFICINA/SUMINISTROS DE OFICINA | D14: Comprende todos elementos consumibles de oficina, tales como papeleria. | F14: 12 | G14: =+'ACCESORIOS OFICINA'!H11 -> 18 | H14: =+'ACCESORIOS OFICINA'!J11 -> 580923
A15: 1.48.3.1 | B15: BIENES | C15: MUEBLES/ACCESORIOS | D15: Papelera para piso (basurera) y papelera para escritorio | F15: 12 | G15: =+'MUEBLES DE OFICINA'!H11 -> 11 | H15: =+'MUEBLES DE OFICINA'!J11 -> 2670000
A16: 1.52.2 | B16: BIENES | C16: SUMINISTRO Y APARATOS DE OFICINA/APARATOS Y ACCESORIOS DE OFICINA | D16: Comprende elementos y aparatos de oficina tales como abrecartas, almohadillas, anilladora, cortadora de papel, cosedora, dispensador de cinta, fechador, laminadora, numerador, sellos, tajalapiz y tijeras entre otros. | F16: 12 | G16: =+'SUMINISTROS DE OFICINA'!L57+'APARATOS Y ACCESORIOS OFICINA'!L17 -> 3174 | H16: =+'SUMINISTROS DE OFICINA'!N57+'APARATOS Y ACCESORIOS OFICINA'!N17 -> 24245504
C17: JUNTAS DE DEPORTES | D17: Incorporacion Juntas de Deportes | H17: =+'JUNTAS DE DEPORTES'!H20 -> 1716740742
A18: TOTAL | G18: 3182 | H18: =SUM(H8:H17) -> 2.1401782e+09

Sheet SERVICIOS PERSONALES
C1: CONSOLIDADO ANTEPROYECTO PRESUPUESTO
C3: DEPENDENCIA: | D3: GRUPO JÚRIDICO Y AGENDA LEGISLATIVA | G3: VIGENCIA: | H3: 2012
A5: CODIGO CUBS | B5: TIPO | C5: CATEGORÍA/ CLASE O SUBCLASE | D5: DESCRIPCIÓN DEL BIEN, SERVICIO U OBRA | E5: DETALLE DEL BIEN, SERVICIO U OBRA | F5: PERFIL | G5: MODALIDA DE CONTRATACIÓN | H5: MES PROYECTADO ADQUISICIÓN DEL BIEN, SERVICIO U OBRA | I5: CANTIDAD | J5: VALOR ASIGNADO DEL PRESUPUESTO | K5: RUBRO | L5: NOMBRE DE LOS PROGRAMAS O PROYECTOS | M5: OBSERVACIONES
A7: 2.31.16 | B7: SERVICIOS | C7: SERVICIOS PERSONALES | D7: Prestación de servicios profesionales | E7: BRINDAR ASISTENCIA Y APOYO JURÍDICO A LA SECRETARÍA GENERAL GRUPO JURÍDICO Y AGENDA LEGISLATIVA Y JUNTAS DE DEPORTES . | F7: ABOGADO | H7: 1 | I7: 1 | J7: =(4238000*12)*1.04 -> 52890240
E8: BRINDAR ASISTENCIA Y APOYO JURÍDICO A LA SECRETARÍA GENERAL GRUPO JURÍDICO Y AGENDA LEGISLATIVA Y JUNTAS DE DEPORTES . | F8: ABOGADO | H8: 1 | I8: 1 | J8: =(4238000*12)*1.04 -> 52890240
E9: BRINDAR ASISTENCIA Y APOYO JURÍDICO A LA SECRETARÍA GENERAL GRUPO JURÍDICO Y AGENDA LEGISLATIVA Y JUNTAS DE DEPORTES . | F9: CONTADOR PÚBLICO | H9: 1 | I9: 1 | J9: =(4238000*12)*1.04 -> 52890240
E10: BRINDAR ASESORÍA Y APOYO JURÍDICO A LA SECRETARIA GENERAL – GRUPO JURÍDICO Y AGENDA LEGISLATIVA. | F10: TITULO EN DERECHO, POS GRADO DERECHO ADVO MINIMO 2 AÑOS DE EXPERIENCIA LABORAL A PARTIR DE TERMINACION DE MATERIAS - ABOGADO | H10: 3 | I10: 1 | J10: =(4238000*12)*1.04 -> 52890240
E11: BRINDAR ASESORÍA Y APOYO JURÍDICO A LA SECRETARIA GENERAL – GRUPO JURÍDICO Y AGENDA LEGISLATIVA. | F11: ABOGADO | H11: 1 | I11: 1 | J11: =(4238000*12)*1.04 -> 52890240
E12: BRINDAR ASISTENCIA Y APOYO JURÍDICO EXTERNO EN LA A LA SECRETARÍA GENERAL GRUPO JURÍDICO. | F12: ABOGADO | H12: 1 | I12: 1 | J12: =(6700000*12)*1.04 -> 83616000
E13: BRINDAR ASESORIA INTEGRAL JURIDICA A LA ENTIDAD, ASISTIR Y APOYAR LA REVISION, EJECUCION Y EVALUACION JUIDICA DE CONVENIOS Y/O CONTRATOS QUE SE ADELANTEN ENN FASES PRECONTRACTUAL, CONTRACTUAL Y POS CONTRACTUAL, INCLUYE LIQUIDACION HASTA ETAPA PREJUDICIAL | F13: TITULO EN DERECHO, POS GRADO DERECHO ADVO, EXPERTO EN CONTRATACION ESTATAL Y ASESORIAS EN REGIM,EN ADVO Y CONTACTUAL MINIMO CINCO (5) AÑOS DE EXPERIENCIA LABORAL A PARTIR DE TERMINACION DE MATERIAS - ABOGADO | H13: 3 | I13: 1
E14: BRINDAR ASISTENCIA Y APOYO EN FINANZAS, REVISION CONTABLE Y FIANANCIERA DE JUNTAS ADMINISTRADORAS SECCIONALES (FALTANTES DE LIQUIDACION) REALIZAR DIAGNOSTICO DE ACREENCIAS DE TIPO LABORAL, COADYUVAR EN LABORES ATENIENTES A SUI PROFESION. | F14: TITULO EN FINANZAS Y ELACIONES INTERNACIONALES, POS GRADO EN GOBIERNO, GERENCIA Y ASUNTOS PUBLICOS. EXPERIENCIA MINIMA DOS (2) AÑOS CONTADOS A PARTIR DE TERMINACION DE MATERIAS | H14: 3 | I14: 1
A15: TOTAL | I15: =SUM(I7:I14) -> 8 | J15: =SUM(J7:J14) -> 348067200

Sheet SERVICIOS ÁEREOS y viaticos 
C1: CONSOLIDADO ANTEPROYECTO PRESUPUESTO
C4: DEPENDENCIA: | D4: GRUPO JÚRIDICO Y AGENDA LEGISLATIVA | F4: VIGENCIA: | G4: 2012
A7: CODIGO CUBS | B7: TIPO | C7: CATEGORÍA/ CLASE O SUBCLASE | D7: DESCRIPCIÓN DEL BIEN, SERVICIO U OBRA | E7: DETALLE DEL BIEN, SERVICIO U OBRA | F7: MODALIDA DE CONTRATACIÓN | G7: MES PROYECTADO ADQUISICIÓN DEL BIEN, SERVICIO U OBRA | H7: CANTIDAD | I7: VALOR ASIGNADO DEL PRESUPUESTO | J7: RUBRO | K7: NOMBRE DE LOS PROGRAMAS O PROYECTOS | L7: OBSERVACIONES
A9: 2.39.3 | B9: SERVICIOS | C9: SERVICIO ÁEREO PARA PASAJEROS | D9: Comprende aquellos servicios terrestre manutencion transporte terrestre | E9: Suministro de pasaje terrestre hotel y otros | F9: 1 | G9: 12 | H9: =24+4+2+4 -> 34 | I9: =144800*H9 -> 4923200 | K9: Procesos coactivos, conceptos juridicos; resolución derechos de petición de información y tutelas presentadas ante los diferentes juzgados del país relacionadas con las actividades propias de COLDEPORTES | L9: Este servicio será contratado por la Coordinación Administrativa.
A10: 2.39.3 | B10: SERVICIOS | C10: SERVICIO ÁEREO PARA PASAJEROS | D10: Comprende aquellos servicios aéreos para pasajeros nacionales e internacionales (Tiquetes) | E10: Suministro de tiquetes áereos en rutas nacionales | F10: 1 | G10: 12 | H10: =24+4+2+4 -> 34 | I10: =650000*H10 -> 22100000 | K10: Procesos coactivos, conceptos juridicos; resolución derechos de petición de información y tutelas presentadas ante los diferentes juzgados del país relacionadas con las actividades propias de COLDEPORTES | L10: Este servicio será contratado por la Coordinación Administrativa.
A11: TOTAL | H11: =SUM(H10:H10) -> 34 | I11: =SUM(I9:I10) -> 27023200

Sheet MAQ ESP IMPRESORAS-COPIADORAS
C1: CONSOLIDADO ANTEPROYECTO PRESUPUESTO
C4: DEPENDENCIA: | D4: GRUPO JÚRIDICO Y AGENDA LEGISLATIVA | F4: VIGENCIA: | G4: 2012
A7: CODIGO CUBS | B7: TIPO | C7: CATEGORÍA/ CLASE O SUBCLASE | D7: DESCRIPCIÓN DEL BIEN, SERVICIO U OBRA | E7: DETALLE DEL BIEN, SERVICIO U OBRA | F7: MODALIDA DE CONTRATACIÓN | G7: MES PROYECTADO ADQUISICIÓN DEL BIEN, SERVICIO U OBRA | H7: CANTIDAD | I7: VALOR ASIGNADO DEL PRESUPUESTO | J7: RUBRO | K7: NOMBRE DE LOS PROGRAMAS O PROYECTOS | L7: OBSERVACIONES
A9: 1.16.2.9 | B9: BIENES | C9: MAQUINARIA PARA INDUSTRIAS ESPECIALES/ IMPRESORAS, DUPLICADORAS Y EQUIPO PARA ENCUADERNACIÓN | D9: Comprende aquellos equipos de oficina tales como impresoras especiales, duplicadoras, equipo para encuadernación, entre otros. | E9: Copiadora (fotocopiadora) | G9: N/A | H9: 1 | I9: 1600000 | K9: Procesos coactivos, conceptos juridicos; resolución derechos de petición de información y tutelas presentadas ante los diferentes juzgados del país relacionadas con las actividades propias de COLDEPORTES | L9: Este servicio será contratado por la Coordinación de Apoyo Tecnológico.
A10: TOTAL | H10: =SUM(H9:H9) -> 1 | I10: =SUM(I9:I9) -> 1600000

Sheet HARDWARE,SOFTWARE Y ACCESORIOS
C1: CONSOLIDADO ANTEPROYECTO PRESUPUESTO
C4: DEPENDENCIA: | D4: GRUPO JÚRIDICO Y AGENDA LEGISLATIVA | F4: VIGENCIA: | G4: 2012
A7: CODIGO CUBS | B7: TIPO | C7: CATEGORÍA/ CLASE O SUBCLASE | D7: DETALLE DEL BIEN, SERVICIO U OBRA | E7: DESCRIPCIÓN DEL BIEN, SERVICIO U OBRA | F7: MODALIDA DE CONTRATACIÓN | G7: MES PROYECTADO ADQUISICIÓN DEL BIEN, SERVICIO U OBRA | H7: CANTIDAD | I7: VALOR UNITARIO | J7: VALOR ASIGNADO DEL PRESUPUESTO | K7: RUBRO | L7: NOMBRE DE LOS PROGRAMAS O PROYECTOS | M7: OBSERVACIONES
A9: 1.47.1.1 | B9: BIENES | C9: HARDWARE, SOFTWARE, REDES Y SUS ACCESORIOS | D9: Computadores | E9: Computador personal de escritorio integral con capacidad y rendimiento alto. | G9: N/A | H9: 8 | I9: 1250000 | J9: =+H9*I9 -> 10000000 | L9: Procesos coactivos, conceptos juridicos; resolución derechos de petición de información y tutelas presentadas ante los diferentes juzgados del país relacionadas con las actividades propias de COLDEPORTES | M9: Este servicio será contratado por la Coordinación de Apoyo Tecnológico.
A10: 1.47.1.4 | D10: Computador portatil | E10: Portatil capacidad y rendimiento alto. | G10: N/A | H10: 1 | I10: 1500000 | J10: =+H10*I10 -> 1500000 | K10: INVERSIÓN 722170800410
A11: 1.47.2.6 | D11: Scanner | G11: N/A | H11: 1
A12: 1.47.2.17 | D12: Impresora multifuncional | E12: Impresora multifuncional | G12: N/A | H12: 2 | I12: 495000 | J12: =+H12*I12 -> 990000 | K12: INVERSIÓN 722170800410
A13: TOTAL | H13: =SUM(H9:H12) -> 12 | J13: =SUM(J9:J12) -> 12490000

Sheet PUBLICACIONES
C1: CONSOLIDADO ANTEPROYECTO PRESUPUESTO
C4: DEPENDENCIA: | D4: GRUPO JÚRIDICO Y AGENDA LEGISLATIVA | G4: VIGENCIA: | H4: 2012
A7: CODIGO CUBS | B7: TIPO | C7: CATEGORÍA/ CLASE O SUBCLASE | D7: DESCRIPCIÓN DEL BIEN, SERVICIO U OBRA | E7: DETALLE DEL BIEN, SERVICIO U OBRA | F7: MODALIDA DE CONTRATACIÓN | G7: MES PROYECTADO ADQUISICIÓN DEL BIEN, SERVICIO U OBRA | H7: CANTIDAD | I7: VALOR ASIGNADO DEL PRESUPUESTO | J7: RUBRO | K7: NOMBRE DE LOS PROGRAMAS O PROYECTOS | L7: OBSERVACIONES
A9: 2.32.6.5 | B9: SERVICIOS | C9: SERVICIOS DE PROCESAMIENTO DE INFORMACIÓN/ SERVICIOS AUTOMATIZADOS DE NOTICIAS | D9: Servicios automatizados de noticias, servicios de datos u otros servicios de informacion, compra de datos (el equivalente electronico de libros, periodicos, publicaciones periodicas, etc). | E9: SERVICIOS DE PUBLICACIÓN DE LOS AVISOS DE CONVOCATORIAS PÚBLICAS, AVISOS EMPLAZATORIOS, EDICTOS Y NOTIFICACIONES | F9: 6 | G9: 12 | H9: 1 | I9: 3000000 | K9: Procesos coactivos, conceptos juridicos; resolución derechos de petición de información y tutelas presentadas ante los diferentes juzgados del país relacionadas con las actividades propias de COLDEPORTES
C10: OTROS SERVICIOS DE PÚBLICACIÓN, IMPRENTA, CARTOGRAFÍA Y COMUNICACIÓN. | D10: Otros servicios de publicacion, imprenta, cartografia, fotografia y comunicacion. | E10: SERVICIO DE INFORMACION JÚRIDICA EMPRESARIAL | F10: 6 | G10: 12 | H10: 1 | I10: 1500000
A11: TOTAL | H11: =SUM(H9:H10) -> 2 | I11: =SUM(I9:I10) -> 4500000

Sheet ACCESORIOS OFICINA
C1: CONSOLIDADO ANTEPROYECTO PRESUPUESTO
C4: DEPENDENCIA: | D4: GRUPO JÚRIDICO Y AGENDA LEGISLATIVA | G4: VIGENCIA: | H4: 2012
A7: CODIGO CUBS | B7: TIPO | C7: CATEGORÍA/ CLASE O SUBCLASE | D7: BIEN, SERVICIO U OBRA | E7: DETALLE DEL BIEN, SERVICIO U OBRA | F7: MODALIDA DE CONTRATACIÓN | G7: MES PROYECTADO ADQUISICIÓN DEL BIEN, SERVICIO U OBRA | H7: CANTIDAD | I7: MEDIA ARITMETICA/ PRECIO INDICATIVO | J7: VALOR ASIGNADO DEL PRESUPUESTO | K7: RUBRO | L7: NOMBRE DE LOS PROGRAMAS O PROYECTOS | M7: OBSERVACIONES
A9: 1.48.3.1.228 | B9: BIENES | C9: MUEBLES/ACCESORIOS | D9: PAPELERA PARA PISO (BASURERA) | E9: Basurera en madera, sin tapa, de dimensiones mayores o iguales a 0.30 x 0.10 x 0.20 y menores o iguales a 0.399 x 0.70 x 0.90 m | G9: 12 | H9: 9 | I9: 29647 | J9: =I9*H9 -> 266823 | L9: Apoyo a la Gestión de Inspección, Vigilancia y Control del Sistema Nacional del Deporte | M9: Este servicio será contratado por la Coordinación de Grupo Administrativo
A10: 1.48.1.23.3 | B10: BIENES | C10: MUEBLES/ACCESORIOS | D10: PAPELERA PARA ESCRITORIO | E10: Papelera en madera cedro, de 0-2 bandejas, de dimensiones menores a 0.25 x 0.27 x 0.05 m | G10: 12 | H10: 9 | I10: 34900 | J10: =I10*H10 -> 314100 | M10: Este servicio será contratado por la Coordinación de Grupo Administrativo
A11: TOTAL | H11: =SUM(H9:H10) -> 18 | I11: =SUM(I9:I10) -> 64547 | J11: =SUM(J9:J10) -> 580923

Sheet MUEBLES DE OFICINA
C1: CONSOLIDADO ANTEPROYECTO PRESUPUESTO
C4: DEPENDENCIA: | D4: GRUPO JÚRIDICO Y AGENDA LEGISLATIVA | F4: VIGENCIA: | G4: 2012
A7: CODIGO CUBS | B7: TIPO | C7: CATEGORÍA/ CLASE O SUBCLASE | D7: BIEN, SERVICIO U OBRA | E7: DESCRIPCIÓN DEL BIEN, SERVICIO U OBRA | F7: MODALIDA DE CONTRATACIÓN | G7: MES PROYECTADO ADQUISICIÓN DEL BIEN, SERVICIO U OBRA | H7: CANTIDAD | I7: VALOR UNIATRIO | J7: VALOR ASIGNADO DEL PRESUPUESTO | K7: RUBRO | L7: NOMBRE DE LOS PROGRAMAS O PROYECTOS | M7: OBSERVACIONES
A9: 1.48.1.14 | B9: BIENES | C9: MUEBLES DE OFICINA | D9: Silla ejecutiva sin brazos (ergonómica) | E9: Silla ergonómica | H9: 9 | I9: 170000 | J9: =+H9*I9 -> 1530000 | L9: N/A | M9: Este servicio será contratado por la Coordinación de Grupo Administrativo
A10: 1.48.1.14 | D10: Escritorios modulares tres cajones | E10: Escritorio de oficina | H10: 2 | I10: 570000 | J10: =+H10*I10 -> 1140000
A11: TOTAL | H11: =SUM(H9:H10) -> 11 | I11: =SUM(I9:I9) -> 170000 | J11: =SUM(J9:J10) -> 2670000

Sheet LIBROS MAPAS, OTRAS PUBLICACION
C1: CONSOLIDADO ANTEPROYECTO PRESUPUESTO
C5: DEPENDENCIA: | D5: GRUPO JÚRIDICO Y AGENDA LEGISLATIVA | H5: 2011
C7: VIGENCIA: | D7: 2012
A12: TIPO | B12: CATEGORÍA/ CLASE O SUBCLASE | C12: CODIGO CUBS | D12: BIEN, SERVICIO U OBRA | E12: DESCRIPCIÓN DEL BIEN, SERVICIO U OBRA | F12: UNIDAD DE MEDIDA | G12: PC 2010-SOLICITADO | H12: SALDO A DICIEMBRE 31 DE 2010 | I12: TOTAL CONSUMO 2010 | J12: PC 2011 | K12: SALDO ACTUAL | L12: PC 2012 DEFINITIVO | M12: VALOR AÑO
A13: BIENES | B13: LIGROS, MAPAS Y OTRAS PUBLICACIONES/ DIVERSOS MATERIALES IMPRESOS | C13: 1.53.1.38 | D13: CÓDIGO CÍVIL - LEGIS (RENOVACIÓN ANUAL) | E13: Compendio de hojas sustituibles de temas especializados, con sus respectivas actualizaciones. | F13: UNIDAD | I13: =G13-H13 -> 0 | J13: 1 | K13: =H13+J13 -> 1 | L13: 1 | M13: 301500
C14: 1.53.1.38 | D14: CÓDIGO CONTENCIOSO ADMINISTRATIVO - LEGIS (RENOVACIÓN ANUAL) | E14: Compendio de hojas sustituibles de temas especializados, con sus respectivas actualizaciones. | F14: UNIDAD | G14: 3 | H14: 3 | I14: =G14-H14 -> 0 | K14: =H14+J14 -> 3 | L14: 1 | M14: 301500
C15: 1.53.1.38 | D15: CÓDIGO COMERCIO - LEGIS (RENOVACIÓN ANUAL) | E15: Compendio de hojas sustituibles de temas especializados, con sus respectivas actualizaciones. | F15: UNIDAD | I15: =G15-H15 -> 0 | J15: 1 | K15: =H15+J15 -> 1 | L15: 1 | M15: 301500
C16: 1.53.1.38 | D16: CÓDIGO DE PROCEDIMIENTO CÍVIL - LEGIS (RENOVACIÓN ANUAL) | E16: Compendio de hojas sustituibles de temas especializados, con sus respectivas actualizaciones. | F16: UNIDAD | G16: 3 | H16: 3 | I16: =G16-H16 -> 0 | K16: =H16+J16 -> 3 | L16: 1 | M16: 301500
C17: 1.53.1.38 | D17: Régimen Penal Colombiano (legis) | E17: Compendio de hojas sustituibles de temas especializados, con sus respectivas actualizaciones. | F17: UNIDAD | G17: 3 | H17: 3 | I17: =G17-H17 -> 0 | K17: =H17+J17 -> 3 | L17: 1 | M17: 301500
C18: 1.53.1.38 | D18: CÓDIGO SUSTANTIVO DEL TRABAJO - LEGIS (RENOVACIÓN ANUAL) | E18: Compendio de hojas sustituibles de temas especializados, con sus respectivas actualizaciones. | F18: UNIDAD | I18: =G18-H18 -> 0 | J18: 1 | K18: =H18+J18 -> 1 | L18: 1 | M18: 44100
C19: 1.53.1.38 | D19: CONSTITUCIÓN POLÍTICA COLOMBIANA - LEGIS (RENOVACIÓN ANUAL) | E19: Compendio de hojas sustituibles de temas especializados, con sus respectivas actualizaciones. | F19: UNIDAD | G19: 3 | H19: 3 | I19: =G19-H19 -> 0 | K19: =H19+J19 -> 3 | L19: 1 | M19: 301500
C20: 1.53.1.38 | D20: RÉGIMEN CONTABLE TRIBUTARIO - LEGIS (RENOVACIÓN ANUAL) | E20: Compendio de hojas sustituibles de temas especializados, con sus respectivas actualizaciones. | F20: UNIDAD | G20: 3 | H20: 3 | I20: =G20-H20 -> 0 | K20: =H20+J20 -> 3 | L20: 1 | M20: 301500
C21: 1.53.1.37 | D21: ESTATUTO TRIBUTARIO | E21: Libro o cartilla técnica | F21: UNIDAD | G21: 3 | H21: 3 | I21: =G21-H21 -> 0 | K21: =H21+J21 -> 3 | L21: 1 | M21: 106000
A22: TOTAL | G22: =SUM(#REF!) -> #REF! | L22: =SUM(L13:L21) -> 9 | M22: =SUM(M13:M21) -> 2260600

Sheet SUMINISTROS DE OFICINA
C1: CONSOLIDADO ANTEPROYECTO PRESUPUESTO
C5: DEPENDENCIA: | D5: GRUPO JÚRIDICO Y AGENDA LEGISLATIVA
C7: VIGENCIA: | D7: 2012
A11: TIPO | B11: CATEGORÍA/ CLASE O SUBCLASE | C11: CODIGO CUBS | D11: BIEN, SERVICIO U OBRA | E11: DESCRIPCIÓN DEL BIEN, SERVICIO U OBRA | F11: UNIDAD DE MEDIDA | G11: PC 2010-SOLICITADO | H11: SALDO A DICIEMBRE 31 DE 2010 | I11: TOTAL CONSUMO 2010 | J11: PC 2011 | K11: SALDO ACTUAL | L11: PC 2011 DEFINITIVO | M11: VALOR UNITARIO | N11: VALOR TOTAL
A12: BIENES | B12: SUMINISTROS Y APARATOS DE OFICINA | C12: 1.52.1.11.59 | D12: BANDAS DE CAUCHO | E12: Banda elastica en caucho, referencia 22, por 25 g . | F12: CAJA | L12: 6 | M12: 278.4 | N12: =+L12*M12 -> 1670.4
C13: 1.52.1.13.38 | D13: BANDERITAS FLAGS LANGUETTES | E13: Banderita mayor a ? y menor o igual a 1 in, sin iconos impresos, en presentacion por paquete de 60 unidades . | F13: PAQUETE | L13: 80 | M13: 2300 | N13: =+L13*M13 -> 184000
C14: 1.52.1.8.19 | D14: BLOCK CUADRICULADO 80 HOJAS | E14: Block de papel amarillo, cuadriculado, carta, 80 hojas. | F14: UNIDAD | L14: 10 | M14: 2657.56 | N14: =+L14*M14 -> 26575.6
C15: 1.52.1.9.1 | D15: BOLIGRAFO DESECHABLE (MICROPUNTA VARIOS COLORES) | E15: Boligrafo desechable tinta varios colores, en plastico, presentacion por 1 und, con tapa. | F15: UNIDAD | I15: =G15-H15 -> 0 | J15: 24 | K15: =H15+J15 -> 24 | L15: 20 | M15: 893.2 | N15: =+L15*M15 -> 17864
C16: 1.52.1.9.1 | D16: BOLIGRAFO DESECHABLE (MICROPUNTA NEGRO) | E16: Boligrafo desechable tinta varios colores, en plastico, presentacion por 1 und, con tapa. | F16: UNIDAD | I16: =G16-H16 -> 0 | J16: 24 | K16: =H16+J16 -> 24 | L16: 40 | M16: 893.2 | N16: =+L16*M16 -> 35728
C17: 1.52.1.9.2 | D17: BOLIGRAFO DESECHABLE (NEGRO) | E17: Boligrafo desechable tinta varios colores, en pasta, presentacion por 1 und, con tapa. | F17: UNIDAD | G17: 360 | H17: 340 | I17: =G17-H17 -> 20 | J17: 36 | K17: 332 | L17: 80 | M17: 535.92 | N17: =+L17*M17 -> 42873.6
C18: 1.52.1.17.3 | D18: BORRADOR DE NATA PZ-20 O BR 20 | E18: Borrador para lapiz, tipo nata, tamaño grande, por 1 und. | F18: UNIDAD | K18: 20 | L18: 20 | M18: 250 | N18: =+L18*M18 -> 5000
C19: 1.52.1.18 | D19: CAJA PARA ARCHIVO TIPO NEVERA | E19: Caja para archivo | F19: UNIDAD | K19: 100 | L19: 150 | M19: 3300 | N19: =+L19*M19 -> 495000
B20: CINTAS ADHESIVAS INDUSTRIALES | C20: 1.32.10.6.1 | D20: CINTA PEGANTE PARA DISPENSADOR 12 X 40 | E20: Cinta de facil corte, polipropileno, dimensiones (12mmx40m), | F20: ROLLO | I20: =G20-H20 -> 0 | J20: 2 | K20: =H20+J20 -> 2 | L20: 3 | M20: 1027.76 | N20: =+L20*M20 -> 3083.28
C21: 1.32.10.3 | D21: CINTA PEGANTE PARA EMPAQUE 24 X 50 | E21: Cinta para empaque de 25 micras | F21: ROLLO | I21: =G21-H21 -> 0 | J21: 2 | K21: =H21+J21 -> 2 | L21: 3 | M21: 2679.6 | N21: =+L21*M21 -> 8038.8
B22: SUMINISTROS Y APARATOS DE OFICINA | C22: 1.52.1.35 | D22: CORRECTOR LIQUIDO LÁPIZ | E22: Corrector | F22: UNIDAD | L22: 6 | M22: 3126.2 | N22: =+L22*M22 -> 18757.2
C23: 1.52.1.39 | D23: DIRECTORIO TELEFÓNICO DESPACHOS PÚBLICOS | E23: Directorio | F23: UNIDAD | G23: 100 | H23: 100 | I23: =G23-H23 -> 0 | K23: =H23+J23 -> 100 | L23: 1 | M23: 75000 | N23: =+L23*M23 -> 75000
C24: 1.52.1.45.26 | D24: GANCHOS CLIPS MARIPOSA | E24: Gancho tipo clip mariposa, No. 2, en alambre metalico galvanizado, por 50 und. | F24: CAJA | G24: 5 | H24: 5 | I24: =G24-H24 -> 0 | K24: =H24+J24 -> 5 | L24: 8 | M24: 1398.95 | N24: =+L24*M24 -> 11191.6
C25: 1.52.1.45.45 | D25: GANCHOS CLIPS PLASTICOS | E25: Gancho tipo clip estandar, en alambre plastico, de 33 mm, por 100 und. | F25: CAJA | G25: 10 | H25: 10 | I25: =G25-H25 -> 0 | J25: 2 | K25: =H25+J25 -> 12 | L25: 15 | M25: 1339.8 | N25: =+L25*M25 -> 20097
C26: 1.52.1.45.57 | D26: GANCHOS COSEDORA 9(23) / 12 | E26: Gancho tipo grapa, referencia 23/12, en alambre metalico cobrizado, por 1000 und. | F26: CAJA | G26: 1 | H26: 1 | I26: =G26-H26 -> 0 | K26: =H26+J26 -> 1 | L26: 2 | M26: 2818.79 | N26: =+L26*M26 -> 5637.58
C27: 1.52.1.45.77 | D27: GANCHOS PARA COSEDORA 26/6 | E27: Gancho tipo grapa, referencia 26/6 , en alambre metalico cobrizado, por 5000 und. | F27: CAJA | G27: 2 | H27: 2 | I27: =G27-H27 -> 0 | J27: 2 | K27: =H27+J27 -> 4 | L27: 4 | M27: 2233 | N27: =+L27*M27 -> 8932
C28: 1.52.1.45.29 | D28: GANCHO LEGAJADOR TRES PIEZAS PLASTICOS X 20 UND | E28: Gancho tipo legajador, gancho, pisador y corredera en polipropileno transparente, por 20 juegos. | F28: PAQUETE | G28: 50 | H28: 47 | I28: =G28-H28 -> 3 | K28: =H28+J28 -> 47 | L28: 30 | M28: 2379 | N28: =+L28*M28 -> 71370
C29: 1.52.1.72.2 | D29: DISCO COMPACTO/CD - R | E29: Disco compacto gravable, de 700 Mb 80 min, por 1 und. | F29: UNIDAD | L29: 30 | M29: 550 | N29: =+L29*M29 -> 16500
C30: 1.52.1.72 | D30: DVD/R | E30: Disco compacto | F30: UNIDAD | L30: 15 | M30: 550 | N30: =+L30*M30 -> 8250
C31: 1.52.1.38.435 | D31: LAPIZ NEGRO | E31: Lapiz para escritura, fabricado en madera, de forma hexagonal con borrador, mina negra de 2 mm y dureza No.2. | F31: UNIDAD | G31: 15 | H31: 10 | I31: =G31-H31 -> 5 | J31: 5 | K31: =H31+J31 -> 15 | L31: 30 | M31: 625 | N31: =+L31*M31 -> 18750
C32: 1.52.1.54.2 | D32: MARBETES | E32: Marbete tamaño 10 x 1,2 cm, de 190 und. | F32: PAQUETES | L32: 3 | M32: 717.79 | N32: =+L32*M32 -> 2153.37
C33: 1.52.1.41.77 | D33: MARCADOR PARA ACETATO | E33: Marcador permanente, desechable, contenido de tinta menor o igual a 2,5 g , de punta redonda acrilica, para hacer lineas de aprox. 1 mm , por 1 und. | F33: UNIDAD | L33: 5 | M33: 2210 | N33: =+L33*M33 -> 11050
C34: 1.52.1.44.10 | D34: MINAS 0.5 | E34: Mina para portaminas, con diametro de escritura aproximado de 0,5 mm, con tonalidad de escritura 2H, por 12 und. | F34: UNIDAD | L34: 8 | M34: 536 | N34: =+L34*M34 -> 4288
C35: 1.52.1.85.73 | D35: NOTAS ADHESIVAS GRANDES 100X75 MM | E35: Taco de papel por 1 paquete de mayor a 100 y menor o igual a 300 hojas cada uno, en bond, engomado, tamaño de la hoja mayor a 8 x 8 y menor o igual a 10 x 10 cm, colores fluorescentes en varios tonos por paquete . | F35: PAQUETE | I35: =G35-H35 -> 0 | J35: 2 | K35: =H35+J35 -> 2 | L35: 20 | M35: 2003.32 | N35: =+L35*M35 -> 40066.4
C36: 1.52.1.85.67 | D36: NOTAS ADHESIVAS MEDIANAS 75X75 MM | E36: Taco de papel por 1 paquete de mayor a 100 y menor o igual a 300 hojas cada uno, en bond, engomado, tamaño de la hoja mayor a 4 x 5 y menor o igual a 8 x 8 cm, colores fluorescentes en varios tonos por paquete . | F36: PAQUETE | I36: =G36-H36 -> 0 | J36: 2 | K36: =H36+J36 -> 2 | L36: 20 | M36: 3155.2 | N36: =+L36*M36 -> 63104
C37: 1.52.1.85.61 | D37: NOTAS ADHESIVAS PEQUEÑAS 50X38 MM | E37: Taco de papel por 1 paquete de mayor a 100 y menor o igual a 300 hojas cada uno, en bond, engomado, tamaño de la hoja menor o igual 4 x 5 cm, colores fluorescentes en varios tonos por paquete . | F37: PAQUETE | G37: 20 | H37: 10 | I37: =G37-H37 -> 10 | J37: 2 | K37: =H37+J37 -> 12 | L37: 30 | M37: 2610 | N37: =+L37*M37 -> 78300
C38: 1.52.1.56.15 | D38: PAPEL BOND CARTA FOTOCOPIA 75 GRS | E38: Papel bond, de 75 g/m2, tama?o carta, por resma de 500 hojas. | F38: RESMA | G38: 30 | H38: 13 | I38: =G38-H38 -> 17 | J38: 10 | K38: =H38+J38 -> 23 | L38: 80 | M38: 10699.84 | N38: =+L38*M38 -> 855987.2
C39: 1.52.1.56.17 | D39: PAPEL BOND OFICIO FOTOCOPIA 75 GRS | E39: Papel bond, de 75 g/m2, tama?o oficio, por resma de 500 hojas. | F39: RESMA | G39: 15 | H39: 8 | I39: =G39-H39 -> 7 | J39: 5 | K39: =H39+J39 -> 13 | L39: 50 | M39: 12699.68 | N39: =+L39*M39 -> 634984
C40: 1.52.1.81.113 | D40: PAPEL PARA FAX 30MTS | E40: Rollo de papel para fax, en papel termico, sin impresion, de 21 cm de ancho y 30 m de largo, por 1 und. | F40: ROLLO | L40: 10 | M40: 3122.77 | N40: =+L40*M40 -> 31227.7
C41: 1.52.1.48.25 | D41: PEGANTE EN BARRA (PEGASTIC) | E41: Pegante en barra en presentacion de 20 g sin glicerina. | F41: BARRA | G41: 5 | H41: 3 | I41: =G41-H41 -> 2 | J41: 2 | K41: =H41+J41 -> 5 | L41: 8 | M41: 2233 | N41: =+L41*M41 -> 17864
C42: 1.52.1.48.9 | D42: PEGANTE LIQUIDO 115 grs | E42: Pegante liquido en presentacion de 115 g sin glicerina. | F42: FRASCO | L42: 4 | M42: 1533.52 | N42: =+L42*M42 -> 6134.08
C43: 1.52.1.61.338 | D43: PLASTILINA LIMPIA TIPOS | E43: Plastilina en bloque, uso limpiatipos, presentacion en caja de 2 unidades y peso menor o igual a 50 g, con tonalidad monocolor. | F43: PAQUETE | L43: 3 | M43: 3126.2 | N43: =+L43*M43 -> 9378.6
C44: 1.52.1.62.78 | D44: RESALTADORES SURTIDOS | E44: Resaltador desechable, contenido de tinta mayor a 2,5 g y menor o igual a 5 g, de punta biselada, elaborada en felpa acrilica, para realizar 3 trazos. | F44: UNIDAD | G44: 20 | H44: 20 | I44: =G44-H44 -> 0 | J44: 10 | K44: =H44+J44 -> 30 | L44: 10 | M44: 896.53 | N44: =+L44*M44 -> 8965.3
C45: 1.52.1.83 | D45: ROTULOS ADHESIVOS TAMAÑO CARTA 215.9 X 279.4 MM 400 UNIDADES | E45: Rotulo adhesivo en papel bond | F45: CAJA | L45: 2 | M45: 98854.59 | N45: =+L45*M45 -> 197709.18
C46: 1.52.1 | D46: TAPA LEGAJADORA PLASTIFICADA TAMAÑO OFICIO | E46: Tapa legajadora plastificada tamaño oficio 23 x 35 cm | F46: UNIDAD | I46: =G46-H46 -> 0 | K46: =H46+J46 -> 0 | L46: 800 | M46: 2679.6 | N46: =+L46*M46 -> 2143680
C47: 1.52.1.70.229 | D47: TINTA NEGRA PARA SELLOS | E47: Tinta para almohadilla, de color negro, y presentacion de 28 - 30 cm3 | F47: FRASCO | L47: 1 | M47: 1429.12 | N47: =+L47*M47 -> 1429.12
...

Sheet APARATOS Y ACCESORIOS OFICINA
C1: CONSOLIDADO ANTEPROYECTO PRESUPUESTO
C5: DEPENDENCIA: | D5: GRUPO JÚRIDICO Y AGENDA LEGISLATIVA | F5: 2012 | H5: 2011
A12: TIPO | B12: CATEGORÍA/ CLASE O SUBCLASE | C12: CODIGO CUBS | D12: BIEN, SERVICIO U OBRA | E12: DESCRIPCIÓN DEL BIEN, SERVICIO U OBRA | F12: UNIDAD DE MEDIDA | G12: PC 2010-SOLICITADO | H12: SALDO A DICIEMBRE 31 DE 2010 | I12: TOTAL CONSUMO 2010 | J12: PC 2011 | K12: SALDO ACTUAL | L12: PC 2011 DEFINITIVO | M12: VALOR UNITARIO | N12: VALOR TOTAL
A13: BIENES | B13: SUMINISTRO Y APARATOS DE OFICINA/APARATOS Y ACCESORIOS DE OFICINA | C13: 1.52.2.7.61 | D13: COSEDORA REF 500/550C | E13: Cosedora para grapa No. 26/6, con capacidad maxima de 150 grapas, con profundidad de entrada horizontal en el papel de 0-105 mm, con capacidad de cosido para maximo 8-30 hojas. | F13: UNIDAD | H13: -4 | I13: =G13-H13 -> 4 | J13: 2 | K13: =H13+J13 -> -2 | L13: 2 | M13: =+[1]PAPELERIA!$F$95 -> 18600.6 | N13: =+L13*M13 -> 37201.2
C14: 1.52.2.27.20 | D14: SACAGANCHOS | E14: Sacaganchos para grapa No.26/6 elaborado en metal y plastico, con un peso mayor a 33 y menor o igual a 75 g. | F14: UNIDAD | G14: 3 | H14: 3 | I14: =G14-H14 -> 0 | K14: =H14+J14 -> 3 | L14: 8 | M14: =+[1]PAPELERIA!$F$201 -> 1855.34 | N14: =+L14*M14 -> 14842.72
C15: 1.52.2.15.31 | D15: HUMEDECEDOR DE DEDOS | E15: humedecedor de dedos | F15: UNIDAD | L15: 9 | M15: 1400 | N15: =+L15*M15 -> 12600
C16: 1.52.2.33 | D16: TIJERAS | E16: Tijeras metalicas de acero inoxidable para cortar papel | F16: UNIDAD | G16: 3 | H16: 3 | I16: =G16-H16 -> 0 | K16: =H16+J16 -> 3 | L16: 3 | M16: =+[1]PAPELERIA!$F$214 -> 10440 | N16: =+L16*M16 -> 31320
A17: TOTAL | G17: =SUM(#REF!) -> #REF! | L17: =SUM(L13:L16) -> 22 | N17: =SUM(N13:N16) -> 95963.92

Sheet JUNTAS DE DEPORTES
C1: CONSOLIDADO ANTEPROYECTO PRESUPUESTO
C4: DEPENDENCIA: | D4: GRUPO JÚRIDICO Y AGENDA LEGISLATIVA | F4: VIGENCIA: | G4: 2012
A6: CODIGO CUBS | B6: TIPO | C6: CATEGORÍA/ CLASE O SUBCLASE | D6: DESCRIPCIÓN DEL BIEN, SERVICIO U OBRA | E6: MODALIDA DE CONTRATACIÓN | F6: MES PROYECTADO ADQUISICIÓN DEL BIEN, SERVICIO U OBRA | G6: CANTIDAD | H6: VALOR ASIGNADO DEL PRESUPUESTO | I6: RUBRO | J6: NOMBRE DE LOS PROGRAMAS O PROYECTOS | K6: OBSERVACIONES
A8: 2.31.16 | B8: SERVICIOS | C8: HONORARIOS | D8: ABOGADO EXTERNO MATEO FLORIANO Y AUGUSTO OSORIO | F8: N/A | G8: 1 | H8: 77504784 | K8: N/A
D9: ABOGADO EXTERNO LUCIA TELLEZ | F9: N/A | G9: 1 | H9: 77107200
D10: ABOGADO EXTERNO IVAN DARIO GUERRA | F10: N/A | G10: 1 | H10: 39758400
D11: ABOGADO EXTERNO NANCY STELLA FORERO | F11: N/A | G11: 1 | H11: 12048000
D12: ABOGADO EXTERNO ADRIANA BASTIDAS | F12: N/A | G12: 1 | H12: 46987200
D13: CALCULO ACTUARIAL | F13: N/A | G13: 1 | H13: 25000000
B14: TRANSFERENCIAS CORRIENTES | C14: PENSIONES Y JUBILACIONES | D14: PENSIONES JUNTA DEL VALLE DEL CAUCA | F14: 12 | G14: 55 | H14: 320000000
D15: PENSIONES JUNTA DE SANTANDER | F15: 12 | G15: 5 | H15: 23000000
B16: SENTENCIAS Y CONCILIACIONES | C16: SENTENCIAS Y CONCILIACIONES | D16: PROCESO ADMINISTRATIVO JUNTA BOYACA | F16: N/A | G16: 3 | H16: 18474744
D17: PROCESO ADMINISTRATIVO JUNTA DEL ATLANTICO | F17: N/A | G17: 8 | H17: 70486000
D18: PROCESO LABORAL JUNTA DEL ATLANTICO | F18: N/A | G18: 2 | H18: 944407002
A19: 2.39.3 | D19: PROCESO ADMINISTRATIVO JUNTA DEL VALLE DEL CAUCA | F19: N/A | G19: 1 | H19: 61967412 | K19: Este servicio será contratado por la Coordinación Administrativa.
A20: TOTAL | G20: 3182 | H20: =SUM(H8:H19) -> 1716740742

Sheet Hoja1
A1: Descripción del Producto | B1: Unidad de Medida | C1: PC 2010-SOLICITADO | D1: SALDO A DICIEMBRE 31 DE 2010 | E1: TOTAL CONSUMO 2010 | F1: PC 2011 | G1: SALDO ACTUAL
A3: ADHESIVOS PARA MARCAR PRES-APLIQUE 88,9x23 mm | B3: CAJA | D3: -6 | E3: =C3-D3 -> 6 | F3: 1 | G3: 8
A4: BANDAS DE CAUCHO | B4: CAJA | C4: 10 | D4: 3 | E4: =C4-D4 -> 7 | F4: 10 | G4: 6
A5: BLOCK CUADRICULADO 80 HOJAS | B5: UNIDAD | C5: 11 | D5: 11 | E5: =C5-D5 -> 0 | F5: 12 | G5: 10
A6: BOLIGRAFO MICROPUNTA COLORES | B6: UNIDAD | C6: 24 | D6: 14 | E6: =C6-D6 -> 10 | F6: 48 | G6: 40
A7: BOLIGRAFO MICROPUNTA NEGRO | B7: UNIDAD | C7: 48 | D7: 26 | E7: =C7-D7 -> 22 | G7: 40
A8: BOLIGRAFOS NEGROS | B8: UNIDAD | C8: 108 | D8: 47 | E8: =C8-D8 -> 61 | F8: 120 | G8: 80
A9: CINTA PARA DISPENSADOR 12x40 | B9: UNIDAD | C9: 3 | D9: 1 | E9: =C9-D9 -> 2 | F9: 5 | G9: 3
A10: CINTA PEGANTE PARA EMPAQUE 2" | B10: UNIDAD | C10: 5 | D10: 5 | E10: =C10-D10 -> 0 | F10: 5 | G10: 3
A11: CORRECTOR LIQUIDO EN LAPIZ | B11: UNIDAD | C11: 11 | D11: 5 | E11: =C11-D11 -> 6 | F11: 20 | G11: 6
A12: COSEDORA BATES REF:550/550C | B12: UNIDAD | C12: 5 | D12: 1 | E12: =C12-D12 -> 4 | F12: 6 | G12: 3
A13: DIRECTORIO TELEFONICO | B13: UNIDAD | C13: 1 | E13: =C13-D13 -> 1 | G13: 1
A14: GANCHO LEGAJADOR TRES PIEZAS PLASTICAS X20U | B14: PAQUETE | E14: =C14-D14 -> 0 | G14: 50
A15: GANCHOS CLIPS MARIPOSA | B15: CAJA | D15: -3 | E15: =C15-D15 -> 3 | G15: 8
A16: GANCHOS CLIPS PLASTICOS | B16: CAJA | C16: 10 | D16: 9 | E16: =C16-D16 -> 1 | F16: 20 | G16: 15
A17: GANCHOS COSEDORA SEMINDUSTRIAL | B17: CAJA | C17: 2 | D17: 1 | E17: =C17-D17 -> 1 | F17: 2 | G17: 2
A18: GANCHOS PARA COSEDORA 26/6 | B18: CAJA | C18: 6 | D18: 6 | E18: =C18-D18 -> 0 | F18: 6 | G18: 4
A19: LAPIZ NEGRO | B19: UNIDAD | C19: 50 | D19: 3 | E19: =C19-D19 -> 47 | F19: 80 | G19: 30
A20: MARBETES | B20: PAQUETE | C20: 3 | E20: =C20-D20 -> 3 | F20: 5 | G20: 3
A21: NOTAS ADHESIVAS GRANDES100X75 MM | B21: PAQUETE | C21: 24 | D21: -7 | E21: =C21-D21 -> 31 | F21: 40 | G21: 20
A22: NOTAS ADHESIVAS MEDIANAS 75X75 MM | B22: PAQUETE | E22: =C22-D22 -> 0 | F22: 40 | G22: 20
A23: NOTAS ADHESIVAS PEQUEÑAS | B23: PAQUETE | C23: 70 | D23: 3 | E23: =C23-D23 -> 67 | F23: 70 | G23: 30
A24: PAPEL BOND CARTA FOTOCOPIA 75 GRS | B24: RESMA | C24: 96 | D24: 87 | E24: =C24-D24 -> 9 | F24: 100 | G24: 80
A25: PAPEL BOND OFICIO FOTOCOPIA 75 GRS | B25: RESMA | C25: 10 | D25: -22 | E25: =C25-D25 -> 32 | F25: 40 | G25: 50
A26: PAPEL PARA FAX 30 MTS | B26: ROLLO | C26: 15 | D26: 9 | E26: =C26-D26 -> 6 | F26: 30 | G26: 10
A27: PEGANTE EN BARRA (PEGASTIC) | B27: BARRA | C27: 11 | D27: 4 | E27: =C27-D27 -> 7 | F27: 15 | G27: 8
A28: PEGANTE LIQUIDO POR 115 GR | B28: FRASCO | C28: 2 | D28: 2 | E28: =C28-D28 -> 0 | F28: 5 | G28: 4
A29: PERFORADORA 2 HUECOS | B29: UNIDAD | C29: 5 | D29: 3 | E29: =C29-D29 -> 2 | F29: 5 | G29: =D29+F29 -> 8
A30: PLASTILINA LIMPIA TIPOS | B30: CAJA | C30: 5 | E30: =C30-D30 -> 5 | F30: 5 | G30: 3
A31: RESALTADORES SURTIDOS | B31: UNIDAD | C31: 44 | D31: 8 | E31: =C31-D31 -> 36 | F31: 25 | G31: 10
A32: SACAGANCHOS | B32: UNIDAD | C32: 5 | D32: 2 | E32: =C32-D32 -> 3 | F32: 5 | G32: 5
A33: SOBRE TAMAÑO OFICIO BLANCO | B33: UNIDAD | E33: =C33-D33 -> 0 | F33: 2000 | G33: 1000
A34: SOBRES MANILA CARTA | B34: UNIDAD | C34: 200 | D34: -50 | E34: =C34-D34 -> 250 | F34: 400 | G34: 200
A35: SOBRES MANILA OFICIO | B35: UNIDAD | C35: 300 | D35: -150 | E35: =C35-D35 -> 450 | F35: 400 | G35: 200
A36: TAPA LEGAJADORA PLASTIFICADA 23X35 CM | B36: UNIDAD | C36: 600 | D36: 400 | E36: =C36-D36 -> 200 | F36: 1000 | G36: 800
A37: TIJERAS METALICAS PARA PAPEL | B37: UNIDAD | C37: 11 | D37: -1 | E37: =C37-D37 -> 12 | F37: 5 | G37: 2
A38: TINTA PARA SELLOS | B38: FRASCO | C38: 1 | D38: 1 | E38: =C38-D38 -> 0 | F38: 2 | G38: 1
A39: TONER IMPRESORA LEXMARK T630-12A7462 | B39: UNIDAD | C39: 2 | E39: =C39-D39 -> 2 | F39: 3 | G39: =D39+F39 -> 3
A40: TONER IMPRESORA XEROX 109R00725-3120/3130 | B40: UNIDAD | C40: 2 | E40: =C40-D40 -> 2 | F40: 2 | G40: =D40+F40 -> 2
