Workbook

Sheet CONSOLIDADO
C1: CONSOLIDADO ANTEPROYECTO PRESUPUESTO
C4: DEPENDENCIA: | D4: SECRETARIO GENERAL | F4: VIGENCIA: | G4: 2012
A6: CODIGO CUBS | B6: TIPO | C6: CATEGORÍA/ CLASE O SUBCLASE | D6: DESCRIPCIÓN DEL BIEN, SERVICIO U OBRA | E6: MODALIDA DE CONTRATACIÓN | F6: MES PROYECTADO ADQUISICIÓN DEL BIEN, SERVICIO U OBRA | G6: CANTIDAD | H6: VALOR ASIGNADO DEL PRESUPUESTO | I6: RUBRO | J6: NOMBRE DE LOS PROGRAMAS O PROYECTOS | K6: OBSERVACIONES
A8: 2.31.16 | B8: SERVICIOS | C8: SERVICIOS PERSONALES | D8: Prestación de servicios profesionales Y PERSONAL DE PLANTA | F8: 12 | G8: =+#REF! -> #REF! | H8: =+#REF! -> #REF! | K8: N/A
A9: 2.39.3 | B9: SERVICIOS | C9: SERVICIO ÁEREO PARA PASAJEROS VIATÍCOS Y GASTOS DE VIAJE | D9: Suministro de tiquetes áereos en rutas nacionales e internacionales. | F9: 12 | G9: =+'SERVICIOS ÁEREOS y viaticos '!H11 -> 45 | H9: =+'SERVICIOS ÁEREOS y viaticos '!I11 -> 41266000 | K9: Este servicio será contratado por la Coordinación Administrativa.
A10: 1.16.2.9 | B10: BIENES | C10: MAQUINARIA PARA INDUSTRIAS ESPECIALES/ IMPRESORAS, DUPLICADORAS Y EQUIPO PARA ENCUADERNACIÓN | D10: Copiadora (fotocopiadora) | F10: 12 | G10: =+'MAQ ESP IMPRESORAS-COPIADORAS'!H10 -> 1 | H10: =+'MAQ ESP IMPRESORAS-COPIADORAS'!I10 -> 1600000 | K10: Este servicio serán contratados por la Coordinación de Apoyo Tecnológico.
A11: 1.47.1 | B11: BIENES | C11: HARDWARE, SOFTWARE, REDES Y SUS ACCESORIOS | D11: Computadores,computador portatil e impresora multifuncional. | F11: 12 | G11: =+'HARDWARE,SOFTWARE Y ACCESOR'!H12 -> 5 | H11: =+'HARDWARE,SOFTWARE Y ACCESOR'!J12 -> 4505000 | K11: el suministro de estos elementos serán contratados por la Coordinación de Apoyo Tecnológico, ver anexo.
A12: 1.52.1 | B12: BIENES | C12: EQUIPOS TERM. COMUNICACIÓN | D12: Comprende equipos empleados en la prestacion de servicios domiciliarios | F12: 12 | G12: =+'EQUIPOS TERM. COMUNICACIÓN'!H11 -> 3 | H12: =+'ACCESORIOS OFICINA'!J11 -> 193641
A13: 1.48.3.1 | B13: BIENES | C13: MUEBLES/ACCESORIOS | D13: Papelera para piso (basurera) y papelera para escritorio | F13: 12 | G13: =+'MUEBLES DE OFICINA'!H12 -> 6 | H13: =+'MUEBLES DE OFICINA'!J12 -> 2500000
A14: 1.52.2 | B14: BIENES | C14: SUMINISTRO Y APARATOS DE OFICINA/APARATOS Y ACCESORIOS DE OFICINA | D14: Comprende elementos y aparatos de oficina tales como abrecartas, almohadillas, anilladora, cortadora de papel, cosedora, dispensador de cinta, fechador, laminadora, numerador, sellos, tajalapiz y tijeras entre otros. | F14: 12 | G14: =+'ACCESORIOS OFICINA'!H11+'SUMINISTROS DE OFICINA'!L68+'APARATOS Y ACCESORIOS OFICINA'!L24 -> 7724 | H14: =+'ACCESORIOS OFICINA'!I11+'SUMINISTROS DE OFICINA'!N68 -> 25640434
C15: ORGANIZACIÓN ARCHIVO ENTIDAD | D15: Garantizar condiciones ambientales, operacionales, así como la integridad, autenticidad, fidelidad, seguridad, perdurabilidad, inalterabilidad de la información contenida en nuevos soportes y prestación de servicios archivísticos del ciclo vital de los documentos de COLDEPORTES | H15: 1000000000 | K15: El suministro de estos elementos serán contratados por la Coordinación Administrativa.
A16: TOTAL | G16: 3182 | H16: =SUM(H8:H15) -> #REF!
A18: Elaborado por: | D18: Aprobado por:
B19: Nombre | C19: Beatriz Cecilia Morales Rojas | E19: Nombre
B20: Cargo | C20: Secretaria | E20: Cargo
B21: Fecha | C21: 21 de septiembre de 2011. | E21: Fecha

Sheet SERVICIOS PERSONALES
C1: CONSOLIDADO PLAN DE COMPRAS POR DEPENDENCIA
C3: DEPENDENCIA: | D3: SECRETARIA GENERAL | G3: VIGENCIA: | H3: 2012
A5: CODIGO CUBS | B5: TIPO | C5: CATEGORÍA/ CLASE O SUBCLASE | D5: DESCRIPCIÓN DEL BIEN, SERVICIO U OBRA | E5: DETALLE DEL BIEN, SERVICIO U OBRA | F5: PERFIL | G5: MODALIDA DE CONTRATACIÓN | H5: MES PROYECTADO ADQUISICIÓN DEL BIEN, SERVICIO U OBRA | I5: CANTIDAD | J5: VALOR ASIGNADO DEL PRESUPUESTO | K5: RUBRO | L5: NOMBRE DE LOS PROGRAMAS O PROYECTOS | M5: OBSERVACIONES
A7: 2.31.16 | B7: SERVICIOS | C7: SERVICIOS PERSONALES | D7: Prestación de servicios profesionales | E7: PRESTAR LOS SERVICIOS PROFESIONALES PARA BRINDAR APOYO EN EL ÁREA DE LAS RELACIONES PÚBLICAS, MANEJO DE LA IMAGEN TANTO DEL INSTITUTO COMO DEL DIRECTOR, CONSECUCIÓN DE SOCIOS ESTRATÉGICOS EN EL ÁREA DE MARKETING DEPORTIVO, ASÍ COMO, EL MANEJO DE NUEVAS TECNOLOGÍAS Y REDES SOCIALES. | F7: PROFESIONAL EN FINANZAS Y RELACIONES INTERNACIONALES | G7: 3 | H7: 1 | I7: 1 | J7: =48304080*1.04 -> 50236243 | K7: INVERSIÓN | L7: Regular las relaciones legales con los clientes y ciudadanos y asegurar el debido proceso. | M7: N/A
E8: PRESTAR SUS SERVICIOS PROFESIONALES LLEVANDO LA REPRESENTACIÓN JUDICIAL Y EXTRAJUDICIAL DE LA ENTIDAD EN TODOS LOS TRÁMITES Y ACTUACIONES CONCERNIENTES A LOS PROCESOS QUE CURSAN A FAVOR Y EN CONTRA DE LA ENTIDAD. | F8: ABOGADO | G8: 3 | H8: 1 | I8: 1 | J8: =79344000*1.04 -> 82517760 | K8: A10214
E9: PRESTAR LOS SERVICIOS PROFESIONALES PARA SERVIR COMO ENLACE ENTRE EL CONGRESO DE LA REPUBLICA Y COLDEPORTES, HACIENDO SEGUIMIENTO DE TODO EL TEMA DE AGENDA LEGISLATIVA Y LA COORDINACIÓN DE TEMAS INHERENTES AL CONGRESO. | F9: PROFESIONAL EN RELACIONES INTERNACIONALES Y ESTUDIOS POLÍTICOS CERTIFICACION EXPEDIDA ENERO 3 DE 2012 | G9: 3 | H9: 1 | I9: 1 | J9: =48708540*1.04 -> 50656882 | K9: A10214
E10: PRESTAR SERVICIOS PROFESIONALES - GRUPO DE CONTROL INTERNO DISCIPLINARIO | F10: ABOGADO MEMORANDO DE SOLICITUD 26 MARZO DE 2012 - CERTIFICACION EXPEDIDA MARZO 26 DE 2012 | G10: 3 | H10: 3 | I10: 1
E11: PRESTAR SUS SERVICIOS PROFESIONALES DE ASESORÍA INTEGRAL JURÍDICA A LA ENTIDAD, ADEMÁS, ASISTIRÁ Y APOYARÁ LA REVISIÓN, EJECUCIÓN Y EVALUACIÓN JURÍDICA DE LOS CONVENIOS Y/O CONTRATOS QUE SE ADELANTEN, TANTO EN SUS FASES PRECONTRACTUAL, CONTRACTUAL Y POS CONTRACTUAL, LO CUAL INCLUYE LA LIQUIDACIÓN E INCLUSO HASTA LA ETAPA PREJUDICIAL. | F11: ABOGADO | G11: 3 | H11: 2 | I11: 1 | J11: =127600000*1.04 -> 132704000 | K11: INVERSIÓN 7310708143
E12: PRESTAR SUS SERVICIOS PROFESIONALES DE ASESORÍA, CAPACITACIÓN, ASISTENCIA Y APOYO A LA SECRETARIA GENERAL EN LAS ÁREAS CONTRACTUAL Y JURÍDICA ATINENTES AL INSTITUTO COLOMBIANO DEL DEPORTES COLDEPORTES Y ORIENTACIÓN DEL MISMO PARA LA INCORPORACIÓN DE LAS JUNTAS ADMINISTRADORAS SECCIONALES DE DEPORTES. | F12: ABOGADO | G12: 3 | H12: 2 | I12: 1 | J12: =54730500*1.04 -> 56919720 | K12: A10214
E13: PRESTACIÓN DE SERVICIOS PROFESIONALES DE ASESORÍA, ASISTENCIA Y APOYO EN LA FORMULACIÓN, GESTIÓN Y DESARROLLO DE ACUERDOS O CONVENIOS DE COOPERACIÓN INTERNACIONAL E INTERINSTITUCIONAL , EN LA PROGRAMACIÓN, PREPARACIÓN Y COORDINACIÓN DE EVENTOS Y REUNIONES NACIONALES E INTERNACIONALES DE CARÁCTER INTERINSTITUCIONAL. | F13: ADMINISTRADORA HOTELERA CON POSTGRADO EN GESTIÓN Y ORGANIZACIÓN DE EVENTOS CERTIFICACION EXPEDIDA EL 10 DE ENERO DE 2012 | G13: 3 | H13: 2 | I13: 1 | J13: =39000000*1.04 -> 40560000 | K13: INVERSIÓN 75107081
E14: PRESTAR POR SUS PROPIOS MEDIOS Y DE MANERA INDEPENDIENTE SUS SERVICIOS PROFESIONALES RELACIONADOS CON LA ASESORÍA, ACOMPAÑAMIENTO Y ASISTENCIA TÉCNICA A LA DIRECCIÓN GENERAL DEL A FIN DE FORTALECER LAS RELACIONES INTERINSTITUCIONALES, CON MIRAS A LA OPTIMIZACIÓN DE LA ARTICULACIÓN DE LOS PROGRAMAS Y PROYECTOS QUE SE IMPLEMENTARÁN EN EL CUATRIENIO, HACIENDO ESPECIAL ÉNFASIS EN LA EVALUACIÓN Y SEGUIMIENTO A LAS POLÍTICAS PÚBLICAS Y LOS PROGRAMAS DE DEPORTE, RECREACIÓN Y ACTIVIDAD FÍSICA, EN EL MARCO DEL PLAN DE DESARROLLO DEL ACTUAL GOBIERNO Y LOS LINEAMIENTOS QUE COLDEPORTES SE HA PROPUESTO SEGUIR PARA EL CUATRIENIO | F14: ADMINISTRADOR DE EMPRESAS CERTIFICACION EXPEDIDA ENERO 3 DE 2012 | G14: 3 | H14: 1 | I14: 1 | J14: 56485728 | K14: INVERSIÓN 7310708142
A15: 2.32.1 | B15: SERVICIOS | C15: Servicios de apoyo administrativo, funcionamiento y gerencial. | D15: Servicio de apoyo administrativo | E15: BRINDAR APOYO EN ACTIVIDADES PROPIAS DEL MANEJO DE LOS PROCESOS DE CONTRATACIÓN DEL INSTITUTO | F15: TECNICO | G15: 3 | H15: 2 | I15: 1 | J15: 26440128 | K15: INVERSIÓN 731070813210
A16: TOTAL | I16: =SUM(I7:I13) -> 7 | J16: =SUM(J7:J15) -> 4.9652046e+08

Sheet SERVICIOS ÁEREOS y viaticos 
C1: CONSOLIDADO ANTEPROYECTO PRESUPUESTO
C4: DEPENDENCIA: | D4: SECRETARIO GENERAL | F4: VIGENCIA: | G4: 2012
A7: CODIGO CUBS | B7: TIPO | C7: CATEGORÍA/ CLASE O SUBCLASE | D7: DESCRIPCIÓN DEL BIEN, SERVICIO U OBRA | E7: DETALLE DEL BIEN, SERVICIO U OBRA | F7: MODALIDA DE CONTRATACIÓN | G7: MES PROYECTADO ADQUISICIÓN DEL BIEN, SERVICIO U OBRA | H7: CANTIDAD | I7: VALOR ASIGNADO DEL PRESUPUESTO | J7: RUBRO | K7: NOMBRE DE LOS PROGRAMAS O PROYECTOS | L7: OBSERVACIONES
A9: 2.39.3 | B9: SERVICIOS | C9: VIATICOS Y GASTOS DE VIAJE | D9: Comprende aquellos servicios terrestre manutencion transporte terrestre | E9: Suministro de pasaje terrestre hotel y otros | F9: 1 | G9: 12 | H9: 45 | I9: =144800*H9+300000*5 -> 8016000 | L9: Este servicio será contratado por la Coordinación Administrativa.
A10: 2.39.3 | B10: SERVICIOS | C10: SERVICIO ÁEREO PARA PASAJEROS | D10: Comprende aquellos servicios aéreos para pasajeros nacionales e internacionales (Tiquetes) | E10: Suministro de tiquetes áereos en rutas nacionales E INTERNACIONALES | F10: 1 | G10: 12 | H10: 45 | I10: =650000*H10+800000*5 -> 33250000 | L10: Este servicio será contratado por la Coordinación Administrativa.
A11: TOTAL | H11: =SUM(H10:H10) -> 45 | I11: =SUM(I9:I10) -> 41266000

Sheet MAQ ESP IMPRESORAS-COPIADORAS
C1: CONSOLIDADO ANTEPROYECTO PRESUPUESTO
C4: DEPENDENCIA: | D4: SECRETARIO GENERAL | F4: VIGENCIA: | G4: 2012
A7: CODIGO CUBS | B7: TIPO | C7: CATEGORÍA/ CLASE O SUBCLASE | D7: DESCRIPCIÓN DEL BIEN, SERVICIO U OBRA | E7: DETALLE DEL BIEN, SERVICIO U OBRA | F7: MODALIDA DE CONTRATACIÓN | G7: MES PROYECTADO ADQUISICIÓN DEL BIEN, SERVICIO U OBRA | H7: CANTIDAD | I7: VALOR ASIGNADO DEL PRESUPUESTO | J7: RUBRO | K7: NOMBRE DE LOS PROGRAMAS O PROYECTOS | L7: OBSERVACIONES
A9: 1.16.2.9 | B9: BIENES | C9: MAQUINARIA PARA INDUSTRIAS ESPECIALES/ IMPRESORAS, DUPLICADORAS Y EQUIPO PARA ENCUADERNACIÓN | D9: Comprende aquellos equipos de oficina tales como impresoras especiales, duplicadoras, equipo para encuadernación, entre otros. | E9: Copiadora (fotocopiadora) | G9: N/A | H9: 1 | I9: 1600000 | K9: Procesos coactivos, conceptos juridicos; resolución derechos de petición de información y tutelas presentadas ante los diferentes juzgados del país relacionadas con las actividades propias de COLDEPORTES | L9: Este servicio será contratado por la Coordinación de Apoyo Tecnológico.
A10: TOTAL | H10: =SUM(H9:H9) -> 1 | I10: =SUM(I9:I9) -> 1600000

Sheet HARDWARE,SOFTWARE Y ACCESOR
C1: CONSOLIDADO ANTEPROYECTO PRESUPUESTO
C4: DEPENDENCIA: | D4: SECRETARIO GENERAL | F4: VIGENCIA: | G4: 2012
A7: CODIGO CUBS | B7: TIPO | C7: CATEGORÍA/ CLASE O SUBCLASE | D7: DESCRIPCIÓN DEL BIEN, SERVICIO U OBRA | E7: DETALLE DEL BIEN, SERVICIO U OBRA | F7: MODALIDA DE CONTRATACIÓN | G7: MES PROYECTADO ADQUISICIÓN DEL BIEN, SERVICIO U OBRA | H7: CANTIDAD | I7: VALOR UNITARIO | J7: VALOR ASIGNADO DEL PRESUPUESTO | K7: RUBRO | L7: NOMBRE DE LOS PROGRAMAS O PROYECTOS | M7: OBSERVACIONES
A9: 1.47.1 | B9: BIENES | C9: HARDWARE, SOFTWARE, REDES Y SUS ACCESORIOS | D9: Comprende todos los Computadores personales de escritorio y portatiles con capacidad y rendimiento bajo y alto. | E9: Computadores | F9: 1 | G9: 10 | H9: 3 | I9: 1250000 | J9: =+I9*H9 -> 3750000 | L9: N/A | M9: Este servicio será contratado por la Coordinación de Apoyo Tecnológico.
A10: 1.47.2.17 | D10: Corresponde a todo lo referente a equipos de de impresion, componentes y accesorios. | E10: Impresora multifuncional | F10: 1 | G10: 10 | H10: 1 | I10: 495000 | J10: =+I10*H10 -> 495000
A11: 1.47.2.6 | E11: Scaner | F11: 1 | G11: 10 | H11: 1 | I11: 260000 | J11: =+I11*H11 -> 260000
A12: TOTAL | H12: =SUM(H9:H11) -> 5 | I12: =SUM(I9:I11) -> 2005000 | J12: =SUM(J9:J11) -> 4505000

Sheet EQUIPOS TERM. COMUNICACIÓN
C1: CONSOLIDADO ANTEPROYECTO PRESUPUESTO
C4: DEPENDENCIA: | D4: SECRETARIO GENERAL | F4: VIGENCIA: | G4: 2012
A7: CODIGO CUBS | B7: TIPO | C7: CATEGORÍA/ CLASE O SUBCLASE | D7: DESCRIPCIÓN DEL BIEN, SERVICIO U OBRA | E7: DETALLE DEL BIEN, SERVICIO U OBRA | F7: MODALIDA DE CONTRATACIÓN | G7: MES PROYECTADO ADQUISICIÓN DEL BIEN, SERVICIO U OBRA | H7: CANTIDAD | I7: VALOR UNITARIO | J7: VALOR ASIGNADO DEL PRESUPUESTO | K7: RUBRO | L7: NOMBRE DE LOS PROGRAMAS O PROYECTOS | M7: OBSERVACIONES
A9: 1.36.1.2 | B9: BIEN | C9: EQUIPOS TERMINALES DE COMUNICACIONES/ EQUIPOS TERMINALES DE COMUNICACIONES FIJAS | D9: Comprende equipos empleados en la prestacion de servicios domiciliarios que proporcionan en si mismos capacidad completa para el establecimiento de una comunicacion o el intercambio de informacion sobre una red de telecomunicaciones. Incluye: Telefonos fi | E9: Teléfono digital con identificador | G9: 11 | H9: 2 | I9: 440000 | J9: =+H9*I9 -> 880000 | M9: Este servicio será contratado por la Coordinación de apoyo tecnológico.
A10: 1.36.1.6.17 | C10: EQUIPOS TERMINALES DE COMUNICACIONES/ OTROS EQUIPOS TERMINALES DE COMUNICACIONES-FAXES | D10: Maquina para fax, Papel Termico, Auricular Alambrado, Fax/Telefono unicamente), B/N | E10: Fax | G10: 11 | H10: 1 | I10: 279000 | J10: =+H10*I10 -> 279000 | M10: Este servicio será contratado por la Coordinación de apoyo tecnológico.
A11: TOTAL | H11: =SUM(H9:H10) -> 3 | J11: =SUM(J9:J10) -> 1159000

Sheet MUEBLES DE OFICINA
C1: CONSOLIDADO ANTEPROYECTO PRESUPUESTO
C4: DEPENDENCIA: | D4: SECRETARIO GENERAL | F4: VIGENCIA: | G4: 2012
A7: CODIGO CUBS | B7: TIPO | C7: CATEGORÍA/ CLASE O SUBCLASE | D7: BIEN, SERVICIO U OBRA | E7: DESCRIPCIÓN DEL BIEN, SERVICIO U OBRA | F7: MODALIDA DE CONTRATACIÓN | G7: MES PROYECTADO ADQUISICIÓN DEL BIEN, SERVICIO U OBRA | H7: CANTIDAD | I7: VALOR UNITARIO | J7: VALOR ASIGNADO DEL PRESUPUESTO | K7: RUBRO | L7: NOMBRE DE LOS PROGRAMAS O PROYECTOS | M7: OBSERVACIONES
A9: 1.48.1.14 | B9: BIENES | C9: MUEBLES DE OFICINA | D9: Silla ejecutiva sin brazos (ergonómica) | E9: Silla ergonómica | G9: 12 | H9: 2 | I9: =+'[2]MUEBLES DE OFICINA'!$I$9 -> 170000 | J9: =+H9*I9 -> 340000 | K9: FUNCIONAMIENTO 204002000 | L9: N/A | M9: Este servicio será contratado por la Coordinación de Grupo Administrativo
A10: 1.48.1.14 | D10: Escritorios modulares tres cajones | E10: Escritorio de oficina | G10: 12 | H10: 3 | I10: =+'[2]MUEBLES DE OFICINA'!$I$10 -> 570000 | J10: =+H10*I10 -> 1710000 | K10: FUNCIONAMIENTO 204002000
A11: 1.48.1.3 | D11: Biblioteca | E11: Biblioteca en madera | G11: 12 | H11: 1 | I11: 450000 | J11: =+H11*I11 -> 450000 | K11: FUNCIONAMIENTO 204002000
A12: TOTAL | H12: =SUM(H9:H11) -> 6 | J12: =SUM(J9:J11) -> 2500000

Sheet ACCESORIOS OFICINA
C1: CONSOLIDADO ANTEPROYECTO PRESUPUESTO
C4: DEPENDENCIA: | D4: SECRETARIO GENERAL | G4: VIGENCIA: | H4: 2012
A7: CODIGO CUBS | B7: TIPO | C7: CATEGORÍA/ CLASE O SUBCLASE | D7: BIEN, SERVICIO U OBRA | E7: DETALLE DEL BIEN, SERVICIO U OBRA | F7: MODALIDA DE CONTRATACIÓN | G7: MES PROYECTADO ADQUISICIÓN DEL BIEN, SERVICIO U OBRA | H7: CANTIDAD | I7: MEDIA ARITMETICA/ PRECIO INDICATIVO | J7: VALOR ASIGNADO DEL PRESUPUESTO | K7: RUBRO | L7: NOMBRE DE LOS PROGRAMAS O PROYECTOS | M7: OBSERVACIONES
A9: 1.48.3.1.228 | B9: BIENES | C9: MUEBLES/ACCESORIOS | D9: PAPELERA PARA PISO (BASURERA) | E9: Basurera en madera, sin tapa, de dimensiones mayores o iguales a 0.30 x 0.10 x 0.20 y menores o iguales a 0.399 x 0.70 x 0.90 m | G9: 12 | H9: 3 | I9: 29647 | J9: =I9*H9 -> 88941 | L9: Apoyo a la Gestión de Inspección, Vigilancia y Control del Sistema Nacional del Deporte | M9: Este servicio será contratado por la Coordinación de Grupo Administrativo
A10: 1.48.1.23.3 | B10: BIENES | C10: MUEBLES/ACCESORIOS | D10: PAPELERA PARA ESCRITORIO | E10: Papelera en madera cedro, de 0-2 bandejas, de dimensiones menores a 0.25 x 0.27 x 0.05 m | G10: 12 | H10: 3 | I10: 34900 | J10: =I10*H10 -> 104700 | M10: Este servicio será contratado por la Coordinación de Grupo Administrativo
A11: TOTAL | H11: =SUM(H9:H10) -> 6 | I11: =SUM(I9:I10) -> 64547 | J11: =SUM(J9:J10) -> 193641

Sheet SUMINISTROS DE OFICINA
C1: CONSOLIDADO ANTEPROYECTO PRESUPUESTO
C5: DEPENDENCIA: | D5: SECRETARIA GENERAL
C7: VIGENCIA: | D7: 2012
A11: TIPO | B11: CATEGORÍA/ CLASE O SUBCLASE | C11: CODIGO CUBS | D11: BIEN, SERVICIO U OBRA | E11: DESCRIPCIÓN DEL BIEN, SERVICIO U OBRA | F11: UNIDAD DE MEDIDA | G11: PC 2010-SOLICITADO | H11: SALDO A DICIEMBRE 31 DE 2010 | I11: TOTAL CONSUMO 2010 | J11: PC 2011 | K11: SALDO ACTUAL | L11: PC 2011 DEFINITIVO | M11: VALOR UNITARIO | N11: VALOR TOTAL | O11: pedido No 189 PAPELERIA LAGOS
C12: 1.52.1.11.59 | D12: BANDAS DE CAUCHO | E12: Banda elastica en caucho, referencia 22, por 25 g . | F12: CAJA | L12: 16 | M12: =+'[2]SUMINISTROS DE OFICINA'!$M$12 -> 278.4 | N12: =+L12*M12 -> 4454.4
C13: 1.52.1.14.2 | D13: BISTURI GRANDE | E13: Bisturi elaborado en plastico, tamaño de la cuchilla de 18 mm, con bloqueo de la cuchilla y con corta cuchilla | F13: UNIDAD | L13: 4 | M13: =+'[3]SUMINISTROS DE OFICINA'!$M$12 -> 622.92 | N13: =+L13*M13 -> 2491.68 | O13: 1
C14: 1.52.1.8.19 | D14: BLOCK CUADRICULADO 80 HOJAS | E14: Block de papel amarillo, cuadriculado, carta, 80 hojas. | F14: UNIDAD | L14: 8 | M14: =+'[2]SUMINISTROS DE OFICINA'!$M$13 -> 2657.56 | N14: =+L14*M14 -> 21260.48
C15: 1.52.1.9.1 | D15: BOLIGRAFO DESECHABLE (MICROPUNTA VARIOS COLORES) | E15: Boligrafo desechable tinta varios colores, en plastico, presentacion por 1 und, con tapa. | F15: UNIDAD | I15: =G15-H15 -> 0 | J15: 24 | K15: =H15+J15 -> 24 | L15: 50 | M15: =+'[2]SUMINISTROS DE OFICINA'!$M$14 -> 893.2 | N15: =+L15*M15 -> 44660 | O15: 18
C16: 1.52.1.9.1 | D16: BOLIGRAFO DESECHABLE (MICROPUNTA NEGRO) | E16: Boligrafo desechable tinta varios colores, en plastico, presentacion por 1 und, con tapa. | F16: UNIDAD | I16: =G16-H16 -> 0 | J16: 24 | K16: =H16+J16 -> 24 | L16: 60 | M16: =+'[2]SUMINISTROS DE OFICINA'!$M$15 -> 893.2 | N16: =+L16*M16 -> 53592 | O16: 6
C17: 1.52.1.9.2 | D17: BOLIGRAFO DESECHABLE (NEGRO) | E17: Boligrafo desechable tinta varios colores, en pasta, presentacion por 1 und, con tapa. | F17: UNIDAD | G17: 360 | H17: 340 | I17: =G17-H17 -> 20 | J17: 36 | K17: 332 | L17: 20 | M17: =+'[2]SUMINISTROS DE OFICINA'!$M$16 -> 535.92 | N17: =+L17*M17 -> 10718.4 | O17: 6
C18: 1.52.1.9.2 | D18: BOLIGRAFO DESECHABLE (ROJO) | E18: Boligrafo desechable tinta varios colores, en pasta, presentacion por 1 und, con tapa. | F18: UNIDAD | G18: 360 | H18: 340 | I18: =G18-H18 -> 20 | J18: 36 | K18: 332 | L18: 10 | M18: =+'[2]SUMINISTROS DE OFICINA'!$M$16 -> 535.92 | N18: =+L18*M18 -> 5359.2 | O18: 6
C19: 1.52.1.17.3 | D19: BORRADOR DE NATA PZ-20 O BR 20 | E19: Borrador para lapiz, tipo nata, tamaño grande, por 1 und. | F19: UNIDAD | G19: 6 | I19: =G19-H19 -> 6 | J19: 5 | K19: =H19+J19 -> 5 | L19: 20 | M19: =+'[4]SUMINISTROS DE OFICINA'!$M$18 -> 248.55 | N19: =+L19*M19 -> 4971 | O19: 3
C20: 1.52.1.17.29 | D20: BORRADOR PARA TINTA ESCOBILLA | E20: Borrador para tinta, tipo tamaño lapiz con escobilla, por 1 und. | F20: UNIDAD | G20: 6 | I20: =G20-H20 -> 6 | J20: 5 | K20: =H20+J20 -> 5 | L20: 10 | M20: =+'[5]SUMINISTROS DE OFICINA'!$M$20 -> 2605.42 | N20: =+L20*M20 -> 26054.2
C21: 1.52.1.18 | D21: CAJA PARA ARCHIVO TIPO NEVERA | E21: Caja para archivo | F21: UNIDAD | G21: 30 | H21: 30 | I21: =G21-H21 -> 0 | J21: 20 | K21: =H21+J21 -> 50 | L21: 30 | M21: =+'[5]SUMINISTROS DE OFICINA'!$M$21 -> 3248 | N21: =+L21*M21 -> 97440 | O21: 12
C22: 1.52.1.22.9 | D22: CAJA DE CHINCHES | E22: Chinches de cabeza plastica, por caja de 50 und. | F22: CAJA | L22: 10 | M22: =+[1]PAPELERIA!$F$43 -> 529.8 | N22: =+L22*M22 -> 5298
C23: 1.52.1.72.2 | D23: DISCO COMPACTO/CD - R | E23: Disco compacto gravable, de 700 Mb 80 min, por 1 und. | F23: UNIDAD | G23: 30 | H23: 29 | I23: =G23-H23 -> 1 | J23: 20 | K23: =H23+J23 -> 49 | L23: 20 | M23: =+'[6]SUMINISTROS DE OFICINA'!$M$18 -> 550 | N23: =+L23*M23 -> 11000
C24: 1.52.1.72.16 | D24: DISCO COMPACTO/CD - RW | E24: Disco compacto regravable, de 700 Mb 80 min, por 1 und. | F24: UNIDAD | G24: 30 | H24: 29 | I24: =G24-H24 -> 1 | J24: 20 | K24: =H24+J24 -> 49 | L24: 8 | M24: =+'[6]SUMINISTROS DE OFICINA'!$M$19 -> 550 | N24: =+L24*M24 -> 4400
C25: 1.52.1.72 | D25: DVD/R | E25: Disco compacto | F25: UNIDAD | G25: 30 | H25: 29 | I25: =G25-H25 -> 1 | J25: 20 | K25: =H25+J25 -> 49 | L25: 20 | M25: =+'[3]SUMINISTROS DE OFICINA'!$M$16 -> 1869.92 | N25: =+L25*M25 -> 37398.4 | O25: 6
C26: 1.52.1.72 | D26: DVD/RW | E26: Disco compacto | F26: UNIDAD | G26: 30 | H26: 29 | I26: =G26-H26 -> 1 | J26: 20 | K26: =H26+J26 -> 49 | L26: 8 | M26: =+M25 -> 1869.92 | N26: =+L26*M26 -> 14959.36
B27: CINTAS ADHESIVAS INDUSTRIALES | C27: 1.32.10.6.1 | D27: CINTA PEGANTE PARA DISPENSADOR 12 X 40 | E27: Cinta de facil corte, polipropileno, dimensiones (12mmx40m), | F27: ROLLO | I27: =G27-H27 -> 0 | J27: 2 | K27: =H27+J27 -> 2 | L27: 10 | M27: =+'[2]SUMINISTROS DE OFICINA'!$M$17 -> 1027.76 | N27: =+L27*M27 -> 10277.6
C28: 1.32.10.3 | D28: CINTA PEGANTE PARA EMPAQUE 24 X 50 | E28: Cinta para empaque de 25 micras | F28: ROLLO | I28: =G28-H28 -> 0 | J28: 2 | K28: =H28+J28 -> 2 | L28: 10 | M28: =+'[2]SUMINISTROS DE OFICINA'!$M$18 -> 2679.6 | N28: =+L28*M28 -> 26796 | O28: 1
C29: 1.32.10.8.17 | D29: CINTA DE ENMASCARAR 48mmx40m | E29: cinta de enmascarar, multipropositos, dimensiones (48mmx40m), nacional | F29: ROLLO | I29: =G29-H29 -> 0 | J29: 2 | K29: =H29+J29 -> 2 | L29: 10 | M29: =+'[6]SUMINISTROS DE OFICINA'!$M$21 -> 4019.4 | N29: =+L29*M29 -> 40194
C30: 1.52.1.35 | D30: CORRECTOR LIQUIDO LÁPIZ | E30: Corrector | F30: UNIDAD | L30: 7 | M30: =+'[2]SUMINISTROS DE OFICINA'!$M$19 -> 3126.2 | N30: =+L30*M30 -> 21883.4
C31: 1.52.1.36.6 | D31: CUCHILLAS PARA BISTURI | E31: Cuchillas para bisturi en acero inoxidable de tama?o mayor a 90x18 mm. | F31: CAJA | G31: 100 | H31: 100 | I31: =G31-H31 -> 0 | K31: =H31+J31 -> 100 | L31: 3 | M31: =+[1]PAPELERIA!$F$99 -> 112.66 | N31: =+L31*M31 -> 337.98
C32: 1.52.1.39 | D32: DIRECTORIO TELEFÓNICO DESPACHOS PÚBLICOS | E32: Directorio | F32: UNIDAD | G32: 100 | H32: 100 | I32: =G32-H32 -> 0 | K32: =H32+J32 -> 100 | L32: 1 | M32: =+'[6]SUMINISTROS DE OFICINA'!$M$20 -> 75000 | N32: =+L32*M32 -> 75000
C33: 1.52.1.45.26 | D33: GANCHOS CLIPS MARIPOSA | E33: Gancho tipo clip mariposa, No. 2, en alambre metalico galvanizado, por 50 und. | F33: CAJA | G33: 5 | H33: 5 | I33: =G33-H33 -> 0 | K33: =H33+J33 -> 5 | L33: 16 | M33: =+'[2]SUMINISTROS DE OFICINA'!$M$21 -> 1398.95 | N33: =+L33*M33 -> 22383.2
C34: 1.52.1.45.45 | D34: GANCHOS CLIPS PLASTICOS | E34: Gancho tipo clip estandar, en alambre plastico, de 33 mm, por 100 und. | F34: CAJA | G34: 10 | H34: 10 | I34: =G34-H34 -> 0 | J34: 2 | K34: =H34+J34 -> 12 | L34: 20 | M34: =+'[2]SUMINISTROS DE OFICINA'!$M$22 -> 1339.8 | N34: =+L34*M34 -> 26796
C35: 1.52.1.45.57 | D35: GANCHOS COSEDORA 9(23) / 12 | E35: Gancho tipo grapa, referencia 23/12, en alambre metalico cobrizado, por 1000 und. | F35: CAJA | G35: 1 | H35: 1 | I35: =G35-H35 -> 0 | K35: =H35+J35 -> 1 | L35: 5 | M35: =+'[2]SUMINISTROS DE OFICINA'!$M$23 -> 2818.79 | N35: =+L35*M35 -> 14093.95
C36: 1.52.1.45.77 | D36: GANCHOS PARA COSEDORA 26/6 | E36: Gancho tipo grapa, referencia 26/6 , en alambre metalico cobrizado, por 5000 und. | F36: CAJA | G36: 2 | H36: 2 | I36: =G36-H36 -> 0 | J36: 2 | K36: =H36+J36 -> 4 | L36: 10 | M36: =+'[2]SUMINISTROS DE OFICINA'!$M$24 -> 2233 | N36: =+L36*M36 -> 22330
C37: 1.52.1.45.29 | D37: GANCHO LEGAJADOR TRES PIEZAS PLASTICOS X 20 UND | E37: Gancho tipo legajador, gancho, pisador y corredera en polipropileno transparente, por 20 juegos. | F37: PAQUETE | G37: 50 | H37: 47 | I37: =G37-H37 -> 3 | K37: =H37+J37 -> 47 | L37: 20 | M37: =+'[2]SUMINISTROS DE OFICINA'!$M$25 -> 2379 | N37: =+L37*M37 -> 47580 | O37: 12
C38: 1.52.1.46 | D38: INDICE SEPARADORES AZ | E38: Guias separadoras | F38: PAQUETE | L38: 12 | M38: =+'[2]SUMINISTROS DE OFICINA'!$M$26 -> 2620.61 | N38: =+L38*M38 -> 31447.32
C39: 1.52.1.38.435 | D39: LAPIZ NEGRO | E39: Lapiz para escritura, fabricado en madera, de forma hexagonal con borrador, mina negra de 2 mm y dureza No.2. | F39: UNIDAD | G39: 15 | H39: 10 | I39: =G39-H39 -> 5 | J39: 5 | K39: =H39+J39 -> 15 | L39: 50 | M39: =+'[2]SUMINISTROS DE OFICINA'!$M$27 -> 625 | N39: =+L39*M39 -> 31250 | O39: 12
C40: 1.52.1.53 | D40: LIBRO 400 FOLIOS PASTA DURA TRES COLUMNAS | E40: Libros de oficina | F40: UNIDAD | L40: 3 | M40: =+'[5]SUMINISTROS DE OFICINA'!$M$39 -> 17904.6 | N40: =+L40*M40 -> 53713.8
C41: 1.52.1.54.2 | D41: MARBETES | E41: Marbete tamaño 10 x 1,2 cm, de 190 und. | F41: PAQUETES | L41: 10 | M41: =+'[2]SUMINISTROS DE OFICINA'!$M$28 -> 717.79 | N41: =+L41*M41 -> 7177.9
C42: 1.52.1.41.77 | D42: MARCADOR PARA ACETATO | E42: Marcador permanente, desechable, contenido de tinta menor o igual a 2,5 g , de punta redonda acrilica, para hacer lineas de aprox. 1 mm , por 1 und. | F42: UNIDAD | L42: 10 | M42: =+'[5]SUMINISTROS DE OFICINA'!$M$40 -> 2430.97 | N42: =+L42*M42 -> 24309.7
C43: 1.52.1.41.203 | D43: MARCADOR PERMANENTE VARIOS COLORES | E43: Marcador permanente, desechable, contenido de tinta mayor a 2,5 y menor o igual a 5 g , de punta biselada poliester, para hacer lineas de aprox. 2 - 5 mm , por 1 und. | F43: UNIDAD | L43: 12 | M43: =+'[5]SUMINISTROS DE OFICINA'!$M$41 -> 1286.49 | N43: =+L43*M43 -> 15437.88
C44: 1.52.1.85.73 | D44: NOTAS ADHESIVAS GRANDES 100X75 MM | E44: Taco de papel por 1 paquete de mayor a 100 y menor o igual a 300 hojas cada uno, en bond, engomado, tamaño de la hoja mayor a 8 x 8 y menor o igual a 10 x 10 cm, colores fluorescentes en varios tonos por paquete . | F44: PAQUETE | I44: =G44-H44 -> 0 | J44: 2 | K44: =H44+J44 -> 2 | L44: 20 | M44: =+'[5]SUMINISTROS DE OFICINA'!$M$44 -> 2003.32 | N44: =+L44*M44 -> 40066.4
C45: 1.52.1.85.67 | D45: NOTAS ADHESIVAS MEDIANAS 75X75 MM | E45: Taco de papel por 1 paquete de mayor a 100 y menor o igual a 300 hojas cada uno, en bond, engomado, tamaño de la hoja mayor a 4 x 5 y menor o igual a 8 x 8 cm, colores fluorescentes en varios tonos por paquete . | F45: PAQUETE | I45: =G45-H45 -> 0 | J45: 2 | K45: =H45+J45 -> 2 | L45: 10 | M45: =+'[5]SUMINISTROS DE OFICINA'!$M$45 -> 3155.2 | N45: =+L45*M45 -> 31552 | O45: 5
A46: BIENES | B46: SUMINISTROS Y APARATOS DE OFICINA | C46: 1.52.1.85.61 | D46: NOTAS ADHESIVAS PEQUEÑAS 50X38 MM | E46: Taco de papel por 1 paquete de mayor a 100 y menor o igual a 300 hojas cada uno, en bond, engomado, tamaño de la hoja menor o igual 4 x 5 cm, colores fluorescentes en varios tonos por paquete . | F46: PAQUETE | G46: 20 | H46: 10 | I46: =G46-H46 -> 10 | J46: 2 | K46: =H46+J46 -> 12 | L46: 30 | M46: =+'[5]SUMINISTROS DE OFICINA'!$M$46 -> 2610 | N46: =+L46*M46 -> 78300
C47: 1.52.1.56.15 | D47: PAPEL BOND CARTA FOTOCOPIA 75 GRS | E47: Papel bond, de 75 g/m2, tama?o carta, por resma de 500 hojas. | F47: RESMA | G47: 30 | H47: 13 | I47: =G47-H47 -> 17 | J47: 10 | K47: =H47+J47 -> 23 | L47: 150 | M47: =+'[5]SUMINISTROS DE OFICINA'!$M$47 -> 10699.84 | N47: =+L47*M47 -> 1604976
...

Sheet APARATOS Y ACCESORIOS OFICINA
C1: CONSOLIDADO ANTEPROYECTO PRESUPUESTO
C5: DEPENDENCIA: | D5: SECRETARIA GENERAL | H5: 2011
C7: VIGENCIA: | D7: 2012
A12: TIPO | B12: CATEGORÍA/ CLASE O SUBCLASE | C12: CODIGO CUBS | D12: BIEN, SERVICIO U OBRA | E12: DESCRIPCIÓN DEL BIEN, SERVICIO U OBRA | F12: UNIDAD DE MEDIDA | G12: PC 2010-SOLICITADO | H12: SALDO A DICIEMBRE 31 DE 2010 | I12: TOTAL CONSUMO 2010 | J12: PC 2011 | K12: SALDO ACTUAL | L12: PC 2011 DEFINITIVO | M12: VALOR UNITARIO | N12: VALOR TOTAL
A13: BIENES | B13: SUMINISTRO Y APARATOS DE OFICINA/APARATOS Y ACCESORIOS DE OFICINA | C13: 1.52.2.2.58 | D13: ALMOHADILLA PARA SELLOS | E13: Almohadilla para sello, de forma rectangular, dimensiones mayor a 70 x 100 y menor o igual a 100 x 150 mm, y material de la carcasa en plastico. | F13: UNIDAD | I13: =G13-H13 -> 0 | J13: 24 | K13: =H13+J13 -> 24 | L13: 3 | M13: =+[1]PAPELERIA!$F$21 -> 4473.14 | N13: =+L13*M13 -> 13419.42
C14: 1.52.2.7.61 | D14: COSEDORA REF 500/550C | E14: Cosedora para grapa No. 26/6, con capacidad maxima de 150 grapas, con profundidad de entrada horizontal en el papel de 0-105 mm, con capacidad de cosido para maximo 8-30 hojas. | F14: UNIDAD | H14: -4 | I14: =G14-H14 -> 4 | J14: 2 | K14: =H14+J14 -> -2 | L14: 5 | M14: =+'[2]APARATOS Y ACCESORIOS OFICINA'!$M$13 -> 18600.6 | N14: =+L14*M14 -> 93003
C15: 1.52.2.7 | D15: COSEDORA SEMIINDUSTRIAL | E15: Cosedora | F15: UNIDAD | H15: -4 | I15: =G15-H15 -> 4 | J15: 2 | K15: =H15+J15 -> -2 | L15: 2 | M15: =+[1]PAPELERIA!$F$97 -> 59160 | N15: =+L15*M15 -> 118320
C16: 1.52.2.12.127 | D16: FECHADOR TAMAÑO PEQUEÑO QUE INCLUYA AÑO 2014 | E16: Fechador de entintado manual, elaborado en pvc de alta densidad, sello rectangular, de tamaño mayor o igual a 40 x 20 y menor a 60 x 40 mm, sin placa y sin leyenda comercial. | F16: UNIDAD | G16: 1 | I16: =G16-H16 -> 1 | K16: =H16+J16 -> 0 | L16: 2 | M16: =+'[5]APARATOS Y ACCESORIOS OFICINA'!$M$10 -> 9114 | N16: =+L16*M16 -> 18228
C17: 1.52.2.2.26 | D17: HUELLERO | E17: Almohadilla dactilar, de forma redonda, diametro mayor a 40 y menor o igual a 60 mm, y material de la carcasa en plastico. | F17: UNIDAD | I17: =G17-H17 -> 0 | J17: 1 | K17: =H17+J17 -> 1 | L17: 2 | M17: =+'[5]APARATOS Y ACCESORIOS OFICINA'!$M$11 -> 29000 | N17: =+L17*M17 -> 58000
C18: 1.52.2.15.31 | D18: HUMEDECEDOR PARA DEDOS | E18: Humedecedor en crema, de forma redonda, con diametro mayor a 40 y menor o igual a 60 mm , y material de la carcasa en plastico. | F18: UNIDAD | L18: 2 | M18: =+[1]PAPELERIA!$F$126 -> 1400.12 | N18: =+L18*M18 -> 2800.24
C19: 1.52.2.22.47 | D19: PERFORADORA 2 HUECOS | E19: Perforadora de tamaño mayor a 10 y menor o igual a 30 cm, 2 perforaciones, capacidad de hojas a perforar mayor a 25 y menor o igual a 35, con trampilla para vaciar los confetis, con sistema de bloqueo . | F19: UNIDAD | L19: 4 | M19: =+[1]PAPELERIA!$F$176 -> 19200.32 | N19: =+L19*M19 -> 76801.28
C20: 1.52.2.27.20 | D20: SACAGANCHOS | E20: Sacaganchos para grapa No.26/6 elaborado en metal y plastico, con un peso mayor a 33 y menor o igual a 75 g. | F20: UNIDAD | G20: 3 | H20: 3 | I20: =G20-H20 -> 0 | K20: =H20+J20 -> 3 | L20: 5 | M20: =+'[5]APARATOS Y ACCESORIOS OFICINA'!$M$17 -> 1855.34 | N20: =+L20*M20 -> 9276.7
C21: 1.52.2.32.26 | D21: TAJALAPIZ METALICO | E21: Tajalapiz elaborado en metal con 1 orificio, de tama?o menor o igual a 10 mm, sin deposito, forma de uso manual, sin dispositivo para sujecion en superficies . | F21: UNIDAD | H21: -5 | I21: =G21-H21 -> 5 | J21: 3 | K21: =H21+J21 -> -2 | L21: 8 | M21: =+'[5]APARATOS Y ACCESORIOS OFICINA'!$M$20 -> 331.76 | N21: =+L21*M21 -> 2654.08
C22: 1.48.1.25.1 | D22: TARJETERO | E22: Tarjetero tipo fundas, en carton de alta densidad, de dimensiones menores a 0,10 x 0,06 x 0,025 m, de 0-15 separaciones, de 0-150 tarjetas de capacidad. | F22: UNIDAD | L22: 2 | M22: =+'[5]APARATOS Y ACCESORIOS OFICINA'!$M$21 -> 4558.8 | N22: =+L22*M22 -> 9117.6
C23: 1.52.2.33 | D23: TIJERAS | E23: Tijeras metalicas de acero inoxidable para cortar papel | F23: UNIDAD | G23: 3 | H23: 3 | I23: =G23-H23 -> 0 | K23: =H23+J23 -> 3 | L23: 5 | M23: =+'[5]APARATOS Y ACCESORIOS OFICINA'!$M$22 -> 10440 | N23: =+L23*M23 -> 52200 | O23: 2
A24: TOTAL | G24: =SUM(#REF!) -> #REF! | L24: =SUM(L14:L23) -> 37 | M24: =SUM(M13:M23) -> 158134.08 | N24: =SUM(N13:N23) -> 453820.32

Sheet ELEMENTOS INSTITUCIONALES
C1: CONSOLIDADO ANTEPROYECTO PRESUPUESTO
C5: DEPENDENCIA: | D5: SECRETARIA GENERAL
C7: VIGENCIA: | D7: 2012
A11: TIPO | B11: CATEGORÍA/ CLASE O SUBCLASE | C11: CODIGO CUBS | D11: BIEN, SERVICIO U OBRA | E11: DESCRIPCIÓN DEL BIEN, SERVICIO U OBRA | F11: UNIDAD DE MEDIDA | G11: PC 2010-SOLICITADO | H11: SALDO A DICIEMBRE 31 DE 2010 | I11: TOTAL CONSUMO 2010 | J11: PC 2011 | K11: SALDO ACTUAL | L11: PC 2011 DEFINITIVO | M11: VALOR UNITARIO | N11: VALOR TOTAL
A12: BIEN | B12: SUMINISTROS Y APARATOS DE OFICINA/ SUMINISTROS DE OFICINA | C12: 1.52.1.19 | D12: CARPETAS INSTITUCIONALES | E12: Carpetas con logo institucional según muestra | F12: UNIDAD | L12: 500 | M12: 3000 | N12: =+L12*M12 -> 1500000
A13: TOTAL | G13: =SUM(G12:G12) -> 0 | L13: =SUM(L12) -> 500 | M13: =SUM(M12) -> 3000 | N13: =SUM(N12) -> 1500000

Sheet Hoja1
A1: Descripción del Producto | B1: Unidad de Medida | C1: PC 2010-SOLICITADO | D1: SALDO A DICIEMBRE 31 DE 2010 | E1: TOTAL CONSUMO 2010 | F1: PC 2011 | G1: SALDO ACTUAL
A3: ADHESIVOS PARA MARCAR PRES-APLIQUE 88,9x23 mm | B3: CAJA | D3: -6 | E3: =C3-D3 -> 6 | F3: 1 | G3: 8
A4: BANDAS DE CAUCHO | B4: CAJA | C4: 10 | D4: 3 | E4: =C4-D4 -> 7 | F4: 10 | G4: 6
A5: BLOCK CUADRICULADO 80 HOJAS | B5: UNIDAD | C5: 11 | D5: 11 | E5: =C5-D5 -> 0 | F5: 12 | G5: 10
A6: BOLIGRAFO MICROPUNTA COLORES | B6: UNIDAD | C6: 24 | D6: 14 | E6: =C6-D6 -> 10 | F6: 48 | G6: 40
A7: BOLIGRAFO MICROPUNTA NEGRO | B7: UNIDAD | C7: 48 | D7: 26 | E7: =C7-D7 -> 22 | G7: 40
A8: BOLIGRAFOS NEGROS | B8: UNIDAD | C8: 108 | D8: 47 | E8: =C8-D8 -> 61 | F8: 120 | G8: 80
A9: CINTA PARA DISPENSADOR 12x40 | B9: UNIDAD | C9: 3 | D9: 1 | E9: =C9-D9 -> 2 | F9: 5 | G9: 3
A10: CINTA PEGANTE PARA EMPAQUE 2" | B10: UNIDAD | C10: 5 | D10: 5 | E10: =C10-D10 -> 0 | F10: 5 | G10: 3
A11: CORRECTOR LIQUIDO EN LAPIZ | B11: UNIDAD | C11: 11 | D11: 5 | E11: =C11-D11 -> 6 | F11: 20 | G11: 6
A12: COSEDORA BATES REF:550/550C | B12: UNIDAD | C12: 5 | D12: 1 | E12: =C12-D12 -> 4 | F12: 6 | G12: 3
A13: DIRECTORIO TELEFONICO | B13: UNIDAD | C13: 1 | E13: =C13-D13 -> 1 | G13: 1
A14: GANCHO LEGAJADOR TRES PIEZAS PLASTICAS X20U | B14: PAQUETE | E14: =C14-D14 -> 0 | G14: 50
A15: GANCHOS CLIPS MARIPOSA | B15: CAJA | D15: -3 | E15: =C15-D15 -> 3 | G15: 8
A16: GANCHOS CLIPS PLASTICOS | B16: CAJA | C16: 10 | D16: 9 | E16: =C16-D16 -> 1 | F16: 20 | G16: 15
A17: GANCHOS COSEDORA SEMINDUSTRIAL | B17: CAJA | C17: 2 | D17: 1 | E17: =C17-D17 -> 1 | F17: 2 | G17: 2
A18: GANCHOS PARA COSEDORA 26/6 | B18: CAJA | C18: 6 | D18: 6 | E18: =C18-D18 -> 0 | F18: 6 | G18: 4
A19: LAPIZ NEGRO | B19: UNIDAD | C19: 50 | D19: 3 | E19: =C19-D19 -> 47 | F19: 80 | G19: 30
A20: MARBETES | B20: PAQUETE | C20: 3 | E20: =C20-D20 -> 3 | F20: 5 | G20: 3
A21: NOTAS ADHESIVAS GRANDES100X75 MM | B21: PAQUETE | C21: 24 | D21: -7 | E21: =C21-D21 -> 31 | F21: 40 | G21: 20
A22: NOTAS ADHESIVAS MEDIANAS 75X75 MM | B22: PAQUETE | E22: =C22-D22 -> 0 | F22: 40 | G22: 20
A23: NOTAS ADHESIVAS PEQUEÑAS | B23: PAQUETE | C23: 70 | D23: 3 | E23: =C23-D23 -> 67 | F23: 70 | G23: 30
A24: PAPEL BOND CARTA FOTOCOPIA 75 GRS | B24: RESMA | C24: 96 | D24: 87 | E24: =C24-D24 -> 9 | F24: 100 | G24: 80
A25: PAPEL BOND OFICIO FOTOCOPIA 75 GRS | B25: RESMA | C25: 10 | D25: -22 | E25: =C25-D25 -> 32 | F25: 40 | G25: 50
A26: PAPEL PARA FAX 30 MTS | B26: ROLLO | C26: 15 | D26: 9 | E26: =C26-D26 -> 6 | F26: 30 | G26: 10
A27: PEGANTE EN BARRA (PEGASTIC) | B27: BARRA | C27: 11 | D27: 4 | E27: =C27-D27 -> 7 | F27: 15 | G27: 8
A28: PEGANTE LIQUIDO POR 115 GR | B28: FRASCO | C28: 2 | D28: 2 | E28: =C28-D28 -> 0 | F28: 5 | G28: 4
A29: PERFORADORA 2 HUECOS | B29: UNIDAD | C29: 5 | D29: 3 | E29: =C29-D29 -> 2 | F29: 5 | G29: =D29+F29 -> 8
A30: PLASTILINA LIMPIA TIPOS | B30: CAJA | C30: 5 | E30: =C30-D30 -> 5 | F30: 5 | G30: 3
A31: RESALTADORES SURTIDOS | B31: UNIDAD | C31: 44 | D31: 8 | E31: =C31-D31 -> 36 | F31: 25 | G31: 10
A32: SACAGANCHOS | B32: UNIDAD | C32: 5 | D32: 2 | E32: =C32-D32 -> 3 | F32: 5 | G32: 5
A33: SOBRE TAMAÑO OFICIO BLANCO | B33: UNIDAD | E33: =C33-D33 -> 0 | F33: 2000 | G33: 1000
A34: SOBRES MANILA CARTA | B34: UNIDAD | C34: 200 | D34: -50 | E34: =C34-D34 -> 250 | F34: 400 | G34: 200
A35: SOBRES MANILA OFICIO | B35: UNIDAD | C35: 300 | D35: -150 | E35: =C35-D35 -> 450 | F35: 400 | G35: 200
A36: TAPA LEGAJADORA PLASTIFICADA 23X35 CM | B36: UNIDAD | C36: 600 | D36: 400 | E36: =C36-D36 -> 200 | F36: 1000 | G36: 800
A37: TIJERAS METALICAS PARA PAPEL | B37: UNIDAD | C37: 11 | D37: -1 | E37: =C37-D37 -> 12 | F37: 5 | G37: 2
A38: TINTA PARA SELLOS | B38: FRASCO | C38: 1 | D38: 1 | E38: =C38-D38 -> 0 | F38: 2 | G38: 1
A39: TONER IMPRESORA LEXMARK T630-12A7462 | B39: UNIDAD | C39: 2 | E39: =C39-D39 -> 2 | F39: 3 | G39: =D39+F39 -> 3
A40: TONER IMPRESORA XEROX 109R00725-3120/3130 | B40: UNIDAD | C40: 2 | E40: =C40-D40 -> 2 | F40: 2 | G40: =D40+F40 -> 2
