Workbook

Sheet CONSOLIDADO
C1: CONSOLIDADO PLAN DE COMPRAS POR DEPENDENCIA
C4: DEPENDENCIA: | D4: CONTRATACIÓN | F4: VIGENCIA: | G4: 2012
A6: CODIGO CUBS | B6: TIPO | C6: CATEGORÍA/ CLASE O SUBCLASE | D6: DESCRIPCIÓN DEL BIEN, SERVICIO U OBRA | E6: MODALIDA DE CONTRATACIÓN | F6: MES PROYECTADO ADQUISICIÓN DEL BIEN, SERVICIO U OBRA | G6: CANTIDAD | H6: VALOR ASIGNADO DEL PRESUPUESTO | I6: RUBRO | J6: NOMBRE DE LOS PROGRAMAS O PROYECTOS | K6: OBSERVACIONES
A8: 2.24.1 | B8: SERVICIOS | C8: MANTENIMIENTO, REPARACIÓN, MODIFICACIÓN, RECONSTRUCCIÓN E INSTALACIÓN DE BIENES/EQUIPOS | D8: Mantenimiento preventivo y correctivo de equipos de computo. | E8: ='MANTENIMIENTO Y REPARACIÓN'!F9 -> 6 | F8: ='MANTENIMIENTO Y REPARACIÓN'!G9 -> 1 | G8: ='MANTENIMIENTO Y REPARACIÓN'!H10 -> 15 | H8: ='MANTENIMIENTO Y REPARACIÓN'!I10 -> 0 | I8: INVERSIÓN 722170800410 | J8: Realizar actividaes tendientes al cumplimiento de los objetivos institucionales de COLDEPORTES, en lo referente la contratacion. | K8: Mantenimiento preventivo y correctivo de equipos de computo, este servicio será contratado por la Coordinación de apoyo tecnológico.
A9: 2.31.16 | B9: SERVICIOS | C9: SERVICIOS PERSONALES | D9: Prestación de servicios profesionales | E9: ='SERVICIOS PERSONALES'!G9 -> 32 | F9: ='SERVICIOS PERSONALES'!H9 -> 1 | G9: =+'SERVICIOS PERSONALES'!I13 -> 15 | H9: ='SERVICIOS PERSONALES'!J13 -> 743924688 | I9: INVERSIÓN 310-708-135
A10: 2.39.3 | B10: SERVICIOS | C10: SERVICIO ÁEREO PARA PASAJEROS | D10: Suministro de tiquetes áereos en rutas nacionales e internacionales. | E10: ='SERVICIOS ÁEREOS'!F9 -> 1 | F10: ='SERVICIOS ÁEREOS'!G9 -> 1 | G10: ='SERVICIOS ÁEREOS'!H10 -> 25 | H10: ='SERVICIOS ÁEREOS'!I10 -> 16250000 | I10: INVERSIÓN FUNCIONAMIENTO | K10: Este servicio será contratado por la Coordinación Administrativa.
A11: 2.10.17 | B11: SERVICIOS | C11: SERVICIOS DE PROCESAMIENTO DE INFORMACIÓN/ SERVICIOS AUTOMATIZADOS DE NOTICIAS | D11: Servicios de publicación de los avisos de convocatorias públicas, avisos emplazatorios, edictos y notificaciones | E11: =PUBLICACIONES!F9 -> 6 | F11: =PUBLICACIONES!G9 -> 1 | G11: =PUBLICACIONES!H10 -> 1 | H11: =PUBLICACIONES!I10 -> 900000 | I11: INVERSIÓN 731070813210 | K11: Este servicio será contratado entre las oficinas de IVC, Grupo Contratación y Secretaria General.
A12: 1.36.1.2 | B12: BIENES | C12: EQUIPOS TERMINALES DE COMUNICACIONES FIJAS | D12: Teléfono digital | E12: ='EQUIPOS TERM. COMUNICACIÓN'!F9 -> 6 | F12: ='EQUIPOS TERM. COMUNICACIÓN'!G9 -> 1 | G12: ='EQUIPOS TERM. COMUNICACIÓN'!H10 -> 15 | H12: ='EQUIPOS TERM. COMUNICACIÓN'!I10 -> 0 | I12: INVERSIÓN 722170800410 | K12: Este servicio serán contratados por la Coordinación de Apoyo Tecnológico, ver anexo.
A13: 1.47.1 | B13: BIENES | C13: HARDWARE, SOFTWARE, REDES Y SUS ACCESORIOS | D13: Computador procesador: core 2 duo: memoria 1 giga; pantalla 17" lcd; unidad: dvd/rw; window xp o vista ; disco duro 200 gigas teclado y mouse | E13: ='HARDWARE,SOFTWARE Y ACCESORIOS'!F9 -> 1 | F13: ='HARDWARE,SOFTWARE Y ACCESORIOS'!G9 -> 1 | G13: ='HARDWARE,SOFTWARE Y ACCESORIOS'!H10 -> 15 | H13: ='HARDWARE,SOFTWARE Y ACCESORIOS'!I10 -> 0 | I13: INVERSIÓN 722170800410 | K13: el suministro de estos elementos serán contratados por la Coordinación de Apoyo Tecnológico, ver anexo.
A14: 1.48.1 | B14: BIENES | C14: MUEBLES DE OFICINA | D14: Sillas ejecutivas y escritorios | E14: ='MUEBLES DE OFICINA'!F11 -> 6 | F14: ='MUEBLES DE OFICINA'!G11 -> 1 | G14: ='MUEBLES DE OFICINA'!H12 -> 30 | H14: ='MUEBLES DE OFICINA'!I12 -> 0 | I14: FUNCIONAMIENTO 204002000
A15: 1.48.3 | B15: BIENES | C15: MUEBLES DE OFICINA/ACCESORIOS DE OFICINA | D15: Papelera para piso y cajonera | E15: ='ACCESORIOS DE OFICINA '!F10 -> 6 | F15: ='ACCESORIOS DE OFICINA '!G10 -> 1 | G15: ='ACCESORIOS DE OFICINA '!H11 -> 36 | H15: ='ACCESORIOS DE OFICINA '!J11 -> 533646 | I15: FUNCIONAMIENTO 204002000 | K15: El suministro de estos elementos serán contratados por la Coordinación Administrativa.
A16: 1.52.1 | B16: BIENES | C16: SUMINISTROS Y APARATOS DE OFICINA/SUMINISTROS DE OFICINA | D16: Comprende todos elementos consumibles de oficina, tales como papeleria. | E16: 6 | F16: 9 | G16: ='SUMINISTROS DE OFICINA'!L65 -> 5114 | H16: ='SUMINISTROS DE OFICINA'!N65 -> 0 | I16: FUNCIONAMIENTO 204400001521
A17: 1.52.2 | B17: BIENES | C17: SUMINISTRO Y APARATOS DE OFICINA/APARATOS Y ACCESORIOS DE OFICINA | D17: Comprende elementos y aparatos de oficina tales como abrecartas, almohadillas, anilladora, cortadora de papel, cosedora, dispensador de cinta, fechador, laminadora, numerador, sellos, tajalapiz y tijeras entre otros. | E17: 6 | F17: 9 | G17: ='APARATOS Y ACCESORIOS OFICINA'!L24 -> 122 | H17: ='APARATOS Y ACCESORIOS OFICINA'!M24 -> 0 | I17: FUNCIONAMIENTO 204000011221
A18: _ | B18: _ | C18: VIATÍCOS Y GASTOS DE VIAJE | D18: N/A | E18: N/A | F18: N/A | G18: N/A | H18: N/A | I18: INVERSIÓN Y FUNCIONAMIENTO | K18: N/A
A19: TOTAL | G19: 5359 | H19: =SUM(H8:H18) -> 761608334

Sheet MANTENIMIENTO Y REPARACIÓN
C1: CONSOLIDADO PLAN DE COMPRAS POR DEPENDENCIA
C4: DEPENDENCIA: | D4: CONTRATACIÓN | F4: VIGENCIA: | G4: 2012
A7: CODIGO CUBS | B7: TIPO | C7: CATEGORÍA/ CLASE O SUBCLASE | D7: DESCRIPCIÓN DEL BIEN, SERVICIO U OBRA | E7: DETALLE DEL BIEN, SERVICIO U OBRA | F7: MODALIDA DE CONTRATACIÓN | G7: MES PROYECTADO ADQUISICIÓN DEL BIEN, SERVICIO U OBRA | H7: CANTIDAD | I7: VALOR ASIGNADO DEL PRESUPUESTO | J7: RUBRO | K7: NOMBRE DE LOS PROGRAMAS O PROYECTOS | L7: OBSERVACIONES
A9: 2.24.1 | B9: SERVICIOS | C9: MANTENIMIENTO, REPARACIÓN, MODIFICACIÓN, RECONSTRUCCIÓN E INSTALACIÓN DE BIENES/EQUIPOS | D9: Comprende todos los mantenimientos preventivos y correctivos, cualquier reparación, modificación, instalación o reconstrucción a equipos o bienes. | E9: Mantenimiento preventivo y correctivo de equipos de computo e impresoras. | F9: 6 | G9: 1 | H9: 15 | I9: 0 | J9: INVERSIÓN 722170800410 | K9: Realizar actividaes tendientes al cumplimiento de los objetivos institucionales de COLDEPORTES, en lo referente la contratacion. | L9: Este servicio será contratado por la Coordinación de apoyo tecnológico.
A10: TOTAL | H10: =SUM(H9:H9) -> 15 | I10: =SUM(I9:I9) -> 0

Sheet SERVICIOS PERSONALES
C1: CONSOLIDADO PLAN DE COMPRAS POR DEPENDENCIA
C4: DEPENDENCIA: | D4: CONTRATACIÓN | G4: VIGENCIA: | H4: 2012
A7: CODIGO CUBS | B7: TIPO | C7: CATEGORÍA/ CLASE O SUBCLASE | D7: DESCRIPCIÓN DEL BIEN, SERVICIO U OBRA | E7: DETALLE DEL BIEN, SERVICIO U OBRA | F7: PERFIL | G7: MODALIDA DE CONTRATACIÓN | H7: MES PROYECTADO ADQUISICIÓN DEL BIEN, SERVICIO U OBRA | I7: CANTIDAD | J7: VALOR ASIGNADO DEL PRESUPUESTO | K7: RUBRO | L7: NOMBRE DE LOS PROGRAMAS O PROYECTOS | M7: OBSERVACIONES
A9: 2.31.16 | B9: SERVICIOS | C9: SERVICIOS PERSONALES | D9: Prestación de servicios profesionales | E9: PRESTACIÓN DE SERVICIOS PROFESIONALES CON EL FIN DE SERVIR DE APOYO EN LOS TRÁMITES Y PROCEDIMIENTOS DE CONTRATACIÓN EN COLDEPORTES EN GENERAL. | F9: Titulo en Derecho ABOGADOsolicitud memorando marzo 21/2012, expedicion certificacion Marzo 21/2012 (2) dos | G9: 32 | H9: 1 | I9: 7 | J9: =((4526100*7)*1.04)*12 -> 395400096 | K9: INVERSIÓN 731070813210 | L9: Realizar actividaes tendientes al cumplimiento de los objetivos institucionales de COLDEPORTES, en lo referente la contratacion y seguimiento contratos. | M9: N/A
E10: PRESTACIÓN DE SERVICIOS PROFESIONALES PARA EJECUTAR LOS PROYECTOS DE INVERSIÓN DIRIGIDOS A LOS DIFERENTES ÓRGANOS Y ENTES QUE HACEN PARTE DEL SISTEMA NACIONAL DEL DEPORTE, ESPECIALMENTE EN LO ATINENTE AL TRÁMITE DE LIQUIDACIÓN DE CONTRATOS Y CONVENIOS | F10: ABOGADO | I10: 3 | J10: 169457184 | K10: INVERSIÓN 731070813210
E11: PRESTACIÓN DE SERVICIOS PROFESIONALES CON EL FIN DE SERVIR DE APOYO EN LOS TRÁMITES QUE DEBE REALIZAR COLDEPORTES FRENTE AL MANEJO E INGRESO DE DATOS A LOS DISTINTOS SISTEMAS DE INFORMACIÓN DE SU ACTIVIDAD CONTRACTUAL, ASÍ COMO EN LOS TRÁMITES Y PROCEDIMIENTOS DE CONTRATACIÓN NECESARIOS PARA EJECUTAR LOS PROYECTOS DE INVERSIÓN DIRIGIDOS A LOS DIFERENTES ÓRGANOS Y ENTES QUE HACEN PARTE DEL SISTEMA NACIONAL DEL DEPORTE | F11: ADMINISTRADOR DE EMPRESAS | I11: 2 | J11: 112971456 | K11: INVERSIÓN 731070813210
A12: 2.32.1 | B12: SERVICIOS | C12: Servicios de apoyo administrativo, funcionamiento y gerencial. | D12: Servicio de apoyo administrativo | E12: BRINDAR EN LOS PROCESOS DE CONTRATACIÓN DEL INSTITUTO, TALES COMO: MANEJOS DE SISTEMAS DE INFORMACIÓN, ARCHIVO Y ASISTENCIA EN LOS PROCEDIMIENTOS DEL AREA DE CONTRATACIÓN | F12: TECNICO | I12: 3 | J12: =+((21184600*3)*1.04) -> 66095952 | K12: INVERSIÓN 731070813210
A13: TOTAL | I13: =SUM(I9:I12) -> 15 | J13: =SUM(J9:J12) -> 743924688

Sheet SERVICIOS ÁEREOS
C1: CONSOLIDADO PLAN DE COMPRAS POR DEPENDENCIA
C4: DEPENDENCIA: | D4: CONTRATACIÓN | F4: VIGENCIA: | G4: 2012
A7: CODIGO CUBS | B7: TIPO | C7: CATEGORÍA/ CLASE O SUBCLASE | D7: DESCRIPCIÓN DEL BIEN, SERVICIO U OBRA | E7: DETALLE DEL BIEN, SERVICIO U OBRA | F7: MODALIDA DE CONTRATACIÓN | G7: MES PROYECTADO ADQUISICIÓN DEL BIEN, SERVICIO U OBRA | H7: CANTIDAD | I7: VALOR ASIGNADO DEL PRESUPUESTO | J7: RUBRO | K7: NOMBRE DE LOS PROGRAMAS O PROYECTOS | L7: OBSERVACIONES
A9: 2.39.3 | B9: SERVICIOS | C9: SERVICIO ÁEREO PARA PASAJEROS | D9: Comprende aquellos servicios aéreos para pasajeros nacionales e internacionales (Tiquetes) | E9: Suministro de tiquetes áereos en rutas nacionales | F9: 1 | G9: 1 | H9: 25 | I9: =650000*H9 -> 16250000 | J9: INVERSIÓN FUNCIONAMIENTO | K9: Realizar actividaes tendientes al cumplimiento de los objetivos institucionales de COLDEPORTES, en lo referente la contratacion. | L9: Este servicio será contratado por la Coordinación Administrativa.
A10: TOTAL | H10: =SUM(H9:H9) -> 25 | I10: =SUM(I9:I9) -> 16250000

Sheet PUBLICACIONES
C1: CONSOLIDADO PLAN DE COMPRAS POR DEPENDENCIA
C4: DEPENDENCIA: | D4: CONTRATACIÓN | G4: VIGENCIA: | H4: 2012
A7: CODIGO CUBS | B7: TIPO | C7: CATEGORÍA/ CLASE O SUBCLASE | D7: DESCRIPCIÓN DEL BIEN, SERVICIO U OBRA | E7: DETALLE DEL BIEN, SERVICIO U OBRA | F7: MODALIDA DE CONTRATACIÓN | G7: MES PROYECTADO ADQUISICIÓN DEL BIEN, SERVICIO U OBRA | H7: CANTIDAD | I7: MEDIA ARITMETICA/PRECIO INDICATIVO | J7: VALOR ASIGNADO DEL PRESUPUESTO | K7: RUBRO | L7: NOMBRE DE LOS PROGRAMAS O PROYECTOS | M7: OBSERVACIONES
A9: 2.10.17 | B9: SERVICIOS | C9: SERVICIOS DE PROCESAMIENTO DE INFORMACIÓN/ SERVICIOS AUTOMATIZADOS DE NOTICIAS | D9: Servicios automatizados de noticias, servicios de datos u otros servicios de informacion, compra de datos (el equivalente electronico de libros, periodicos, publicaciones periodicas, etc). | E9: SERVICIOS DE PUBLICACIÓN DE LOS AVISOS DE CONVOCATORIAS PÚBLICAS, AVISOS EMPLAZATORIOS, EDICTOS Y NOTIFICACIONES | F9: 6 | G9: 1 | H9: 1 | I9: 900000 | J9: 18000000 | K9: INVERSIÓN | L9: Realizar actividaes tendientes al cumplimiento de los objetivos institucionales de COLDEPORTES, en lo referente la contratacion. | M9: Este servicio será contratado entre las oficinas de IVC, Grupo Contratación y Secretaria General.
A10: TOTAL | H10: =SUM(H9) -> 1 | I10: =SUM(I9:I9) -> 900000 | J10: =SUM(J9:J9) -> 18000000

Sheet EQUIPOS TERM. COMUNICACIÓN
C1: CONSOLIDADO PLAN DE COMPRAS POR DEPENDENCIA
C4: DEPENDENCIA: | D4: CONTRATACIÓN | F4: VIGENCIA: | G4: 2012
A7: CODIGO CUBS | B7: TIPO | C7: CATEGORÍA/ CLASE O SUBCLASE | D7: DESCRIPCIÓN DEL BIEN, SERVICIO U OBRA | E7: DETALLE DEL BIEN, SERVICIO U OBRA | F7: MODALIDA DE CONTRATACIÓN | G7: MES PROYECTADO ADQUISICIÓN DEL BIEN, SERVICIO U OBRA | H7: CANTIDAD | I7: VALOR ASIGNADO DEL PRESUPUESTO | J7: RUBRO | K7: NOMBRE DE LOS PROGRAMAS O PROYECTOS | L7: OBSERVACIONES
A9: 1.36.1.2 | B9: BIEN | C9: EQUIPOS TERMINALES DE COMUNICACIONES FIJAS | D9: Comprende equipos empleados en la prestacion de servicios domiciliarios que proporcionan en si mismos capacidad completa para el establecimiento de una comunicacion o el intercambio de informacion sobre una red de telecomunicaciones. Incluye: Telefonos fijos, Telefonos inalambricos, telefonia WLL. Excluye: telefonicos inalambricos basados en celdas moviles de red publica o privada | E9: Teléfono digital con identificador | F9: 6 | G9: 1 | H9: 15 | I9: 0 | J9: INVERSIÓN 722170800410 | K9: Realizar actividaes tendientes al cumplimiento de los objetivos institucionales de COLDEPORTES, en lo referente la contratacion. | L9: Este servicio será contratado por la Coordinación de apoyo tecnológico.
A10: TOTAL | H10: =SUM(H9:H9) -> 15 | I10: =SUM(I9) -> 0

Sheet HARDWARE,SOFTWARE Y ACCESORIOS
C1: CONSOLIDADO PLAN DE COMPRAS POR DEPENDENCIA
C4: DEPENDENCIA: | D4: CONTRATACIÓN | F4: VIGENCIA: | G4: 2012
A7: CODIGO CUBS | B7: TIPO | C7: CATEGORÍA/ CLASE O SUBCLASE | D7: DESCRIPCIÓN DEL BIEN, SERVICIO U OBRA | E7: DETALLE DEL BIEN, SERVICIO U OBRA | F7: MODALIDA DE CONTRATACIÓN | G7: MES PROYECTADO ADQUISICIÓN DEL BIEN, SERVICIO U OBRA | H7: CANTIDAD | I7: MEDIA ARITMETICA/PRECIO INDICATIVO | J7: VALOR ASIGNADO DEL PRESUPUESTO | K7: RUBRO | L7: NOMBRE DE LOS PROGRAMAS O PROYECTOS | M7: OBSERVACIONES
A9: 1.47.1 | B9: BIENES | C9: HARDWARE, SOFTWARE, REDES Y SUS ACCESORIOS | D9: Computador | E9: computador procesador: core 2 duo: memoria 2 giga; pantalla 17" lcd; unidad: dvd/rw; window xp, vista, 7 o superior; disco duro 200 gigas teclado y mouse | F9: 1 | G9: 1 | H9: 15 | I9: 0 | J9: 0 | K9: INVERSIÓN 722170800410 | L9: Realizar actividaes tendientes al cumplimiento de los objetivos institucionales de COLDEPORTES, en lo referente la contratacion. | M9: Este servicio será contratado por la Coordinación de Apoyo Tecnológico.
A10: TOTAL | H10: =SUM(H9) -> 15 | I10: =SUM(I9:I9) -> 0 | J10: =SUM(J9:J9) -> 0

Sheet MUEBLES DE OFICINA
C1: CONSOLIDADO PLAN DE COMPRAS POR DEPENDENCIA
C4: DEPENDENCIA: | D4: CONTRATACIÓN | F4: VIGENCIA: | G4: 2012
A7: CODIGO CUBS | B7: TIPO | C7: CATEGORÍA/ CLASE O SUBCLASE | D7: DESCRIPCIÓN DEL BIEN, SERVICIO U OBRA | E7: DETALLE DEL BIEN, SERVICIO U OBRA | F7: MODALIDA DE CONTRATACIÓN | G7: MES PROYECTADO ADQUISICIÓN DEL BIEN, SERVICIO U OBRA | H7: CANTIDAD | I7: VALOR ASIGNADO DEL PRESUPUESTO | J7: RUBRO | K7: NOMBRE DE LOS PROGRAMAS O PROYECTOS | L7: OBSERVACIONES
A9: 1.48.1.1 | B9: BIENES | C9: MUEBLES DE OFICINA | D9: ARCHIVADOR | E9: Suministro e instalación de un archivador rodante con desplazamiento manual en lamina Cold Rolled | F9: 6 | G9: 11 | H9: 2 | I9: =(9396000+14993000)/2 -> 12194500 | J9: 15000000 | K9: INVERSIÓN
A10: 1.48.1.14 | B10: BIENES | C10: MUEBLES DE OFICINA | D10: Silla ejecutiva sin brazos | E10: Comprende aquellos elementos de oficina tales como muebles, sillas, escritorios, mesas, modulos de archivo, entre otros . | F10: 6 | G10: 1 | H10: 15 | I10: 0 | J10: FUNCIONAMIENTO 204002000 | K10: Realizar actividaes tendientes al cumplimiento de los objetivos institucionales de COLDEPORTES, en lo referente la contratacion. | L10: Este servicio será contratado por la Coordinación de Grupo Administrativo
A11: 1.48.1.14 | D11: Escritorios modulares tres cajones | E11: Comprende aquellos elementos de oficina tales como muebles, sillas, escritorios, mesas, modulos de archivo, entre otros . | F11: 6 | G11: 1 | H11: 15 | I11: 0
A12: TOTAL | H12: =SUM(H10:H11) -> 30 | I12: =SUM(I10:I10) -> 0

Sheet ACCESORIOS DE OFICINA 
C1: CONSOLIDADO PLAN DE COMPRAS POR DEPENDENCIA
C4: DEPENDENCIA: | D4: CONTRATACIÓN | G4: VIGENCIA: | H4: 2012
A7: CODIGO CUBS | B7: TIPO | C7: CATEGORÍA/ CLASE O SUBCLASE | D7: BIEN, SERVICIO U OBRA | E7: DETALLE DEL BIEN, SERVICIO U OBRA | F7: MODALIDA DE CONTRATACIÓN | G7: MES PROYECTADO ADQUISICIÓN DEL BIEN, SERVICIO U OBRA | H7: CANTIDAD | I7: MEDIA ARITMETICA/ PRECIO INDICATIVO | J7: VALOR ASIGNADO DEL PRESUPUESTO | K7: RUBRO | L7: NOMBRE DE LOS PROGRAMAS O PROYECTOS | M7: OBSERVACIONES
A9: 1.48.3.1.228 | B9: BIENES | C9: MUEBLES/ACCESORIOS | D9: PAPELERA PARA PISO (BASURERA) | E9: Basurera en madera, sin tapa, de dimensiones mayores o iguales a 0.30 x 0.10 x 0.20 y menores o iguales a 0.399 x 0.70 x 0.90 m | F9: 6 | G9: 1 | H9: 18 | I9: 29647 | J9: =I9*H9 -> 533646 | K9: FUNCIONAMIENTO 204002000 | L9: Realizar actividaes tendientes al cumplimiento de los objetivos institucionales de COLDEPORTES, en lo referente la contratacion. | M9: Este servicio será contratado por la Coordinación de Grupo Administrativo
A10: 1.48.3.3 | B10: BIENES | C10: MUEBLES/ACCESORIOS | D10: CAJONERA | E10: Cajonera móvil para almacenamiento con rodachinas y contrapeso para evitar el desequilibrio al ser extendidos sus cajones. | F10: 6 | G10: 1 | H10: 18 | I10: 0 | J10: =I10*H10 -> 0 | M10: Este servicio será contratado por la Coordinación de Grupo Administrativo
A11: TOTAL | H11: =SUM(H9:H10) -> 36 | I11: =SUM(I9:I10) -> 29647 | J11: =SUM(J9:J10) -> 533646

Sheet SUMINISTROS DE OFICINA
C1: CONSOLIDADO PLAN DE COMPRAS POR DEPENDENCIA
C5: DEPENDENCIA: | D5: CONTRATACIÓN
C7: VIGENCIA: | D7: 2012
A11: TIPO | B11: CATEGORÍA/ CLASE O SUBCLASE | C11: CODIGO CUBS | D11: BIEN, SERVICIO U OBRA | E11: DESCRIPCIÓN DEL BIEN, SERVICIO U OBRA | F11: UNIDAD DE MEDIDA | G11: PC 2010-SOLICITADO | H11: SALDO A DICIEMBRE 31 DE 2010 | I11: TOTAL CONSUMO 2010 | J11: PC 2011 | K11: SALDO ACTUAL | L11: PC 2012 DEFINITIVO | M11: MEDÍA ARITMÉTICA/PRECIO INDICATIVO | N11: TOTAL
C12: 1.52.1.11.59 | D12: BANDAS DE CAUCHO | E12: Banda elastica en caucho, referencia 22, por 25 g . | F12: CAJA | L12: 25 | N12: =M12*L12 -> 0
C13: 1.52.1.13.38 | D13: BANDERITAS FLAGS LANGUETTES | E13: Banderita mayor a ? y menor o igual a 1 in, sin iconos impresos, en presentacion por paquete de 60 unidades . | F13: PAQUETE | L13: 25 | N13: =M13*L13 -> 0
C14: 1.52.1.8.19 | D14: BLOCK CUADRICULADO 80 HOJAS | E14: Block de papel amarillo, cuadriculado, carta, 80 hojas. | F14: UNIDAD | L14: 20 | N14: =M14*L14 -> 0
C15: 1.52.1.9.1 | D15: BOLIGRAFO DESECHABLE (MICROPUNTA VARIOS COLORES) | E15: Boligrafo desechable tinta varios colores, en plastico, presentacion por 1 und, con tapa. | F15: UNIDAD | I15: =G15-H15 -> 0 | J15: 24 | K15: =H15+J15 -> 24 | L15: =16*4 -> 64 | N15: =M15*L15 -> 0
C16: 1.52.1.9.1 | D16: BOLIGRAFO DESECHABLE (MICROPUNTA NEGRO) | E16: Boligrafo desechable tinta varios colores, en plastico, presentacion por 1 und, con tapa. | F16: UNIDAD | I16: =G16-H16 -> 0 | J16: 24 | K16: =H16+J16 -> 24 | L16: =16*8 -> 128 | N16: =M16*L16 -> 0
C17: 1.52.1.9.2 | D17: BOLIGRAFO DESECHABLE (NEGRO) | E17: Boligrafo desechable tinta varios colores, en pasta, presentacion por 1 und, con tapa. | F17: UNIDAD | G17: 360 | H17: 340 | I17: =G17-H17 -> 20 | J17: 36 | K17: 332 | L17: =16*8 -> 128 | N17: =M17*L17 -> 0
C18: 1.52.1.17.3 | D18: BORRADOR DE NATA PZ-20 O BR 20 | E18: Borrador para lapiz, tipo nata, tamaño grande, por 1 und. | F18: UNIDAD | G18: 6 | I18: =G18-H18 -> 6 | J18: 5 | K18: =H18+J18 -> 5 | L18: 25 | N18: =M18*L18 -> 0
C19: 1.52.1.17.29 | D19: BORRADOR PARA TINTA ESCOBILLA | E19: Borrador para tinta, tipo tamaño lapiz con escobilla, por 1 und. | F19: UNIDAD | G19: 6 | I19: =G19-H19 -> 6 | J19: 5 | K19: =H19+J19 -> 5 | L19: 20 | N19: =M19*L19 -> 0
C20: 1.52.1.18 | D20: CAJA PARA ARCHIVO TIPO NEVERA | E20: Caja para archivo | F20: UNIDAD | G20: 30 | H20: 30 | I20: =G20-H20 -> 0 | J20: 20 | K20: =H20+J20 -> 50 | L20: 600 | N20: =M20*L20 -> 0
C21: 1.52.1.72.2 | D21: DISCO COMPACTO/CD - R | E21: Disco compacto gravable, de 700 Mb 80 min, por 1 und. | F21: UNIDAD | G21: 30 | H21: 29 | I21: =G21-H21 -> 1 | J21: 20 | K21: =H21+J21 -> 49 | L21: 128 | N21: =M21*L21 -> 0
C22: 1.52.1.72.16 | D22: DISCO COMPACTO/CD - RW | E22: Disco compacto regravable, de 700 Mb 80 min, por 1 und. | F22: UNIDAD | G22: 30 | H22: 29 | I22: =G22-H22 -> 1 | J22: 20 | K22: =H22+J22 -> 49 | L22: =+L21/2 -> 64 | N22: =M22*L22 -> 0
C23: 1.52.1.72 | D23: DVD/R | E23: Disco compacto | F23: UNIDAD | G23: 30 | H23: 29 | I23: =G23-H23 -> 1 | J23: 20 | K23: =H23+J23 -> 49 | L23: 40 | N23: =M23*L23 -> 0
C24: 1.52.1.72 | D24: DVD/RW | E24: Disco compacto | F24: UNIDAD | G24: 30 | H24: 29 | I24: =G24-H24 -> 1 | J24: 20 | K24: =H24+J24 -> 49 | L24: 40 | N24: =M24*L24 -> 0
B25: CINTAS ADHESIVAS INDUSTRIALES | C25: 1.32.10.3 | D25: CINTA PEGANTE PARA EMPAQUE 24 X 50 | E25: Cinta para empaque de 25 micras | F25: UNIDAD | I25: =G25-H25 -> 0 | J25: 2 | K25: =H25+J25 -> 2 | L25: 16 | N25: =M25*L25 -> 0
C26: 1.32.10.8.17 | D26: CINTA DE ENMASCARAR 48mmx40m | E26: cinta de enmascarar, multipropositos, dimensiones (48mmx40m), nacional | F26: UNIDAD | I26: =G26-H26 -> 0 | J26: 2 | K26: =H26+J26 -> 2 | L26: 16 | N26: =M26*L26 -> 0
C27: 1.32.10.6.1 | D27: CINTA PEGANTE PARA DISPENSADOR 12 X 40 | E27: Cinta de facil corte, polipropileno, dimensiones (12mmx40m), | F27: UNIDAD | L27: 16 | N27: =M27*L27 -> 0
B28: SUMINISTROS Y APARATOS DE OFICINA | C28: 1.52.1.35 | D28: CORRECTOR LIQUIDO LÁPIZ | E28: Corrector | F28: UNIDAD | L28: 32 | N28: =M28*L28 -> 0
C29: 1.52.1.39 | D29: DIRECTORIO TELEFÓNICO DESPACHOS PÚBLICOS | E29: Directorio | F29: UNIDAD | G29: 100 | H29: 100 | I29: =G29-H29 -> 0 | K29: =H29+J29 -> 100 | L29: 1 | N29: =M29*L29 -> 0
C30: 1.52.1.45.26 | D30: GANCHOS CLIPS MARIPOSA | E30: Gancho tipo clip mariposa, No. 2, en alambre metalico galvanizado, por 50 und. | F30: CAJA | G30: 5 | H30: 5 | I30: =G30-H30 -> 0 | K30: =H30+J30 -> 5 | L30: 16 | N30: =M30*L30 -> 0
C31: 1.52.1.45.45 | D31: GANCHOS CLIPS PLASTICOS | E31: Gancho tipo clip estandar, en alambre plastico, de 33 mm, por 100 und. | F31: CAJA | G31: 10 | H31: 10 | I31: =G31-H31 -> 0 | J31: 2 | K31: =H31+J31 -> 12 | L31: 32 | N31: =M31*L31 -> 0
C32: 1.52.1.45.57 | D32: GANCHOS COSEDORA 9(23) / 12 | E32: Gancho tipo grapa, referencia 23/12, en alambre metalico cobrizado, por 1000 und. | F32: CAJA | G32: 1 | H32: 1 | I32: =G32-H32 -> 0 | K32: =H32+J32 -> 1 | L32: 30 | N32: =M32*L32 -> 0
C33: 1.52.1.45.77 | D33: GANCHOS PARA COSEDORA 26/6 | E33: Gancho tipo grapa, referencia 26/6 , en alambre metalico cobrizado, por 5000 und. | F33: CAJA | G33: 2 | H33: 2 | I33: =G33-H33 -> 0 | J33: 2 | K33: =H33+J33 -> 4 | L33: 16 | N33: =M33*L33 -> 0
C34: 1.52.1.45.29 | D34: GANCHO LEGAJADOR TRES PIEZAS PLASTICOS X 20 UND | E34: Gancho tipo legajador, gancho, pisador y corredera en polipropileno transparente, por 20 juegos. | F34: PAQUETE | G34: 50 | H34: 47 | I34: =G34-H34 -> 3 | K34: =H34+J34 -> 47 | L34: 250 | N34: =M34*L34 -> 0
C35: 1.52.1.46 | D35: INDICE SEPARADORES AZ | E35: Guias separadoras | F35: PAQUETE | L35: 64 | N35: =M35*L35 -> 0
C36: 1.52.1.38.435 | D36: LAPIZ NEGRO | E36: Lapiz para escritura, fabricado en madera, de forma hexagonal con borrador, mina negra de 2 mm y dureza No.2. | F36: UNIDAD | G36: 15 | H36: 10 | I36: =G36-H36 -> 5 | J36: 5 | K36: =H36+J36 -> 15 | L36: 128 | N36: =M36*L36 -> 0
C37: 1.52.1.8.22 | D37: LIBRETA AMARILLA TAMAÑO CARTA | E37: Block de papel amarillo, cuadriculado, carta, 50 hojas. | F37: UNIDAD | G37: 10 | H37: 10 | I37: =G37-H37 -> 0 | J37: 10 | K37: =H37+J37 -> 20 | L37: 20 | N37: =M37*L37 -> 0
C38: 1.52.1.53 | D38: LIBRO 400 FOLIOS PASTA DURA TRES COLUMNAS | E38: Libros de oficina | F38: UNIDAD | L38: 16 | N38: =M38*L38 -> 0
C39: 1.52.1.41.77 | D39: MARCADOR PARA ACETATO | E39: Marcador permanente, desechable, contenido de tinta menor o igual a 2,5 g , de punta redonda acrilica, para hacer lineas de aprox. 1 mm , por 1 und. | F39: UNIDAD | L39: 16 | N39: =M39*L39 -> 0
C40: 1.52.1.41.203 | D40: MARCADOR PERMANENTE VARIOS COLORES | E40: Marcador permanente, desechable, contenido de tinta mayor a 2,5 y menor o igual a 5 g , de punta biselada poliester, para hacer lineas de aprox. 2 - 5 mm , por 1 und. | F40: UNIDAD | L40: 32 | N40: =M40*L40 -> 0
C41: 1.52.1 | D41: MEMORIA USB 2 GB | E41: MEMORIA USB 2 GB | F41: UNIDAD | I41: =G41-H41 -> 0 | J41: 5 | K41: 1 | L41: 20 | N41: =M41*L41 -> 0
C42: 1.52.1.44.10 | D42: MINAS 0.5 | E42: Mina para portaminas, con diametro de escritura aproximado de 0,5 mm, con tonalidad de escritura 2H, por 12 und. | F42: UNIDAD | I42: =G42-H42 -> 0 | J42: 5 | K42: 1 | L42: 20 | N42: =M42*L42 -> 0
C43: 1.52.1.85.73 | D43: NOTAS ADHESIVAS GRANDES 100X75 MM | E43: Taco de papel por 1 paquete de mayor a 100 y menor o igual a 300 hojas cada uno, en bond, engomado, tamaño de la hoja mayor a 8 x 8 y menor o igual a 10 x 10 cm, colores fluorescentes en varios tonos por paquete . | F43: PAQUETE | I43: =G43-H43 -> 0 | J43: 2 | K43: =H43+J43 -> 2 | L43: 64 | N43: =M43*L43 -> 0
C44: 1.52.1.85.67 | D44: NOTAS ADHESIVAS MEDIANAS 75X75 MM | E44: Taco de papel por 1 paquete de mayor a 100 y menor o igual a 300 hojas cada uno, en bond, engomado, tamaño de la hoja mayor a 4 x 5 y menor o igual a 8 x 8 cm, colores fluorescentes en varios tonos por paquete . | F44: PAQUETE | I44: =G44-H44 -> 0 | J44: 2 | K44: =H44+J44 -> 2 | L44: 128 | N44: =M44*L44 -> 0
C45: 1.52.1.85.61 | D45: NOTAS ADHESIVAS PEQUEÑAS 50X38 MM | E45: Taco de papel por 1 paquete de mayor a 100 y menor o igual a 300 hojas cada uno, en bond, engomado, tamaño de la hoja menor o igual 4 x 5 cm, colores fluorescentes en varios tonos por paquete . | F45: PAQUETE | G45: 20 | H45: 10 | I45: =G45-H45 -> 10 | J45: 2 | K45: =H45+J45 -> 12 | L45: 64 | N45: =M45*L45 -> 0
C46: 1.52.1.56.15 | D46: PAPEL BOND CARTA FOTOCOPIA 75 GRS | E46: Papel bond, de 75 g/m2, tama?o carta, por resma de 500 hojas. | F46: RESMA | G46: 30 | H46: 13 | I46: =G46-H46 -> 17 | J46: 10 | K46: =H46+J46 -> 23 | L46: 200 | N46: =M46*L46 -> 0
C47: 1.52.1.56.17 | D47: PAPEL BOND OFICIO FOTOCOPIA 75 GRS | E47: Papel bond, de 75 g/m2, tama?o oficio, por resma de 500 hojas. | F47: RESMA | G47: 15 | H47: 8 | I47: =G47-H47 -> 7 | J47: 5 | K47: =H47+J47 -> 13 | L47: 100 | N47: =M47*L47 -> 0
...

Sheet APARATOS Y ACCESORIOS OFICINA
C1: CONSOLIDADO PLAN DE COMPRAS POR DEPENDENCIA
C5: DEPENDENCIA: | D5: CONTRATACIÓN | E5: VIGENCIA: | F5: 2012 | H5: 2011
A8: TIPO | B8: CATEGORÍA/ CLASE O SUBCLASE | C8: CODIGO CUBS | D8: BIEN, SERVICIO U OBRA | E8: DESCRIPCIÓN DEL BIEN, SERVICIO U OBRA | F8: UNIDAD DE MEDIDA | G8: PC 2010-SOLICITADO | H8: SALDO A DICIEMBRE 31 DE 2010 | I8: TOTAL CONSUMO 2010 | J8: PC 2011 | K8: SALDO ACTUAL | L8: PC 2011 DEFINITIVO | M8: COSTO UNITARIO/PRECIO INDICATIVO
A9: BIENES | B9: SUMINISTRO Y APARATOS DE OFICINA/APARATOS Y ACCESORIOS DE OFICINA | C9: 1.52.2.2.58 | D9: ALMOHADILLA PARA SELLOS | E9: Almohadilla para sello, de forma rectangular, dimensiones mayor a 70 x 100 y menor o igual a 100 x 150 mm, y material de la carcasa en plastico. | F9: UNIDAD | I9: =G9-H9 -> 0 | J9: 24 | K9: =H9+J9 -> 24 | L9: 5
C10: 1.52.2.7.61 | D10: COSEDORA REF 500/550C | E10: Cosedora para grapa No. 26/6, con capacidad maxima de 150 grapas, con profundidad de entrada horizontal en el papel de 0-105 mm, con capacidad de cosido para maximo 8-30 hojas. | F10: UNIDAD | H10: -4 | I10: =G10-H10 -> 4 | J10: 2 | K10: =H10+J10 -> -2 | L10: 16
C11: 1.52.2.12.127 | D11: FECHADOR TAMAÑO PEQUEÑO QUE INCLUYA AÑO 2014 | E11: Fechador de entintado manual, elaborado en pvc de alta densidad, sello rectangular, de tamaño mayor o igual a 40 x 20 y menor a 60 x 40 mm, sin placa y sin leyenda comercial. | F11: UNIDAD | G11: 1 | I11: =G11-H11 -> 1 | K11: =H11+J11 -> 0 | L11: 5
C12: 1.52.2.2.26 | D12: HUELLERO | E12: Almohadilla dactilar, de forma redonda, diametro mayor a 40 y menor o igual a 60 mm, y material de la carcasa en plastico. | F12: UNIDAD | I12: =G12-H12 -> 0 | J12: 1 | K12: =H12+J12 -> 1 | L12: 3
C13: 1.52.2.15.31 | D13: HUMEDECEDOR PARA DEDOS | E13: Humedecedor en crema, de forma redonda, con diametro mayor a 40 y menor o igual a 60 mm , y material de la carcasa en plastico. | F13: UNIDAD | L13: 16
C14: 1.52.2.20 | D14: NUMERADOR | E14: Numerador de entintado manual | F14: UNIDAD | G14: 1 | I14: =G14-H14 -> 1 | K14: =H14+J14 -> 0 | L14: 2
C15: 1.52.2.22.47 | D15: PERFORADORA 2 HUECOS | E15: Perforadora de tamaño mayor a 10 y menor o igual a 30 cm, 2 perforaciones, capacidad de hojas a perforar mayor a 25 y menor o igual a 35, con trampilla para vaciar los confetis, con sistema de bloqueo . | F15: UNIDAD | L15: 16
C16: 1.52.2.22.56 | D16: PERFORADORA 3 HUECOS | E16: Perforadora de tamaño mayor a 10 y menor o igual a 30 cm, 4 ajustable a 3 perforaciones, capacidad de hojas a perforar mayor a 35 y menor o igual a 45, con trampilla para vaciar los confetis, con sistema de bloqueo. | F16: UNIDAD | L16: 2
C17: 1.52.2.22.57 | D17: PERFORADORA INDUSTRIAL 2 HUECOS | E17: Perforadora de tamaño mayor a 10 y menor o igual a 30 cm, 2 perforaciones, capacidad de hojas a perforar mayor a 45, con trampilla para vaciar los confetis, con sistema de bloqueo . | F17: UNIDAD | L17: 2
C18: 1.52.2.27.20 | D18: SACAGANCHOS | E18: Sacaganchos para grapa No.26/6 elaborado en metal y plastico, con un peso mayor a 33 y menor o igual a 75 g. | F18: UNIDAD | G18: 3 | H18: 3 | I18: =G18-H18 -> 0 | K18: =H18+J18 -> 3 | L18: 16
C19: 1.52.2.28 | D19: SELLO BASE MADERA FACSIMIL | E19: Sello | F19: UNIDAD | L19: 1
C20: 1.52.2.28 | D20: SELLO AUTOMÁTICO | E20: Sello | F20: UNIDAD | L20: 1
C21: 1.52.2.32.26 | D21: TAJALAPIZ METALICO | E21: Tajalapiz elaborado en metal con 1 orificio, de tama?o menor o igual a 10 mm, sin deposito, forma de uso manual, sin dispositivo para sujecion en superficies . | F21: UNIDAD | H21: -5 | I21: =G21-H21 -> 5 | J21: 3 | K21: =H21+J21 -> -2 | L21: 20
C22: 1.48.1.25.1 | D22: TARJETERO | E22: Tarjetero tipo fundas, en carton de alta densidad, de dimensiones menores a 0,10 x 0,06 x 0,025 m, de 0-15 separaciones, de 0-150 tarjetas de capacidad. | F22: UNIDAD | L22: 1
C23: 1.52.2.33 | D23: TIJERAS | E23: Tijeras metalicas de acero inoxidable para cortar papel | F23: UNIDAD | G23: 3 | H23: 3 | I23: =G23-H23 -> 0 | K23: =H23+J23 -> 3 | L23: 16
A24: TOTAL | G24: =SUM(#REF!) -> #REF! | L24: =SUM(L9:L23) -> 122
