Workbook

Sheet VIGENCIA ACTUAL 
A5: INFORME DE EJECUCION PRESUPUESTAL
B8: SECCION: | D8: 4301
B9: UNIDAD EJECUTORA: | D9: 430101
B10: AÑO FISCAL: | D10: 2026
B11: PERIODO: | D11: Junio | K11: =+K12-K15 -> 0 | P11: =P15-P12 -> 0 | Q11: =Q12-Q15 -> 0 | R11: =R15-R12 -> 0 | S11: =S15-S12 -> 0 | T11: =T15-T12 -> 0 | U11: =U15-U12 -> 0 | V11: =V15-V12 -> 0
K12: 496087196266 | L12: =+M15-L15 -> 0 | P12: 496087196266 | Q12: 4356738764 | R12: 4.8535278e+11 | S12: 4.1207137e+11 | T12: 2.6879058e+11 | U12: 2.6879058e+11 | V12: 2.6879058e+11
A13: IDENTIFICACIÓN PRESUPUESTAL | J13: NOMBRE DEL RUBRO | K13: APROPIACIÓN INICIAL | L13: TRASLADOS | N13: REDUCCIÓN | O13: ADICIÓN | P13: APROPIACIÓN VIGENTE | Q13: APROPIACIÓN BLOQUEADA . PREVIO CONCEPTO | R13: CDP ACUMULADOS | S13: COMPROMISO ACUMULADOS | T13: OBLIGACIÓN ACUMULADOS | U13: ORDEN PAGO ACUMULADOS | V13: PAGOS ACUMULADOS | W13: % EJECUCIÓN COMPROMISOS | X13: % EJECUCIÓN OBLGACIONES
A14: Tipo Presupuesto | B14: Cuenta / Programa | C14: Subcuenta / Subprograma | D14: Objeto / Proyecto | E14: Ordinal / Subproy | F14: SubOrdinal / Producto | G14: Rec | H14: FUENTE | I14: Situación | L14: CONTRACRÉDITO | M14: CRÉDITO
A15: A+B+C | J15: TOTAL PRESUPUESTO | K15: =K16+K75 -> 496087196266 | L15: =L16+L75 -> 1198855467 | M15: =M16+M75 -> 1198855467 | N15: =N16+N75 -> 0 | O15: =O16+O75 -> 0 | P15: =P16+P75 -> 496087196266 | Q15: =Q16+Q75 -> 4356738764 | R15: =R16+R75 -> 4.8535278e+11 | ... V15: =V16+V75 -> 2.6879058e+11 | W15: =S15/P15 -> 0.83064303 | X15: =T15/P15 -> 0.54182124
A16: A | J16: A- FUNCIONAMIENTO | K16: =K17+K38+K53+K66 -> 54194708762 | L16: =L17+L38+L53+L66 -> 1198855467 | M16: =M17+M38+M53+M66 -> 1198855467 | N16: =N17+N38+N53+N66 -> 0 | O16: =O17+O38+O53+O66 -> 0 | P16: =P17+P38+P53+P66 -> 54194708762 | Q16: =Q55 -> 4356738764 | R16: =R17+R38+R53+R66 -> 4.8960838e+10 | S16: =S17+S38+S53+S66 -> 2.5793663e+10 | T16: =T17+T38+T53+T66 -> 2.3072991e+10 | U16: =U17+U38+U53+U66 -> 2.3072991e+10 | V16: =V17+V38+V53+V66 -> 2.3072991e+10 | W16: =S16/P16 -> 0.4759443 | X16: =T16/P16 -> 0.42574251
A17: A | B17: 01 | J17: GASTOS DE PERSONAL | K17: =SUM(K18) -> 28744574000 | L17: =SUM(L18) -> 0 | M17: =SUM(M18) -> 0 | N17: =SUM(N18) -> 0 | O17: 0 | P17: =K17-L17+M17-N17+O17 -> 28744574000 | Q17: =SUM(Q18) -> 0 | R17: =SUM(R18) -> 28744574000 | S17: =SUM(S18) -> 14007052385 | T17: =SUM(T18) -> 14006878056 | U17: =SUM(U18) -> 14006878056 | V17: =SUM(V18) -> 14006878056 | W17: =S17/P17 -> 0.48729379 | X17: =T17/P17 -> 0.48728772
A18: A | B18: 01 | C18: 01 | J18: PLANTA DE PERSONAL PERMANENTE | K18: =K19+K21+K31 -> 28744574000 | L18: 0 | M18: 0 | N18: =N19+N21+N31 -> 0 | O18: 0 | P18: =P19+P21+P31 -> 28744574000 | Q18: =Q19+Q21+Q31 -> 0 | R18: =R19+R21+R31 -> 28744574000 | S18: =S19+S21+S31 -> 14007052385 | T18: =T19+T21+T31 -> 14006878056 | U18: =U19+U21+U31 -> 14006878056 | V18: =V19+V21+V31 -> 14006878056 | W18: =S18/P18 -> 0.48729379 | X18: =T18/P18 -> 0.48728772
A19: A | B19: 01 | C19: 01 | D19: 01 | J19: SALARIO | K19: =K20 -> 19941632825 | L19: 0 | M19: =M20 -> 0 | N19: =N20 -> 0 | O19: =+O20 -> 0 | P19: =K19-L19+M19-N19+O19 -> 19941632825 | Q19: =Q20 -> 0 | R19: =R20 -> 19941632825 | S19: =S20 -> 9154501724 | T19: =T20 -> 9154327395 | U19: =U20 -> 9154327395 | V19: =V20 -> 9154327395 | W19: =S19/P19 -> 0.4590648 | X19: =T19/P19 -> 0.45905606
A20: A | B20: 01 | C20: 01 | D20: 01 | E20: 001 | G20: 10 | H20: Nación | I20: CSF | J20: FACTORES SALARIALES COMUNES | K20: 19941632825 | L20: 0 | M20: 0 | N20: 0 | O20: 0 | P20: =K20-L20+M20-N20+O20 -> 19941632825 | R20: 19941632825 | S20: 9154501724 | T20: 9154327395 | U20: 9154327395 | V20: 9154327395 | W20: =S20/P20 -> 0.4590648 | X20: =T20/P20 -> 0.45905606
A21: A | B21: 01 | C21: 01 | D21: 02 | J21: CONTRIBUCIONES INHERENTES A LA NÓMINA | K21: =SUM(K22:K30) -> 6407003462 | L21: =SUM(L22:L30) -> 0 | M21: =SUM(M22:M30) -> 0 | N21: =SUM(N22:N30) -> 0 | O21: =SUM(O22:O30) -> 0 | P21: =K21-L21+M21-N21+O21 -> 6407003462 | Q21: =SUM(Q22:Q30) -> 0 | R21: =SUM(R22:R30) -> 6407003462 | S21: =SUM(S22:S30) -> 3437234765 | T21: =SUM(T22:T30) -> 3437234765 | U21: =SUM(U22:U30) -> 3437234765 | V21: =SUM(V22:V30) -> 3437234765 | W21: =S21/P21 -> 0.53648087 | X21: =T21/P21 -> 0.53648087
A22: A | B22: 01 | C22: 01 | D22: 02 | E22: 001 | G22: 10 | H22: Nación | I22: CSF | J22: APORTES A LA SEGURIDAD SOCIAL EN PENSIONES | K22: 1872943571 | L22: 0 | M22: 0 | N22: 0 | O22: 0 | P22: 1872943571 | Q22: 0 | R22: 1872943571 | S22: 1032386500 | T22: 1032386500 | U22: 1032386500 | V22: 1032386500 | W22: =S22/P22 -> 0.55121068 | X22: =T22/P22 -> 0.55121068
A23: A | B23: 01 | C23: 01 | D23: 02 | E23: 002 | G23: 10 | H23: Nación | I23: CSF | J23: APORTES A LA SEGURIDAD SOCIAL EN SALUD | K23: 1328590514 | L23: 0 | M23: 0 | N23: 0 | O23: 0 | P23: 1328590514 | Q23: 0 | R23: 1328590514 | S23: 738520400 | T23: 738520400 | U23: 738520400 | V23: 738520400 | W23: =S23/P23 -> 0.55586758 | X23: =T23/P23 -> 0.55586758
A24: A | B24: 01 | C24: 01 | D24: 02 | E24: 003 | G24: 10 | H24: Nación | I24: CSF | J24: AUXILIO DE CESANTÍAS | K24: 1493063827 | L24: 0 | M24: 0 | N24: 0 | O24: 0 | P24: 1493063827 | Q24: 0 | R24: 1493063827 | S24: 741352965 | T24: 741352965 | U24: 741352965 | V24: 741352965 | W24: =S24/P24 -> 0.49653133 | X24: =T24/P24 -> 0.49653133
A25: A | B25: 01 | C25: 01 | D25: 02 | E25: 004 | G25: 10 | H25: Nación | I25: CSF | J25: APORTES A CAJAS DE COMPENSACIÓN FAMILIAR | K25: 691974225 | L25: 0 | M25: 0 | N25: 0 | O25: 0 | P25: 691974225 | Q25: 0 | R25: 691974225 | S25: 387914900 | T25: 387914900 | U25: 387914900 | V25: 387914900 | W25: =S25/P25 -> 0.56059155 | X25: =T25/P25 -> 0.56059155
A26: A | B26: 01 | C26: 01 | D26: 02 | E26: 005 | G26: 10 | H26: Nación | I26: CSF | J26: APORTES GENERALES AL SISTEMA DE RIESGOS LABORALES | K26: 107025347 | L26: 0 | M26: 0 | N26: 0 | O26: 0 | P26: 107025347 | Q26: 0 | R26: 107025347 | S26: 52023500 | T26: 52023500 | U26: 52023500 | V26: 52023500 | W26: =S26/P26 -> 0.48608579 | X26: =T26/P26 -> 0.48608579
A27: A | B27: 01 | C27: 01 | D27: 02 | E27: 006 | G27: 10 | H27: Nación | I27: CSF | J27: APORTES AL ICBF | K27: 525900412 | L27: 0 | M27: 0 | N27: 0 | O27: 0 | P27: 525900412 | Q27: 0 | R27: 525900412 | S27: 290948000 | T27: 290948000 | U27: 290948000 | V27: 290948000 | W27: =S27/P27 -> 0.55323782 | X27: =T27/P27 -> 0.55323782
A28: A | B28: 01 | C28: 01 | D28: 02 | E28: 007 | G28: 10 | H28: Nación | I28: CSF | J28: APORTES AL SENA | K28: 101489553 | L28: 0 | M28: 0 | N28: 0 | O28: 0 | P28: 101489553 | Q28: 0 | R28: 101489553 | S28: 48535600 | T28: 48535600 | U28: 48535600 | V28: 48535600 | W28: =S28/P28 -> 0.47823247 | X28: =T28/P28 -> 0.47823247
A29: A | B29: 01 | C29: 01 | D29: 02 | E29: 008 | G29: 10 | H29: Nación | I29: CSF | J29: APORTES A LA ESAP | K29: 101489553 | L29: 0 | M29: 0 | N29: 0 | O29: 0 | P29: 101489553 | Q29: 0 | R29: 101489553 | S29: 48535600 | T29: 48535600 | U29: 48535600 | V29: 48535600 | W29: =S29/P29 -> 0.47823247 | X29: =T29/P29 -> 0.47823247
A30: A | B30: 01 | C30: 01 | D30: 02 | E30: 009 | G30: 10 | H30: Nación | I30: CSF | J30: APORTES A ESCUELAS INDUSTRIALES E INSTITUTOS TÉCNICOS | K30: 184526460 | L30: 0 | M30: 0 | N30: 0 | O30: 0 | P30: 184526460 | Q30: 0 | R30: 184526460 | S30: 97017300 | T30: 97017300 | U30: 97017300 | V30: 97017300 | W30: =S30/P30 -> 0.52576362 | X30: =T30/P30 -> 0.52576362
A31: A | B31: 01 | C31: 01 | D31: 03 | J31: REMUNERACIONES NO CONSTITUTIVAS DE FACTOR SALARIAL | K31: =SUM(K32:K37) -> 2395937713 | L31: =SUM(L32:L37) -> 0 | M31: =SUM(M32:M37) -> 0 | N31: =SUM(N32:N37) -> 0 | O31: 0 | P31: =K31-L31+M31-N31+O31 -> 2395937713 | Q31: =SUM(Q32:Q37) -> 0 | R31: =SUM(R32:R37) -> 2395937713 | S31: =SUM(S32:S37) -> 1415315896 | T31: =SUM(T32:T37) -> 1415315896 | U31: =SUM(U32:U37) -> 1415315896 | V31: =SUM(V32:V37) -> 1415315896 | W31: =S31/P31 -> 0.59071481 | X31: =T31/P31 -> 0.59071481
A32: A | B32: 01 | C32: 01 | D32: 03 | E32: 001 | G32: 10 | H32: Nación | I32: CSF | J32: PRESTACIONES SOCIALES SEGÚN DEFINICIÓN LEGAL | K32: 1191941261 | L32: 0 | M32: 0 | N32: 0 | O32: 0 | P32: =K32-L32+M32-N32+O32 -> 1191941261 | Q32: 0 | R32: 1191941261 | S32: 580955020 | T32: 580955020 | U32: 580955020 | V32: 580955020 | W32: =S32/P32 -> 0.48740239 | X32: =T32/P32 -> 0.48740239
A33: A | B33: 01 | C33: 01 | D33: 03 | E33: 002 | G33: 10 | H33: Nación | I33: CSF | J33: PRIMA TÉCNICA NO SALARIAL | K33: 275450117 | L33: 0 | M33: 0 | N33: 0 | O33: 0 | P33: =K33-L33+M33-N33+O33 -> 275450117 | Q33: 0 | R33: 275450117 | S33: 211645602 | T33: 211645602 | U33: 211645602 | V33: 211645602 | W33: =S33/P33 -> 0.76836272 | X33: =T33/P33 -> 0.76836272
A34: A | B34: 01 | C34: 01 | D34: 03 | E34: 005 | G34: 10 | H34: Nación | I34: CSF | J34: PRIMA DE RIESGO | K34: 18363341 | L34: 0 | M34: 0 | N34: 0 | O34: 0 | P34: =K34-L34+M34-N34+O34 -> 18363341 | Q34: 0 | R34: 18363341 | S34: 10303479 | T34: 10303479 | U34: 10303479 | V34: 10303479 | W34: =S34/P34 -> 0.56108956 | X34: =T34/P34 -> 0.56108956
A35: A | B35: 01 | C35: 01 | D35: 03 | E35: 007 | G35: 10 | H35: Nación | I35: CSF | J35: PRIMA DE DIRECCIÓN | K35: 71856552 | L35: 0 | M35: 0 | N35: 0 | O35: 0 | P35: =K35-L35+M35-N35+O35 -> 71856552 | Q35: 0 | R35: 71856552 | S35: 44309142 | T35: 44309142 | U35: 44309142 | V35: 44309142 | W35: =S35/P35 -> 0.61663329 | X35: =T35/P35 -> 0.61663329
A36: A | B36: 01 | C36: 01 | D36: 03 | E36: 016 | G36: 10 | H36: Nación | I36: CSF | J36: PRIMA DE COORDINACIÓN | K36: 423155252 | L36: 0 | M36: 0 | N36: 0 | O36: 0 | P36: =K36-L36+M36-N36+O36 -> 423155252 | Q36: 0 | R36: 423155252 | S36: 252692868 | T36: 252692868 | U36: 252692868 | V36: 252692868 | W36: =S36/P36 -> 0.59716349 | X36: =T36/P36 -> 0.59716349
A37: A | B37: 01 | C37: 01 | D37: 03 | E37: 030 | G37: 10 | H37: Nación | I37: CSF | J37: BONIFICACIÓN DE DIRECCIÓN | K37: 415171190 | L37: 0 | M37: 0 | N37: 0 | O37: 0 | P37: =K37-L37+M37-N37+O37 -> 415171190 | Q37: 0 | R37: 415171190 | S37: 315409785 | T37: 315409785 | U37: 315409785 | V37: 315409785 | W37: =S37/P37 -> 0.75971019 | X37: =T37/P37 -> 0.75971019
A38: A | B38: 02 | J38: ADQUISICIÓN DE BIENES Y SERVICIOS | K38: =K39+K41 -> 7967841118 | L38: =L39+L41 -> 1184543467 | M38: =M39+M41 -> 1184543467 | N38: =N41 -> 0 | O38: =O41 -> 0 | P38: =P39+P41 -> 7967841118 | Q38: =Q39+Q41 -> 0 | R38: =R39+R41 -> 7.7133428e+09 | S38: =S39+S41 -> 6.1797671e+09 | T38: =T39+T41 -> 3.472391e+09 | U38: =U39+U41 -> 3.472391e+09 | V38: =V39+V41 -> 3.472391e+09 | W38: =S38/P38 -> 0.77558864 | X38: =T38/P38 -> 0.43580073
A39: A | B39: 02 | C39: 01 | D39: 01 | J39: ACTIVOS FIJOS | K39: =K40 -> 1973833 | L39: =+L40 -> 0 | M39: =+M40 -> 241526167 | N39: =+N40 -> 0 | O39: =+O40 -> 0 | P39: =P40 -> 243500000 | Q39: =Q40 -> 0 | R39: =R40 -> 241500000 | S39: =S40 -> 165864282 | T39: =T40 -> 153380000 | U39: =U40 -> 153380000 | V39: =V40 -> 153380000 | W39: =S39/P39 -> 0.68116748 | X39: =T39/P39 -> 0.62989733
A40: A | B40: 02 | C40: 01 | D40: 01 | E40: 004 | G40: 10 | H40: Nación | I40: CSF | J40: MAQUINARIA Y EQUIPO | K40: 1973833 | L40: 0 | M40: =2526167+200000000+39000000 -> 241526167 | P40: =K40-L40+M40-N40+O40 -> 243500000 | Q40: 0 | R40: 241500000 | S40: 165864282 | T40: 153380000 | U40: 153380000 | V40: 153380000 | W40: =S40/P40 -> 0.68116748 | X40: =T40/P40 -> 0.62989733
A41: A | B41: 02 | C41: 02 | J41: ADQUISICIONES DIFERENTES DE ACTIVOS | K41: =K42+K47 -> 7965867285 | L41: =L42+L47 -> 1184543467 | M41: =M42+M47 -> 943017300 | N41: =N42+N47 -> 0 | O41: =O42+O47 -> 0 | P41: =K41-L41+M41-N41+O41 -> 7724341118 | Q41: =Q42+Q47 -> 0 | R41: =R42+R47 -> 7.4718428e+09 | S41: =S42+S47 -> 6.0139028e+09 | T41: =T42+T47 -> 3.319011e+09 | U41: =U42+U47 -> 3.319011e+09 | V41: =V42+V47 -> 3.319011e+09 | W41: =S41/P41 -> 0.77856515 | X41: =T41/P41 -> 0.42968209
A42: A | B42: 02 | C42: 02 | D42: 01 | J42: MATERIALES Y SUMINISTROS | K42: =SUM(K43:K46) -> 194500000 | L42: =SUM(L43:L46) -> 0 | M42: =SUM(M43:M46) -> 9900000 | N42: =SUM(N43:N46) -> 0 | O42: =SUM(O43:O46) -> 0 | P42: =SUM(P43:P46) -> 204400000 | Q42: =SUM(Q43:Q46) -> 0 | R42: =SUM(R43:R46) -> 177450000 | ... V42: =SUM(V43:V46) -> 29170707 | W42: =S42/P42 -> 0.37047558 | X42: =T42/P42 -> 0.14271383
A43: A | B43: 02 | C43: 02 | D43: 01 | E43: 001 | G43: 10 | H43: Nación | I43: CSF | J43: MINERALES; ELECTRICIDAD, GAS Y AGUA | K43: 1000000 | L43: 0 | M43: 0 | N43: 0 | O43: 0 | P43: =K43-L43+M43-N43+O43 -> 1000000 | Q43: 0 | R43: 250000 | S43: 250000 | T43: 250000 | U43: 250000 | V43: 250000 | W43: =S43/P43 -> 0.25 | X43: =T43/P43 -> 0.25
A44: A | B44: 02 | C44: 02 | D44: 01 | E44: 002 | G44: 10 | H44: Nación | I44: CSF | J44: PRODUCTOS ALIMENTICIOS, BEBIDAS Y TABACO; TEXTILES, PRENDAS DE VESTIR Y PRODUCTOS DE CUERO | K44: 14000000 | L44: 0 | M44: 0 | N44: 0 | O44: 0 | P44: =K44-L44+M44-N44+O44 -> 14000000 | Q44: 0 | R44: 14000000 | S44: 12275208 | T44: 0 | U44: 0 | V44: 0 | W44: =S44/P44 -> 0.87680057 | X44: =T44/P44 -> 0
A45: A | B45: 02 | C45: 02 | D45: 01 | E45: 003 | G45: 10 | H45: Nación | I45: CSF | J45: OTROS BIENES TRANSPORTABLES (EXCEPTO PRODUCTOS METÁLICOS, MAQUINARIA Y EQUIPO) | K45: 168500000 | L45: 0 | M45: =1000000+500000+300000+1100000+2000000 -> 4900000 | N45: 0 | O45: 0 | P45: =K45-L45+M45-N45+O45 -> 173400000 | Q45: 0 | R45: 160200000 | S45: 60200000 | T45: 25920707 | U45: 25920707 | V45: 25920707 | W45: =S45/P45 -> 0.34717416 | X45: =T45/P45 -> 0.14948505
A46: A | B46: 02 | C46: 02 | D46: 01 | E46: 004 | G46: 10 | H46: Nación | I46: CSF | J46: PRODUCTOS METÁLICOS Y PAQUETES DE SOFTWARE | K46: 11000000 | L46: 0 | M46: 5000000 | N46: 0 | O46: 0 | P46: =K46-L46+M46-N46+O46 -> 16000000 | Q46: 0 | R46: 3000000 | S46: 3000000 | T46: 3000000 | U46: 3000000 | V46: 3000000 | W46: =S46/P46 -> 0.1875 | X46: =T46/P46 -> 0.1875
...

Sheet GRÁFICOS (2)
C1: =+C3-'VIGENCIA ACTUAL '!P12 -> 0 | D1: =+D3-'VIGENCIA ACTUAL '!R12 -> 0 | E1: =+E3-'VIGENCIA ACTUAL '!S12 -> 0 | F1: =+F3-'VIGENCIA ACTUAL '!T12 -> 0 | G1: =+G3-'VIGENCIA ACTUAL '!V12 -> 0
C2: APROPIACIÓN VIGENTE | D2: CDP | E2: COMPROMISO | F2: OBLIGACIÓN | G2: PAGO | H2: CDP % | I2: RPC % | J2: OBLIGACIÓN % | K2: PAGO %
A3: A+B+C | B3: TOTAL PRESUPUESTO | C3: ='VIGENCIA ACTUAL '!P15 -> 496087196266 | D3: ='VIGENCIA ACTUAL '!R15 -> 4.8535278e+11 | E3: ='VIGENCIA ACTUAL '!S15 -> 4.1207137e+11 | F3: ='VIGENCIA ACTUAL '!T15 -> 2.6879058e+11 | G3: ='VIGENCIA ACTUAL '!V15 -> 2.6879058e+11 | H3: =D3/$C$3 -> 0.97836183 | I3: =E3/$C$3 -> 0.83064303 | J3: =F3/$C$3 -> 0.54182124 | K3: =G3/$C$3 -> 0.54182124
A5: A | B5: FUNCIONAMIENTO | C5: ='VIGENCIA ACTUAL '!P16 -> 54194708762 | D5: ='VIGENCIA ACTUAL '!R16 -> 4.8960838e+10 | E5: ='VIGENCIA ACTUAL '!S16 -> 2.5793663e+10 | F5: ='VIGENCIA ACTUAL '!T16 -> 2.3072991e+10 | G5: ='VIGENCIA ACTUAL '!V16 -> 2.3072991e+10 | H5: =D5/$C$5 -> 0.90342468 | I5: =E5/$C$5 -> 0.4759443 | J5: =F5/$C$5 -> 0.42574251 | K5: =G5/$C$5 -> 0.42574251
A6: C | B6: INVERSIÓN | C6: ='VIGENCIA ACTUAL '!P75 -> 441892487504 | D6: ='VIGENCIA ACTUAL '!R75 -> 4.3639194e+11 | E6: ='VIGENCIA ACTUAL '!S75 -> 3.8627771e+11 | F6: ='VIGENCIA ACTUAL '!T75 -> 2.4571759e+11 | G6: ='VIGENCIA ACTUAL '!V75 -> 2.4571759e+11 | H6: =D6/$C$6 -> 0.98755229 | I6: =E6/$C$6 -> 0.87414409 | J6: =F6/$C$6 -> 0.5560574 | K6: =G6/$C$6 -> 0.5560574
A8: A-01 | B8: GASTOS DE PERSONAL | C8: ='VIGENCIA ACTUAL '!P17 -> 28744574000 | D8: ='VIGENCIA ACTUAL '!R17 -> 28744574000 | E8: ='VIGENCIA ACTUAL '!S17 -> 14007052385 | F8: ='VIGENCIA ACTUAL '!T17 -> 14006878056 | G8: ='VIGENCIA ACTUAL '!V17 -> 14006878056 | H8: =D8/$C$8 -> 1 | I8: =E8/$C$8 -> 0.48729379 | J8: =F8/$C$8 -> 0.48728772 | K8: =G8/$C$8 -> 0.48728772
A9: A-02 | B9: ADQUISICIÓN DE BIENES Y SERVICIOS | C9: ='VIGENCIA ACTUAL '!P38 -> 7967841118 | D9: ='VIGENCIA ACTUAL '!R38 -> 7.7133428e+09 | E9: ='VIGENCIA ACTUAL '!S38 -> 6.1797671e+09 | F9: ='VIGENCIA ACTUAL '!T38 -> 3.472391e+09 | G9: ='VIGENCIA ACTUAL '!V38 -> 3.472391e+09 | H9: =D9/$C$9 -> 0.96805932 | I9: =E9/$C$9 -> 0.77558864 | J9: =F9/$C$9 -> 0.43580073 | K9: =G9/$C$9 -> 0.43580073
A10: A-03 | B10: TRANSFERENCIAS CORRIENTES | C10: ='VIGENCIA ACTUAL '!P53 -> 16404043644 | D10: ='VIGENCIA ACTUAL '!R53 -> 1.147686e+10 | E10: ='VIGENCIA ACTUAL '!S53 -> 5.6054524e+09 | F10: ='VIGENCIA ACTUAL '!T53 -> 5.5923312e+09 | G10: ='VIGENCIA ACTUAL '!V53 -> 5.5923312e+09 | H10: =D10/$C$10 -> 0.69963602 | I10: =E10/$C$10 -> 0.34171163 | J10: =F10/$C$10 -> 0.34091175 | K10: =G10/$C$10 -> 0.34091175
A11: A-08 | B11: GASTOS POR TRIBUTOS, MULTAS, SANCIONES E INTERESES DE MORA | C11: ='VIGENCIA ACTUAL '!P66 -> 1078250000 | D11: ='VIGENCIA ACTUAL '!R66 -> 1026061000 | E11: ='VIGENCIA ACTUAL '!S66 -> 1391000 | F11: ='VIGENCIA ACTUAL '!T66 -> 1391000 | G11: ='VIGENCIA ACTUAL '!V66 -> 1391000 | H11: =D11/$C$11 -> 0.95159842 | I11: =E11/$C$11 -> 0.0012900533 | J11: =F11/$C$11 -> 0.0012900533 | K11: =G11/$C$11 -> 0.0012900533
A14: C-4301 | B14: FOMENTO A LA RECREACIÓN, LA ACTIVIDAD FÍSICA Y EL DEPORTE PARA DESARROLLAR ENTORNOS DE CONVIVENCIA Y PAZ | C14: ='VIGENCIA ACTUAL '!P76 -> 137500000000 | D14: ='VIGENCIA ACTUAL '!R76 -> 137133546664 | E14: ='VIGENCIA ACTUAL '!S76 -> 120753971827 | F14: ='VIGENCIA ACTUAL '!T76 -> 103845090266 | G14: ='VIGENCIA ACTUAL '!V76 -> 103845090266 | H14: =D14/$C$14 -> 0.99733488 | I14: =E14/$C$14 -> 0.8782107 | J14: =F14/$C$14 -> 0.75523702 | K14: =G14/$C$14 -> 0.75523702
A15: C-4302 | B15: FORMACIÓN Y PREPARACIÓN DE DEPORTISTAS | C15: ='VIGENCIA ACTUAL '!P89 -> 281803487504 | D15: ='VIGENCIA ACTUAL '!R89 -> 277326793948 | E15: ='VIGENCIA ACTUAL '!S89 -> 2.4854498e+11 | F15: ='VIGENCIA ACTUAL '!T89 -> 1.3601696e+11 | G15: ='VIGENCIA ACTUAL '!V89 -> 1.3601696e+11 | H15: =D15/$C$15 -> 0.98411413 | I15: =E15/$C$15 -> 0.88197978 | J15: =F15/$C$15 -> 0.48266599 | K15: =G15/$C$15 -> 0.48266599
A16: C-4399 | B16: ='VIGENCIA ACTUAL '!J117 -> FORTALECIMIENTO Y APOYO A LA GESTIÓN INSTITUCIONAL DEL SECTOR RECREACIÓN Y DEPORTE | C16: ='VIGENCIA ACTUAL '!P117 -> 22589000000 | D16: ='VIGENCIA ACTUAL '!R117 -> 2.1931598e+10 | E16: ='VIGENCIA ACTUAL '!S117 -> 1.697876e+10 | F16: ='VIGENCIA ACTUAL '!T117 -> 5.8555387e+09 | G16: ='VIGENCIA ACTUAL '!V117 -> 5.8555387e+09 | H16: =D16/$C$16 -> 0.97089724 | I16: =E16/$C$16 -> 0.75163841 | J16: =F16/$C$16 -> 0.2592208 | K16: =G16/$C$16 -> 0.2592208
A18: C-4301-1604-13-20203B | B18: ='VIGENCIA ACTUAL '!J79 -> 2. SEGURIDAD HUMANA Y JUSTICIA SOCIAL / B. RESIGNIFICACIÓN DE LA JORNADA ESCOLAR: MÁS QUE TIEMPO | C18: ='VIGENCIA ACTUAL '!K78 -> 115000000000 | D18: ='VIGENCIA ACTUAL '!R78 -> 114883546664 | E18: ='VIGENCIA ACTUAL '!S78 -> 114528290255 | F18: =+'VIGENCIA ACTUAL '!T78 -> 1.0088477e+11 | G18: =+'VIGENCIA ACTUAL '!V78 -> 1.0088477e+11 | H18: =D18/$C$18 -> 0.99898736 | I18: =E18/$C$18 -> 0.99589818 | J18: =F18/$C$18 -> 0.8772589 | K18: =G18/$C$18 -> 0.8772589
A19: C-4301-1604-14-20303A | B19: ='VIGENCIA ACTUAL '!J85 -> 2. SEGURIDAD HUMANA Y JUSTICIA SOCIAL / A. DEMOCRATIZAR EL ACCESO DE LA POBLACIÓN AL DEPORTE, LA RECREACIÓN Y LA ACTIVIDAD FÍSICA | C19: ='VIGENCIA ACTUAL '!P85 -> 22500000000 | D19: ='VIGENCIA ACTUAL '!R85 -> 22250000000 | E19: ='VIGENCIA ACTUAL '!S85 -> 6225681572 | F19: ='VIGENCIA ACTUAL '!T85 -> 2.9603172e+09 | G19: ='VIGENCIA ACTUAL '!V85 -> 2.9603172e+09 | H19: =D19/$C$19 -> 0.98888889 | I19: =E19/$C$19 -> 0.27669696 | J19: =F19/$C$19 -> 0.13156965 | K19: =G19/$C$19 -> 0.13156965
A20: C-4302-1604-20-20303D | B20: ='VIGENCIA ACTUAL '!J92 -> 2. SEGURIDAD HUMANA/D. SISTEMA DE INFORMACIÓN DEL DEPORTE, LA RECREACIÓN Y LA ACTIVIDAD FÍSICA | C20: ='VIGENCIA ACTUAL '!P92 -> 2000000000 | D20: ='VIGENCIA ACTUAL '!R92 -> 1858943000 | E20: ='VIGENCIA ACTUAL '!S92 -> 1845526964 | F20: ='VIGENCIA ACTUAL '!T92 -> 812955301 | G20: ='VIGENCIA ACTUAL '!V92 -> 812955301 | H20: =D20/$C$20 -> 0.9294715 | I20: =E20/$C$20 -> 0.92276348 | J20: =F20/$C$20 -> 0.40647765 | K20: =G20/$C$20 -> 0.40647765
A21: C-4302-1604-23-20303A | B21: ='VIGENCIA ACTUAL '!J95 -> 2. SEGURIDAD HUMANA Y JUSTICIA SOCIAL / A. DEMOCRATIZAR EL ACCESO DE LA POBLACIÓN AL DEPORTE, LA RECREACIÓN Y LA ACTIVIDAD FÍSICA | C21: ='VIGENCIA ACTUAL '!P95 -> 2975000000 | D21: ='VIGENCIA ACTUAL '!R95 -> 2904694480 | E21: ='VIGENCIA ACTUAL '!S95 -> 2794601186 | F21: ='VIGENCIA ACTUAL '!T95 -> 1.2626062e+09 | G21: ='VIGENCIA ACTUAL '!V95 -> 1.2626062e+09 | H21: =D21/$C$21 -> 0.97636789 | I21: =E21/$C$21 -> 0.93936174 | J21: =F21/$C$21 -> 0.42440546 | K21: =G21/$C$21 -> 0.42440546
A22: C-4302-1604-24-20303E | B22: ='VIGENCIA ACTUAL '!J98 -> 2. SEGURIDAD HUMANA Y JUSTICIA SOCIAL / E. ATLETAS Y PARATLETAS COMO EMBAJADORES DE PAZ EN EL MUNDO | C22: ='VIGENCIA ACTUAL '!P98 -> 2600000000 | D22: ='VIGENCIA ACTUAL '!R98 -> 2560000000 | E22: ='VIGENCIA ACTUAL '!S98 -> 1.145243e+09 | F22: ='VIGENCIA ACTUAL '!T98 -> 8.6020747e+08 | G22: ='VIGENCIA ACTUAL '!V98 -> 8.6020747e+08 | H22: =D22/$C$22 -> 0.98461538 | I22: =E22/$C$22 -> 0.44047809 | J22: =F22/$C$22 -> 0.33084903 | K22: =G22/$C$22 -> 0.33084903
A23: C-4302-1604-26-20303E | B23: ='VIGENCIA ACTUAL '!J102 -> 2. SEGURIDAD HUMANA Y JUSTICIA SOCIAL / E. ATLETAS Y PARATLETAS COMO EMBAJADORES DE PAZ EN EL MUNDO | C23: =+'VIGENCIA ACTUAL '!P101 -> 105434000000 | D23: ='VIGENCIA ACTUAL '!R102 -> 104829845482 | E23: ='VIGENCIA ACTUAL '!S102 -> 91689854265 | F23: ='VIGENCIA ACTUAL '!T102 -> 53460192549 | G23: ='VIGENCIA ACTUAL '!V102 -> 53460192549 | H23: =D23/$C$23 -> 0.99426983 | I23: =E23/$C$23 -> 0.86964219 | J23: =F23/$C$23 -> 0.50704889 | K23: =G23/$C$23 -> 0.50704889
A24: C-4399-1604-27-20303E | B24: ='VIGENCIA ACTUAL '!J109 -> 2. SEGURIDAD HUMANA Y JUSTICIA SOCIAL / E. ATLETAS Y PARATLETAS COMO EMBAJADORES DE PAZ EN EL MUNDO | C24: ='VIGENCIA ACTUAL '!P109 -> 2000000000 | D24: ='VIGENCIA ACTUAL '!R109 -> 1929800000 | E24: ='VIGENCIA ACTUAL '!S109 -> 187200000 | F24: =+'VIGENCIA ACTUAL '!T108 -> 59896666 | G24: ='VIGENCIA ACTUAL '!V109 -> 59896666 | H24: =D24/$C$24 -> 0.9649 | I24: =E24/$C$24 -> 0.0936 | J24: =F24/$C$24 -> 0.029948333 | K24: =G24/$C$24 -> 0.029948333
A25: C-4399-1604-28-20303A | B25: ='VIGENCIA ACTUAL '!J112 -> 2. SEGURIDAD HUMANA Y JUSTICIA SOCIAL / A. DEMOCRATIZAR EL ACCESO DE LA POBLACIÓN AL DEPORTE, LA RECREACIÓN Y LA ACTIVIDAD FÍSICA | C25: ='VIGENCIA ACTUAL '!P112 -> 131662322834 | D25: ='VIGENCIA ACTUAL '!R112 -> 128394031121 | E25: ='VIGENCIA ACTUAL '!S112 -> 117010526069 | F25: ='VIGENCIA ACTUAL '!T112 -> 6.2986217e+10 | G25: ='VIGENCIA ACTUAL '!V112 -> 6.2986217e+10 | H25: =D25/C25 -> 0.97517671 | I25: =E25/C25 -> 0.88871686 | J25: =F25/C25 -> 0.47839212 | K25: =G25/C25 -> 0.47839212
A26: C-4399-1604-29-20303F | B26: ='VIGENCIA ACTUAL '!J115 -> 2. SEGURIDAD HUMANA Y JUSTICIA SOCIAL / F. EL DEPORTE, LA RECREACIÓN Y LA ACTIVIDAD FÍSICA COMO EJE DE LA ECONOMÍA POPULAR | C26: ='VIGENCIA ACTUAL '!P115 -> 35132164670 | D26: ='VIGENCIA ACTUAL '!R115 -> 34849479865 | E26: ='VIGENCIA ACTUAL '!S115 -> 33872025047 | F26: ='VIGENCIA ACTUAL '!T115 -> 1.6574884e+10 | G26: ='VIGENCIA ACTUAL '!V115 -> 1.6574884e+10 | H26: =D26/$C$26 -> 0.99195368 | I26: =E26/C26 -> 0.96413146 | J26: =F26/C26 -> 0.4717866 | K26: =G26/C26 -> 0.4717866
A27: C-4399-1604-7-20303D | B27: ='VIGENCIA ACTUAL '!J120 -> 2. SEGURIDAD HUMANA Y JUSTICIA SOCIAL / D. SISTEMA DE INFORMACIÓN DEL DEPORTE, LA RECREACIÓN Y LA ACTIVIDAD FÍSICA | C27: ='VIGENCIA ACTUAL '!P120 -> 7000000000 | D27: ='VIGENCIA ACTUAL '!R120 -> 6.8919627e+09 | E27: ='VIGENCIA ACTUAL '!S120 -> 2.598075e+09 | F27: ='VIGENCIA ACTUAL '!T120 -> 1.0194873e+09 | G27: ='VIGENCIA ACTUAL '!V120 -> 1.0194873e+09 | H27: =D27/C27 -> 0.9845661 | I27: =E27/C27 -> 0.37115358 | J27: =F27/C27 -> 0.14564104 | K27: =G27/C27 -> 0.14564104
A28: C-4399-1604-8-53105B | B28: ='VIGENCIA ACTUAL '!J123 -> 5. CONVERGENCIA REGIONAL / B. ENTIDADES PÚBLICAS TERRITORIALES Y NACIONALES FORTALECIDAS | C28: ='VIGENCIA ACTUAL '!P123 -> 9764000000 | D28: ='VIGENCIA ACTUAL '!R123 -> 9.3843044e+09 | E28: ='VIGENCIA ACTUAL '!S123 -> 8.902008e+09 | F28: ='VIGENCIA ACTUAL '!T123 -> 2.4614619e+09 | G28: ='VIGENCIA ACTUAL '!V123 -> 2.4614619e+09 | H28: =D28/$C$28 -> 0.9611127 | I28: =E28/$C$28 -> 0.91171733 | J28: =F28/$C$28 -> 0.25209565 | K28: =G28/$C$28 -> 0.25209565
A29: C-4399-1604-10-53105B | B29: ='VIGENCIA ACTUAL '!J126 -> 5. CONVERGENCIA REGIONAL / B. ENTIDADES PÚBLICAS TERRITORIALES Y NACIONALES FORTALECIDAS | C29: ='VIGENCIA ACTUAL '!P126 -> 5825000000 | D29: ='VIGENCIA ACTUAL '!R126 -> 5655330800 | E29: ='VIGENCIA ACTUAL '!S126 -> 5.478677e+09 | F29: ='VIGENCIA ACTUAL '!T126 -> 2.3745896e+09 | G29: ='VIGENCIA ACTUAL '!V126 -> 2.3745896e+09 | H29: =D29/$C$29 -> 0.97087224 | I29: =E29/$C$29 -> 0.94054541 | J29: =F29/$C$29 -> 0.40765486 | K29: =G29/$C$29 -> 0.40765486
C32: APROPIACIÓN VIGENTE | D32: PORCENTAJE | G32: COMPROMISO ACUMULADOS | H32: OBLIGACIÓN ACUMULADOS | I32: PAGOS ACUMULADOS
B33: FUNCIONAMIENTO | C33: =+C5 -> 54194708762 | D33: =C33/$C$35 -> 0.10924432 | G33: =+E3 -> 4.1207137e+11 | H33: =+F3 -> 2.6879058e+11 | I33: =+G3 -> 2.6879058e+11
B34: INVERSIÓN | C34: =+C6 -> 441892487504 | D34: =C34/$C$35 -> 0.89075568
B35: TOTAL | C35: =SUM(C33:C34) -> 496087196266 | D35: =SUM(D33:D34) -> 1
A237: EJECUCIÓN DEL PRESUPUESTO DE INVERSIÓN NACIÓN
A238: Por Proyectos de Inversión
A239: Expresado en millones de pesos
A241: RUBRO | B241: DESCRIPCIÓN | C241: APROPIACIÓN VIGENTE | D241: COMPROMISO | E241: % | F241: OBLIGACIÓN | G241: % | H241: PAGOS | I241: %
A242: C-4301-1604-13-20203B | B242: =B18 -> 2. SEGURIDAD HUMANA Y JUSTICIA SOCIAL / B. RESIGNIFICACIÓN DE LA JORNADA ESCOLAR: MÁS QUE TIEMPO | C242: =C18 -> 115000000000 | D242: =E18 -> 114528290255 | E242: =I18 -> 0.99589818 | F242: =F18 -> 1.0088477e+11 | G242: =J18 -> 0.8772589 | H242: =G18 -> 1.0088477e+11 | I242: =K18 -> 0.8772589
A243: C-4301-1604-14-20303A | B243: =B19 -> 2. SEGURIDAD HUMANA Y JUSTICIA SOCIAL / A. DEMOCRATIZAR EL ACCESO DE LA POBLACIÓN AL DEPORTE, LA RECREACIÓN Y LA ACTIVIDAD FÍSICA | C243: =C19 -> 22500000000 | D243: =E19 -> 6225681572 | E243: =I19 -> 0.27669696 | F243: =F19 -> 2.9603172e+09 | G243: =J19 -> 0.13156965 | H243: =G19 -> 2.9603172e+09 | I243: =K19 -> 0.13156965
A244: C-4302-1604-20-20303D | B244: =B20 -> 2. SEGURIDAD HUMANA/D. SISTEMA DE INFORMACIÓN DEL DEPORTE, LA RECREACIÓN Y LA ACTIVIDAD FÍSICA | C244: =C20 -> 2000000000 | D244: =E20 -> 1845526964 | E244: =I20 -> 0.92276348 | F244: =F20 -> 812955301 | G244: =J20 -> 0.40647765 | H244: =G20 -> 812955301 | I244: =K20 -> 0.40647765
A245: C-4302-1604-23-20303A | B245: =B21 -> 2. SEGURIDAD HUMANA Y JUSTICIA SOCIAL / A. DEMOCRATIZAR EL ACCESO DE LA POBLACIÓN AL DEPORTE, LA RECREACIÓN Y LA ACTIVIDAD FÍSICA | C245: =C21 -> 2975000000 | D245: =E21 -> 2794601186 | E245: =I21 -> 0.93936174 | F245: =F21 -> 1.2626062e+09 | G245: =J21 -> 0.42440546 | H245: =G21 -> 1.2626062e+09 | I245: =K21 -> 0.42440546
A246: C-4302-1604-24-20303E | B246: =B22 -> 2. SEGURIDAD HUMANA Y JUSTICIA SOCIAL / E. ATLETAS Y PARATLETAS COMO EMBAJADORES DE PAZ EN EL MUNDO | C246: =C22 -> 2600000000 | D246: =E22 -> 1.145243e+09 | E246: =I22 -> 0.44047809 | F246: =F22 -> 8.6020747e+08 | G246: =J22 -> 0.33084903 | H246: =G22 -> 8.6020747e+08 | I246: =K22 -> 0.33084903
A247: C-4302-1604-26-20303E | B247: =B23 -> 2. SEGURIDAD HUMANA Y JUSTICIA SOCIAL / E. ATLETAS Y PARATLETAS COMO EMBAJADORES DE PAZ EN EL MUNDO | C247: =C23 -> 105434000000 | D247: =E23 -> 91689854265 | E247: =I23 -> 0.86964219 | F247: =F23 -> 53460192549 | G247: =J23 -> 0.50704889 | H247: =G23 -> 53460192549 | I247: =K23 -> 0.50704889
A248: RUBRO | B248: DESCRIPCIÓN | C248: APROPIACIÓN VIGENTE | D248: COMPROMISO | E248: % | F248: OBLIGACIÓN | G248: % | H248: PAGOS | I248: %
A249: C-4302-1604-27-20303E | B249: =B24 -> 2. SEGURIDAD HUMANA Y JUSTICIA SOCIAL / E. ATLETAS Y PARATLETAS COMO EMBAJADORES DE PAZ EN EL MUNDO | C249: =C24 -> 2000000000 | D249: =E24 -> 187200000 | E249: =I24 -> 0.0936 | F249: =F24 -> 59896666 | G249: =J24 -> 0.029948333 | H249: =G24 -> 59896666 | I249: =K24 -> 0.029948333
...

Sheet GRÁFICOS (3)
C1: =+C3-'VIGENCIA ACTUAL '!P12 -> 0 | D1: =+D3-'VIGENCIA ACTUAL '!R12 -> 0 | E1: =+E3-'VIGENCIA ACTUAL '!S12 -> 0 | F1: =+F3-'VIGENCIA ACTUAL '!T12 -> 0 | G1: =+G3-'VIGENCIA ACTUAL '!V12 -> 0
C2: APROPIACIÓN VIGENTE | D2: CDP | E2: COMPROMISO | F2: OBLIGACIÓN | G2: PAGO | H2: CDP % | I2: RPC % | J2: OBLIGACIÓN % | K2: PAGO %
A3: A+B+C | B3: TOTAL PRESUPUESTO | C3: ='VIGENCIA ACTUAL '!P15 -> 496087196266 | D3: ='VIGENCIA ACTUAL '!R15 -> 4.8535278e+11 | E3: ='VIGENCIA ACTUAL '!S15 -> 4.1207137e+11 | F3: ='VIGENCIA ACTUAL '!T15 -> 2.6879058e+11 | G3: ='VIGENCIA ACTUAL '!V15 -> 2.6879058e+11 | H3: =D3/$C$3 -> 0.97836183 | I3: =E3/$C$3 -> 0.83064303 | J3: =F3/$C$3 -> 0.54182124 | K3: =G3/$C$3 -> 0.54182124
A5: A | B5: FUNCIONAMIENTO | C5: ='VIGENCIA ACTUAL '!P16 -> 54194708762 | D5: ='VIGENCIA ACTUAL '!R16 -> 4.8960838e+10 | E5: ='VIGENCIA ACTUAL '!S16 -> 2.5793663e+10 | F5: ='VIGENCIA ACTUAL '!T16 -> 2.3072991e+10 | G5: ='VIGENCIA ACTUAL '!V16 -> 2.3072991e+10 | H5: =D5/$C$5 -> 0.90342468 | I5: =E5/$C$5 -> 0.4759443 | J5: =F5/$C$5 -> 0.42574251 | K5: =G5/$C$5 -> 0.42574251
A6: C | B6: INVERSIÓN | C6: ='VIGENCIA ACTUAL '!P75 -> 441892487504 | D6: ='VIGENCIA ACTUAL '!R75 -> 4.3639194e+11 | E6: ='VIGENCIA ACTUAL '!S75 -> 3.8627771e+11 | F6: ='VIGENCIA ACTUAL '!T75 -> 2.4571759e+11 | G6: ='VIGENCIA ACTUAL '!V75 -> 2.4571759e+11 | H6: =D6/$C$6 -> 0.98755229 | I6: =E6/$C$6 -> 0.87414409 | J6: =F6/$C$6 -> 0.5560574 | K6: =G6/$C$6 -> 0.5560574
A8: A-01 | B8: GASTOS DE PERSONAL | C8: ='VIGENCIA ACTUAL '!P17 -> 28744574000 | D8: ='VIGENCIA ACTUAL '!R17 -> 28744574000 | E8: ='VIGENCIA ACTUAL '!S17 -> 14007052385 | F8: ='VIGENCIA ACTUAL '!T17 -> 14006878056 | G8: ='VIGENCIA ACTUAL '!V17 -> 14006878056 | H8: =D8/$C$8 -> 1 | I8: =E8/$C$8 -> 0.48729379 | J8: =F8/$C$8 -> 0.48728772 | K8: =G8/$C$8 -> 0.48728772
A9: A-02 | B9: ADQUISICIÓN DE BIENES Y SERVICIOS | C9: ='VIGENCIA ACTUAL '!P38 -> 7967841118 | D9: ='VIGENCIA ACTUAL '!R38 -> 7.7133428e+09 | E9: ='VIGENCIA ACTUAL '!S38 -> 6.1797671e+09 | F9: ='VIGENCIA ACTUAL '!T38 -> 3.472391e+09 | G9: ='VIGENCIA ACTUAL '!V38 -> 3.472391e+09 | H9: =D9/$C$9 -> 0.96805932 | I9: =E9/$C$9 -> 0.77558864 | J9: =F9/$C$9 -> 0.43580073 | K9: =G9/$C$9 -> 0.43580073
A10: A-03 | B10: TRANSFERENCIAS CORRIENTES | C10: ='VIGENCIA ACTUAL '!P53 -> 16404043644 | D10: ='VIGENCIA ACTUAL '!R53 -> 1.147686e+10 | E10: ='VIGENCIA ACTUAL '!S53 -> 5.6054524e+09 | F10: ='VIGENCIA ACTUAL '!T53 -> 5.5923312e+09 | G10: ='VIGENCIA ACTUAL '!V53 -> 5.5923312e+09 | H10: =D10/$C$10 -> 0.69963602 | I10: =E10/$C$10 -> 0.34171163 | J10: =F10/$C$10 -> 0.34091175 | K10: =G10/$C$10 -> 0.34091175
A11: A-08 | B11: GASTOS POR TRIBUTOS, MULTAS, SANCIONES E INTERESES DE MORA | C11: ='VIGENCIA ACTUAL '!P66 -> 1078250000 | D11: ='VIGENCIA ACTUAL '!R66 -> 1026061000 | E11: ='VIGENCIA ACTUAL '!S66 -> 1391000 | F11: ='VIGENCIA ACTUAL '!T66 -> 1391000 | G11: ='VIGENCIA ACTUAL '!V66 -> 1391000 | H11: =D11/$C$11 -> 0.95159842 | I11: =E11/$C$11 -> 0.0012900533 | J11: =F11/$C$11 -> 0.0012900533 | K11: =G11/$C$11 -> 0.0012900533
A14: C-4301 | B14: FOMENTO A LA RECREACIÓN, LA ACTIVIDAD FÍSICA Y EL DEPORTE PARA DESARROLLAR ENTORNOS DE CONVIVENCIA Y PAZ | C14: ='VIGENCIA ACTUAL '!P76 -> 137500000000 | D14: ='VIGENCIA ACTUAL '!R76 -> 137133546664 | E14: ='VIGENCIA ACTUAL '!S76 -> 120753971827 | F14: ='VIGENCIA ACTUAL '!T76 -> 103845090266 | G14: ='VIGENCIA ACTUAL '!V76 -> 103845090266 | H14: =D14/$C$14 -> 0.99733488 | I14: =E14/$C$14 -> 0.8782107 | J14: =F14/$C$14 -> 0.75523702 | K14: =G14/$C$14 -> 0.75523702
A15: C-4302 | B15: FORMACIÓN Y PREPARACIÓN DE DEPORTISTAS | C15: ='VIGENCIA ACTUAL '!P89 -> 281803487504 | D15: ='VIGENCIA ACTUAL '!R89 -> 277326793948 | E15: ='VIGENCIA ACTUAL '!S89 -> 2.4854498e+11 | F15: ='VIGENCIA ACTUAL '!T89 -> 1.3601696e+11 | G15: ='VIGENCIA ACTUAL '!V89 -> 1.3601696e+11 | H15: =D15/$C$15 -> 0.98411413 | I15: =E15/$C$15 -> 0.88197978 | J15: =F15/$C$15 -> 0.48266599 | K15: =G15/$C$15 -> 0.48266599
A16: C-4399 | B16: ='VIGENCIA ACTUAL '!J117 -> FORTALECIMIENTO Y APOYO A LA GESTIÓN INSTITUCIONAL DEL SECTOR RECREACIÓN Y DEPORTE | C16: ='VIGENCIA ACTUAL '!P117 -> 22589000000 | D16: ='VIGENCIA ACTUAL '!R117 -> 2.1931598e+10 | E16: ='VIGENCIA ACTUAL '!S117 -> 1.697876e+10 | F16: ='VIGENCIA ACTUAL '!T117 -> 5.8555387e+09 | G16: ='VIGENCIA ACTUAL '!V117 -> 5.8555387e+09 | H16: =D16/$C$16 -> 0.97089724 | I16: =E16/$C$16 -> 0.75163841 | J16: =F16/$C$16 -> 0.2592208 | K16: =G16/$C$16 -> 0.2592208
A18: C-4301-1604-13-20203B | B18: ='VIGENCIA ACTUAL '!J79 -> 2. SEGURIDAD HUMANA Y JUSTICIA SOCIAL / B. RESIGNIFICACIÓN DE LA JORNADA ESCOLAR: MÁS QUE TIEMPO | C18: ='VIGENCIA ACTUAL '!K78 -> 115000000000 | D18: ='VIGENCIA ACTUAL '!R78 -> 114883546664 | E18: ='VIGENCIA ACTUAL '!S78 -> 114528290255 | F18: =+'VIGENCIA ACTUAL '!T78 -> 1.0088477e+11 | G18: =+'VIGENCIA ACTUAL '!V78 -> 1.0088477e+11 | H18: =D18/$C$18 -> 0.99898736 | I18: =E18/$C$18 -> 0.99589818 | J18: =F18/$C$18 -> 0.8772589 | K18: =G18/$C$18 -> 0.8772589
A19: C-4301-1604-14-20303A | B19: ='VIGENCIA ACTUAL '!J85 -> 2. SEGURIDAD HUMANA Y JUSTICIA SOCIAL / A. DEMOCRATIZAR EL ACCESO DE LA POBLACIÓN AL DEPORTE, LA RECREACIÓN Y LA ACTIVIDAD FÍSICA | C19: ='VIGENCIA ACTUAL '!P85 -> 22500000000 | D19: ='VIGENCIA ACTUAL '!R85 -> 22250000000 | E19: ='VIGENCIA ACTUAL '!S85 -> 6225681572 | F19: ='VIGENCIA ACTUAL '!T85 -> 2.9603172e+09 | G19: ='VIGENCIA ACTUAL '!V85 -> 2.9603172e+09 | H19: =D19/$C$19 -> 0.98888889 | I19: =E19/$C$19 -> 0.27669696 | J19: =F19/$C$19 -> 0.13156965 | K19: =G19/$C$19 -> 0.13156965
A20: C-4302-1604-20-20303D | B20: ='VIGENCIA ACTUAL '!J92 -> 2. SEGURIDAD HUMANA/D. SISTEMA DE INFORMACIÓN DEL DEPORTE, LA RECREACIÓN Y LA ACTIVIDAD FÍSICA | C20: ='VIGENCIA ACTUAL '!P92 -> 2000000000 | D20: ='VIGENCIA ACTUAL '!R92 -> 1858943000 | E20: ='VIGENCIA ACTUAL '!S92 -> 1845526964 | F20: ='VIGENCIA ACTUAL '!T92 -> 812955301 | G20: ='VIGENCIA ACTUAL '!V92 -> 812955301 | H20: =D20/$C$20 -> 0.9294715 | I20: =E20/$C$20 -> 0.92276348 | J20: =F20/$C$20 -> 0.40647765 | K20: =G20/$C$20 -> 0.40647765
A21: C-4302-1604-23-20303A | B21: ='VIGENCIA ACTUAL '!J95 -> 2. SEGURIDAD HUMANA Y JUSTICIA SOCIAL / A. DEMOCRATIZAR EL ACCESO DE LA POBLACIÓN AL DEPORTE, LA RECREACIÓN Y LA ACTIVIDAD FÍSICA | C21: ='VIGENCIA ACTUAL '!P95 -> 2975000000 | D21: ='VIGENCIA ACTUAL '!R95 -> 2904694480 | E21: ='VIGENCIA ACTUAL '!S95 -> 2794601186 | F21: ='VIGENCIA ACTUAL '!T95 -> 1.2626062e+09 | G21: ='VIGENCIA ACTUAL '!V95 -> 1.2626062e+09 | H21: =D21/$C$21 -> 0.97636789 | I21: =E21/$C$21 -> 0.93936174 | J21: =F21/$C$21 -> 0.42440546 | K21: =G21/$C$21 -> 0.42440546
A22: C-4302-1604-24-20303E | B22: ='VIGENCIA ACTUAL '!J98 -> 2. SEGURIDAD HUMANA Y JUSTICIA SOCIAL / E. ATLETAS Y PARATLETAS COMO EMBAJADORES DE PAZ EN EL MUNDO | C22: ='VIGENCIA ACTUAL '!P98 -> 2600000000 | D22: ='VIGENCIA ACTUAL '!R98 -> 2560000000 | E22: ='VIGENCIA ACTUAL '!S98 -> 1.145243e+09 | F22: ='VIGENCIA ACTUAL '!T98 -> 8.6020747e+08 | G22: ='VIGENCIA ACTUAL '!V98 -> 8.6020747e+08 | H22: =D22/$C$22 -> 0.98461538 | I22: =E22/$C$22 -> 0.44047809 | J22: =F22/$C$22 -> 0.33084903 | K22: =G22/$C$22 -> 0.33084903
A23: C-4302-1604-26-20303E | B23: ='VIGENCIA ACTUAL '!J102 -> 2. SEGURIDAD HUMANA Y JUSTICIA SOCIAL / E. ATLETAS Y PARATLETAS COMO EMBAJADORES DE PAZ EN EL MUNDO | C23: =+'VIGENCIA ACTUAL '!P101 -> 105434000000 | D23: ='VIGENCIA ACTUAL '!R102 -> 104829845482 | E23: ='VIGENCIA ACTUAL '!S102 -> 91689854265 | F23: ='VIGENCIA ACTUAL '!T102 -> 53460192549 | G23: ='VIGENCIA ACTUAL '!V102 -> 53460192549 | H23: =D23/$C$23 -> 0.99426983 | I23: =E23/$C$23 -> 0.86964219 | J23: =F23/$C$23 -> 0.50704889 | K23: =G23/$C$23 -> 0.50704889
A24: C-4302-1604-27-20303E | B24: ='VIGENCIA ACTUAL '!J109 -> 2. SEGURIDAD HUMANA Y JUSTICIA SOCIAL / E. ATLETAS Y PARATLETAS COMO EMBAJADORES DE PAZ EN EL MUNDO | C24: ='VIGENCIA ACTUAL '!P109 -> 2000000000 | D24: ='VIGENCIA ACTUAL '!R109 -> 1929800000 | E24: ='VIGENCIA ACTUAL '!S109 -> 187200000 | F24: =+'VIGENCIA ACTUAL '!T108 -> 59896666 | G24: ='VIGENCIA ACTUAL '!V109 -> 59896666 | H24: =D24/$C$24 -> 0.9649 | I24: =E24/$C$24 -> 0.0936 | J24: =F24/$C$24 -> 0.029948333 | K24: =G24/$C$24 -> 0.029948333
A25: C-4302-1604-28-20303A | B25: ='VIGENCIA ACTUAL '!J112 -> 2. SEGURIDAD HUMANA Y JUSTICIA SOCIAL / A. DEMOCRATIZAR EL ACCESO DE LA POBLACIÓN AL DEPORTE, LA RECREACIÓN Y LA ACTIVIDAD FÍSICA | C25: ='VIGENCIA ACTUAL '!P112 -> 131662322834 | D25: ='VIGENCIA ACTUAL '!R112 -> 128394031121 | E25: ='VIGENCIA ACTUAL '!S112 -> 117010526069 | F25: ='VIGENCIA ACTUAL '!T112 -> 6.2986217e+10 | G25: ='VIGENCIA ACTUAL '!V112 -> 6.2986217e+10 | H25: =D25/C25 -> 0.97517671 | I25: =E25/C25 -> 0.88871686 | J25: =F25/C25 -> 0.47839212 | K25: =G25/C25 -> 0.47839212
A26: C-4302-1604-29-20303F | B26: ='VIGENCIA ACTUAL '!J115 -> 2. SEGURIDAD HUMANA Y JUSTICIA SOCIAL / F. EL DEPORTE, LA RECREACIÓN Y LA ACTIVIDAD FÍSICA COMO EJE DE LA ECONOMÍA POPULAR | C26: ='VIGENCIA ACTUAL '!P115 -> 35132164670 | D26: ='VIGENCIA ACTUAL '!R115 -> 34849479865 | E26: ='VIGENCIA ACTUAL '!S115 -> 33872025047 | F26: ='VIGENCIA ACTUAL '!T115 -> 1.6574884e+10 | G26: ='VIGENCIA ACTUAL '!V115 -> 1.6574884e+10 | H26: =D26/$C$26 -> 0.99195368 | I26: =E26/C26 -> 0.96413146 | J26: =F26/C26 -> 0.4717866 | K26: =G26/C26 -> 0.4717866
A27: C-4399-1604-7-20303D | B27: ='VIGENCIA ACTUAL '!J120 -> 2. SEGURIDAD HUMANA Y JUSTICIA SOCIAL / D. SISTEMA DE INFORMACIÓN DEL DEPORTE, LA RECREACIÓN Y LA ACTIVIDAD FÍSICA | C27: ='VIGENCIA ACTUAL '!P120 -> 7000000000 | D27: ='VIGENCIA ACTUAL '!R120 -> 6.8919627e+09 | E27: ='VIGENCIA ACTUAL '!S120 -> 2.598075e+09 | F27: ='VIGENCIA ACTUAL '!T120 -> 1.0194873e+09 | G27: ='VIGENCIA ACTUAL '!V120 -> 1.0194873e+09 | H27: =D27/C27 -> 0.9845661 | I27: =E27/C27 -> 0.37115358 | J27: =F27/C27 -> 0.14564104 | K27: =G27/C27 -> 0.14564104
A28: C-4399-1604-8-53105B | B28: ='VIGENCIA ACTUAL '!J123 -> 5. CONVERGENCIA REGIONAL / B. ENTIDADES PÚBLICAS TERRITORIALES Y NACIONALES FORTALECIDAS | C28: ='VIGENCIA ACTUAL '!P123 -> 9764000000 | D28: ='VIGENCIA ACTUAL '!R123 -> 9.3843044e+09 | E28: ='VIGENCIA ACTUAL '!S123 -> 8.902008e+09 | F28: ='VIGENCIA ACTUAL '!T123 -> 2.4614619e+09 | G28: ='VIGENCIA ACTUAL '!V123 -> 2.4614619e+09 | H28: =D28/$C$28 -> 0.9611127 | I28: =E28/$C$28 -> 0.91171733 | J28: =F28/$C$28 -> 0.25209565 | K28: =G28/$C$28 -> 0.25209565
A29: C-4399-1604-10-53105B | B29: ='VIGENCIA ACTUAL '!J126 -> 5. CONVERGENCIA REGIONAL / B. ENTIDADES PÚBLICAS TERRITORIALES Y NACIONALES FORTALECIDAS | C29: ='VIGENCIA ACTUAL '!P126 -> 5825000000 | D29: ='VIGENCIA ACTUAL '!R126 -> 5655330800 | E29: ='VIGENCIA ACTUAL '!S126 -> 5.478677e+09 | F29: ='VIGENCIA ACTUAL '!T126 -> 2.3745896e+09 | G29: ='VIGENCIA ACTUAL '!V126 -> 2.3745896e+09 | H29: =D29/$C$29 -> 0.97087224 | I29: =E29/$C$29 -> 0.94054541 | J29: =F29/$C$29 -> 0.40765486 | K29: =G29/$C$29 -> 0.40765486
C32: APROPIACIÓN VIGENTE | D32: PORCENTAJE | G32: COMPROMISO ACUMULADOS | H32: OBLIGACIÓN ACUMULADOS | I32: PAGOS ACUMULADOS
B33: FUNCIONAMIENTO | C33: =+C5 -> 54194708762 | D33: =C33/$C$35 -> 0.10924432 | G33: =+E3 -> 4.1207137e+11 | H33: =+F3 -> 2.6879058e+11 | I33: =+G3 -> 2.6879058e+11
B34: INVERSIÓN | C34: =+C6 -> 441892487504 | D34: =C34/$C$35 -> 0.89075568
B35: TOTAL | C35: =SUM(C33:C34) -> 496087196266 | D35: =SUM(D33:D34) -> 1
A237: EJECUCIÓN DEL PRESUPUESTO DE INVERSIÓN NACIÓN
A238: Por Proyectos de Inversión
A239: Expresado en millones de pesos
A241: RUBRO | B241: DESCRIPCIÓN | C241: DEPENDENCIA | D241: APROPIACIÓN VIGENTE | E241: COMPROMISO | F241: % | G241: OBLIGACIÓN | H241: % | I241: PAGOS | J241: %
A242: C-4301-1604-13-20203B | B242: =B18 -> 2. SEGURIDAD HUMANA Y JUSTICIA SOCIAL / B. RESIGNIFICACIÓN DE LA JORNADA ESCOLAR: MÁS QUE TIEMPO | C242: FOMENTO Y DESARROLLO | D242: =C18 -> 115000000000 | E242: =E18 -> 114528290255 | F242: =I18 -> 0.99589818 | G242: =F18 -> 1.0088477e+11 | H242: =J18 -> 0.8772589 | I242: =G18 -> 1.0088477e+11 | J242: =K18 -> 0.8772589
A243: C-4301-1604-14-20303A | B243: =B19 -> 2. SEGURIDAD HUMANA Y JUSTICIA SOCIAL / A. DEMOCRATIZAR EL ACCESO DE LA POBLACIÓN AL DEPORTE, LA RECREACIÓN Y LA ACTIVIDAD FÍSICA | C243: FOMENTO Y DESARROLLO | D243: =C19 -> 22500000000 | E243: =E19 -> 6225681572 | F243: =I19 -> 0.27669696 | G243: =F19 -> 2.9603172e+09 | H243: =J19 -> 0.13156965 | I243: =G19 -> 2.9603172e+09 | J243: =K19 -> 0.13156965
A244: C-4302-1604-20-20303D | B244: =B20 -> 2. SEGURIDAD HUMANA/D. SISTEMA DE INFORMACIÓN DEL DEPORTE, LA RECREACIÓN Y LA ACTIVIDAD FÍSICA | C244: VICEMINISTERIO | D244: =C20 -> 2000000000 | E244: =E20 -> 1845526964 | F244: =I20 -> 0.92276348 | G244: =F20 -> 812955301 | H244: =J20 -> 0.40647765 | I244: =G20 -> 812955301 | J244: =K20 -> 0.40647765
A245: C-4302-1604-23-20303A | B245: =B21 -> 2. SEGURIDAD HUMANA Y JUSTICIA SOCIAL / A. DEMOCRATIZAR EL ACCESO DE LA POBLACIÓN AL DEPORTE, LA RECREACIÓN Y LA ACTIVIDAD FÍSICA | C245: IVC | D245: =C21 -> 2975000000 | E245: =E21 -> 2794601186 | F245: =I21 -> 0.93936174 | G245: =F21 -> 1.2626062e+09 | H245: =J21 -> 0.42440546 | I245: =G21 -> 1.2626062e+09 | J245: =K21 -> 0.42440546
A246: C-4302-1604-24-20303E | B246: =B22 -> 2. SEGURIDAD HUMANA Y JUSTICIA SOCIAL / E. ATLETAS Y PARATLETAS COMO EMBAJADORES DE PAZ EN EL MUNDO | C246: DESPACHO MINISTRA | D246: =C22 -> 2600000000 | E246: =E22 -> 1.145243e+09 | F246: =I22 -> 0.44047809 | G246: =F22 -> 8.6020747e+08 | H246: =J22 -> 0.33084903 | I246: =G22 -> 8.6020747e+08 | J246: =K22 -> 0.33084903
A247: C-4302-1604-26-20303E | B247: =B23 -> 2. SEGURIDAD HUMANA Y JUSTICIA SOCIAL / E. ATLETAS Y PARATLETAS COMO EMBAJADORES DE PAZ EN EL MUNDO | C247: POSICIONAMIENTO Y LIDERAZGO DEPORTIVO | D247: =C23 -> 105434000000 | E247: =E23 -> 91689854265 | F247: =I23 -> 0.86964219 | G247: =F23 -> 53460192549 | H247: =J23 -> 0.50704889 | I247: =G23 -> 53460192549 | J247: =K23 -> 0.50704889
A248: RUBRO | B248: DESCRIPCIÓN | C248: DEPENDENCIA | D248: APROPIACIÓN VIGENTE | E248: COMPROMISO | F248: % | G248: OBLIGACIÓN | H248: % | I248: PAGOS | J248: %
A249: C-4302-1604-27-20303E | B249: =B24 -> 2. SEGURIDAD HUMANA Y JUSTICIA SOCIAL / E. ATLETAS Y PARATLETAS COMO EMBAJADORES DE PAZ EN EL MUNDO | C249: RECURSOS Y HERRAMIENTAS | D249: =C24 -> 2000000000 | E249: =E24 -> 187200000 | F249: =I24 -> 0.0936 | G249: =F24 -> 59896666 | H249: =J24 -> 0.029948333 | I249: =G24 -> 59896666 | J249: =K24 -> 0.029948333
...

Sheet RESERVAS NO PUBLICAR
A6: INFORME DE RESERVA PRESUPUESTAL
B8: SECCION: | D8: 4301
B9: UNIDAD EJECUTORA: | D9: 430101
B10: AÑO FISCAL: | D10: 2021
B11: PERIODO: | D11: MARZO
A13: IDENTIFICACIÓN PRESUPUESTAL | K13: NOMBRE DEL RUBRO | L13: COMPROMISO ACUMULADOS CONSTITUCIÓN | M13: LIBERACIONES | N13: COMPROMISO ACUMULADOS VIGENTES | O13: OBLIGACIÓN ACUMULADOS | P13: ORDEN PAGO ACUMULADOS | Q13: PAGOS ACUMULADOS | R13: % EJECUCIÓN
A14: Tipo Presupuesto | B14: Cuenta / Programa | C14: Subcuenta / Subprograma | D14: Objeto / Proyecto | E14: Ordinal / Subproy | F14: SubOrdinal / Producto | G14: Item | H14: Rec | I14: FUENTE | J14: Situación
A15: A+C | K15: TOTAL RESERVAS | L15: =L16+L33 -> 2.0030452e+11 | M15: =M16+M33 -> -6.3423042e+08 | N15: =N16+N33 -> 1.9967029e+11 | O15: =O16+O33 -> 2.6378757e+10 | P15: =P16+P33 -> 1.7840573e+10 | Q15: =Q16+Q33 -> 1.7840573e+10 | R15: =O15/L15 -> 0.13169327
A16: A | K16: A- FUNCIONAMIENTO | L16: =L17+L26 -> 1.4819486e+09 | M16: =M17+M26 -> 0 | N16: =N17+N26 -> 1.4819486e+09 | O16: =O17+O26 -> 4.5093057e+08 | P16: =P17+P26 -> 4.502032e+08 | Q16: =Q17+Q26 -> 4.502032e+08 | R16: =O16/L16 -> 0.3042822
A17: A | B17: 02 | K17: ADQUISICIÓN DE BIENES Y SERVICIOS | L17: =L18 -> 2.2663983e+08 | M17: =M18 -> 0 | N17: =N18 -> 2.2663983e+08 | O17: =O18 -> 1.6601941e+08 | P17: =P18 -> 1.6529204e+08 | Q17: =Q18 -> 1.6529204e+08 | R17: =O17/L17 -> 0.73252529
A18: A | B18: 02 | C18: 02 | K18: ADQUISICIONES DIFERENTES DE ACTIVOS | L18: =L19+L22 -> 2.2663983e+08 | M18: =M19+M22 -> 0 | N18: =N19+N22 -> 2.2663983e+08 | O18: =O19+O22 -> 1.6601941e+08 | P18: =P19+P22 -> 1.6529204e+08 | Q18: =Q19+Q22 -> 1.6529204e+08 | R18: =O18/L18 -> 0.73252529
A19: A | B19: 02 | C19: 02 | D19: 01 | K19: MATERIALES Y SUMINISTROS | L19: =SUM(L20:L21) -> 29013385 | M19: =SUM(M20:M21) -> 0 | N19: =SUM(N20:N21) -> 29013385 | O19: =SUM(O20:O21) -> 6649869.4 | P19: =SUM(P20:P21) -> 6649869.4 | Q19: =SUM(Q20:Q21) -> 6649869.4 | R19: =O19/L19 -> 0.22920005
A20: A | B20: 02 | C20: 02 | D20: 01 | E20: 003 | H20: 10 | I20: Nación | J20: CSF | K20: OTROS BIENES TRANSPORTABLES (EXCEPTO PRODUCTOS METÁLICOS, MAQUINARIA Y EQUIPO) | L20: 22026385 | M20: =N20-L20 -> 0 | N20: 22026385 | O20: 4111885 | P20: 4111885 | Q20: 4111885 | R20: =O20/L20 -> 0.18667997
A21: A | B21: 02 | C21: 02 | D21: 01 | E21: 004 | H21: 10 | I21: Nación | J21: CSF | K21: PRODUCTOS METÁLICOS Y PAQUETES DE SOFTWARE | L21: 6987000 | M21: =N21-L21 -> 0 | N21: 6987000 | O21: 2537984.4 | P21: 2537984.4 | Q21: 2537984.4 | R21: =O21/L21 -> 0.3632438
A22: A | B22: 02 | C22: 02 | D22: 02 | K22: ADQUISICIÓN DE SERVICIOS | L22: =SUM(L23:L25) -> 1.9762645e+08 | M22: =SUM(M23:M25) -> 0 | N22: =SUM(N23:N25) -> 1.9762645e+08 | O22: =SUM(O23:O25) -> 1.5936954e+08 | P22: =SUM(P23:P25) -> 1.5864217e+08 | Q22: =SUM(Q23:Q25) -> 1.5864217e+08 | R22: =O22/L22 -> 0.80641808
A23: A | B23: 02 | C23: 02 | D23: 02 | E23: 006 | H23: 10 | I23: Nación | J23: CSF | K23: SERVICIOS DE ALOJAMIENTO; SERVICIOS DE SUMINISTRO DE COMIDAS Y BEBIDAS; SERVICIOS DE TRANSPORTE; Y SERVICIOS DE DISTRIBUCIÓN DE ELECTRICIDAD, GAS Y AGUA | L23: 113756 | M23: =N23-L23 -> 0 | N23: 113756 | O23: 113756 | P23: 113756 | Q23: 113756 | R23: =O23/L23 -> 1
A24: A | B24: 02 | C24: 02 | D24: 02 | E24: 008 | H24: 10 | I24: Nación | J24: CSF | K24: SERVICIOS PRESTADOS A LAS EMPRESAS Y SERVICIOS DE PRODUCCIÓN. | L24: 92759908 | M24: =N24-L24 -> 0 | N24: 92759908 | O24: 70926168 | P24: 70198795 | Q24: 70198795 | R24: =O24/L24 -> 0.76462093
A25: A | B25: 02 | C25: 02 | D25: 02 | E25: 009 | H25: 10 | I25: Nación | J25: CSF | K25: SERVICIOS PARA LA COMUNIDAD, SOCIALES Y PERSONALES | L25: 104752785 | M25: =N25-L25 -> 0 | N25: 104752785 | O25: 88329618 | P25: 88329618 | Q25: 88329618 | R25: =O25/L25 -> 0.84321976
A26: A | B26: 03 | K26: TRANSFERENCIAS CORRIENTES | L26: =+L27+L30 -> 1255308735 | M26: =+M27+M30 -> 0 | N26: =+N27+N30 -> 1255308735 | O26: =+O27+O30 -> 284911161 | P26: =+P27+P30 -> 284911161 | Q26: =+Q27+Q30 -> 284911161 | R26: =O26/L26 -> 0.22696501
A27: A | B27: 03 | C27: 03 | K27: A ENTIDADES DEL GOBIERNO | L27: =+L28 -> 85778 | N27: =+N28 -> 85778 | O27: =+O28 -> 85778 | P27: =+P28 -> 85778 | Q27: =+Q28 -> 85778 | R27: =O27/L27 -> 1
A28: A | B28: 03 | C28: 03 | D28: 04 | K28: A OTRAS ENTIDADES DEL GOBIERNO GENERAL | L28: =+L29 -> 85778 | M28: =+M29+M32 -> -6.3423042e+08 | N28: =+N29 -> 85778 | O28: =+O29 -> 85778 | P28: =+P29 -> 85778 | Q28: =+Q29 -> 85778 | R28: =O28/L28 -> 1
A29: A | B29: 03 | C29: 03 | D29: 04 | E29: 048 | K29: ESCUELA NACIONAL DEL DEPORTE - ART. 51 DECRETO 2845 DE 1984 | L29: 85778 | M29: =+M30+M33 -> -6.3423042e+08 | N29: 85778 | O29: 85778 | P29: 85778 | Q29: 85778 | R29: =O29/L29 -> 1
A30: A | B30: 03 | C30: 04 | K30: PRESTACIONES SOCIALES | L30: =L31 -> 1255222957 | M30: =M31 -> 0 | N30: =N31 -> 1255222957 | O30: =O31 -> 284825383 | P30: =P31 -> 284825383 | Q30: =Q31 -> 284825383 | R30: =O30/L30 -> 0.22691218
A31: A | B31: 03 | C31: 04 | D31: 02 | K31: PRESTACIONES SOCIALES RELACIONADAS CON EL EMPLEO | L31: =SUM(L32:L32) -> 1255222957 | M31: =SUM(M32:M32) -> 0 | N31: =SUM(N32:N32) -> 1255222957 | O31: =SUM(O32:O32) -> 284825383 | P31: =SUM(P32:P32) -> 284825383 | Q31: =SUM(Q32:Q32) -> 284825383 | R31: =O31/L31 -> 0.22691218
A32: A | B32: 03 | C32: 04 | D32: 02 | E32: 001 | H32: 10 | I32: Nación | J32: CSF | K32: MESADAS PENSIONALES (DE PENSIONES) | L32: 1255222957 | M32: =N32-L32 -> 0 | N32: 1255222957 | O32: 284825383 | P32: 284825383 | Q32: 284825383 | R32: =O32/L32 -> 0.22691218
A33: C | K33: C- INVERSIÓN | L33: =L34+L52+L84 -> 1.9882257e+11 | M33: =M34+M52+M84 -> -6.3423042e+08 | N33: =N34+N52+N84 -> 1.9818834e+11 | O33: =O34+O52+O84 -> 2.5927826e+10 | P33: =P34+P52+P84 -> 1.7390369e+10 | Q33: =Q34+Q52+Q84 -> 1.7390369e+10 | R33: =O33/L33 -> 0.13040685
A34: C | B34: 4301 | K34: FOMENTO A LA RECREACIÓN, LA ACTIVIDAD FÍSICA Y EL DEPORTE PARA DESARROLLAR ENTORNOS DE CONVIVENCIA Y PAZ | L34: =L35 -> 1.3376869e+10 | M34: =M35 -> -15568417 | N34: =N35 -> 1.3361301e+10 | O34: =O35 -> 3.3250287e+09 | P34: =P35 -> 3.260237e+09 | Q34: =Q35 -> 3.260237e+09 | R34: =O34/L34 -> 0.24856554
A35: C | B35: 4301 | C35: 1604 | K35: RECREACIÓN Y DEPORTE | L35: =L36+L38+L42+L46+L50 -> 1.3376869e+10 | M35: =M36+M38+M42+M46+M50 -> -15568417 | N35: =N36+N38+N42+N46+N50 -> 1.3361301e+10 | O35: =O36+O38+O42+O46+O50 -> 3.3250287e+09 | P35: =P36+P38+P42+P46+P50 -> 3.260237e+09 | Q35: =Q36+Q38+Q42+Q46+Q50 -> 3.260237e+09 | R35: =O35/L35 -> 0.24856554
A36: C | B36: 4301 | C36: 1604 | D36: 8 | H36: 11 | I36: Nación | J36: CSF | K36: APOYO A LA EDUCACIÓN FÍSICA EXTRAESCOLAR Y EL DEPORTE FORMATIVO PARA LA INFANCIA, ADOLESCENCIA Y JUVENTUD A NIVEL NACIONAL | L36: =SUM(L37) -> 7492757968 | M36: =SUM(M37) -> 0 | N36: =SUM(N37) -> 7492757968 | O36: =SUM(O37) -> 218985609 | P36: =SUM(P37) -> 217931334 | Q36: =SUM(Q37) -> 217931334 | R36: =O36/L36 -> 0.029226302
A37: C | B37: 4301 | C37: 1604 | D37: 8 | E37: 0 | F37: 4301037 | K37: SERVICIO DE PROMOCIÓN DE LA ACTIVIDAD FÍSICA, LA RECREACIÓN Y EL DEPORTE | L37: 7492757968 | M37: =N37-L37 -> 0 | N37: 7492757968 | O37: 218985609 | P37: 217931334 | Q37: 217931334 | R37: =O37/L37 -> 0.029226302
A38: C | B38: 4301 | C38: 1604 | D38: 9 | K38: DESARROLLO DE LA ACTIVIDAD FÍSICA Y LOS HÁBITOS Y ESTILOS DE VIDA SALUDABLE A NIVEL NACIONAL | L38: =SUM(L39:L41) -> 1088138127 | M38: =SUM(M39:M41) -> -592039 | N38: =SUM(N39:N41) -> 1087546088 | O38: =SUM(O39:O41) -> 269265809 | P38: =SUM(P39:P41) -> 257765809 | Q38: =SUM(Q39:Q41) -> 257765809 | R38: =O38/L38 -> 0.24745554
A39: C | B39: 4301 | C39: 1604 | D39: 9 | E39: 0 | F39: 4301034 | H39: 11 | I39: Nación | J39: CSF | K39: SERVICIO DE APOYO FINANCIERO A ORGANISMOS DEPORTIVOS | L39: 809318094 | M39: =N39-L39 -> -592039 | N39: 808726055 | O39: 169096576 | P39: 157596576 | Q39: 157596576 | R39: =O39/L39 -> 0.2089371
A40: C | B40: 4301 | C40: 1604 | D40: 9 | E40: 0 | F40: 4301035 | H40: 11 | I40: Nación | J40: CSF | K40: SERVICIO DE EDUCACIÓN INFORMAL EN RECREACIÓN | L40: 100169233 | M40: =N40-L40 -> 0 | N40: 100169233 | O40: 100169233 | P40: 100169233 | Q40: 100169233 | R40: =O40/L40 -> 1
A41: C | B41: 4301 | C41: 1604 | D41: 9 | E41: 0 | F41: 4301037 | H41: 11 | I41: Nación | J41: CSF | K41: SERVICIO DE PROMOCIÓN DE LA ACTIVIDAD FÍSICA, LA RECREACIÓN Y EL DEPORTE - | L41: 178650800 | M41: =N41-L41 -> 0 | N41: 178650800 | O41: 0 | P41: 0 | Q41: 0
A42: C | B42: 4301 | C42: 1604 | D42: 10 | K42: DESARROLLO DE LA RECREACIÓN A NIVEL NACIONAL | L42: =SUM(L43:L45) -> 665780015 | M42: =SUM(M43:M45) -> 0 | N42: =SUM(N43:N45) -> 665780015 | O42: =SUM(O43:O45) -> 28824710 | P42: =SUM(P43:P45) -> 28824710 | Q42: =SUM(Q43:Q45) -> 28824710 | R42: =O42/L42 -> 0.043294646
A43: C | B43: 4301 | C43: 1604 | D43: 10 | E43: 0 | F43: 4301034 | H43: 11 | I43: Nación | J43: CSF | K43: SERVICIO DE APOYO FINANCIERO A ORGANISMOS DEPORTIVOS | L43: 317415873 | M43: =N43-L43 -> 0 | N43: 317415873 | O43: 0 | P43: 0 | Q43: 0 | R43: =O43/L43 -> 0
A44: C | B44: 4301 | C44: 1604 | D44: 10 | E44: 0 | F44: 4301035 | H44: 11 | I44: Nación | J44: CSF | K44: SERVICIO DE EDUCACIÓN INFORMAL EN RECREACIÓN | L44: 13736000 | M44: =N44-L44 -> 0 | N44: 13736000 | O44: 13574710 | P44: 13574710 | Q44: 13574710 | R44: =O44/L44 -> 0.98825786
A45: C | B45: 4301 | C45: 1604 | D45: 10 | E45: 0 | F45: 4301037 | H45: 11 | I45: Nación | J45: CSF | K45: SERVICIO DE PROMOCIÓN DE LA ACTIVIDAD FÍSICA, LA RECREACIÓN Y EL DEPORTE | L45: 334628142 | M45: =N45-L45 -> 0 | N45: 334628142 | O45: 15250000 | P45: 15250000 | Q45: 15250000 | R45: =O45/L45 -> 0.045572975
A46: C | B46: 4301 | C46: 1604 | D46: 11 | K46: DESARROLLO AL DEPORTE SOCIAL COMUNITARIO NACIONAL | L46: =SUM(L47:L49) -> 3.1283105e+09 | M46: =SUM(M47:M49) -> -10123078 | N46: =SUM(N47:N49) -> 3.1181874e+09 | O46: =SUM(O47:O49) -> 2.7667936e+09 | P46: =SUM(P47:P49) -> 2.7318682e+09 | Q46: =SUM(Q47:Q49) -> 2.7318682e+09 | R46: =O46/L46 -> 0.884437
A47: C | B47: 4301 | C47: 1604 | D47: 11 | E47: 0 | F47: 4301001 | H47: 11 | I47: Nación | J47: CSF | K47: SERVICIO DE APOYO A LA ACTIVIDAD FÍSICA, LA RECREACIÓN Y EL DEPORTE | L47: 28421162 | M47: =N47-L47 -> 0 | N47: 28421162 | O47: 8244278 | P47: 6619868 | Q47: 6619868 | R47: =O47/L47 -> 0.29007533
...
