Workbook

Sheet Sg-MRC
A1: MATRIZ SEGUIMIENTO MAPA DE RIESGOS DE CORRUPCIÓN
B2: Entidad: Ministerio del Deporte | K2: ¿Se adelantó seguimiento al Mapa de Riesgos de Corrupción?
B3: Responsable: Tercera línea de defensa
B4: Seguimiento: Tercer Cuatrimestre 2025 | K4: Si | L4: Primer y segunda línea de defensa
B5: Fecha de publicación: 16 de enero de 2026
A6: SEGUIMIENTO Y EVALUACIÓN POR PARTE DE LA TERCERA LÍNEA DE DEFENSA
A8: FORMULACIÓN DE RIESGOS Y EVALUACIÓN | J8: VALORACIÓN DE LOS CONTROLES | S8: PLAN DE TRATAMIENTO | W8: MONITOREO, SEGUIMIENTO Y EVALUACIÓN
A9: Nombre del Proceso | B9: Siglas | C9: Descripción Riesgo | D9: ¿Cumple con la redacción del Riesgo de Corrupción? | E9: Fecha de Aprobacion | F9: Fecha de Monitoreo 1a Línea de Defensa | G9: Fecha de Monitoreo 2da Línea de Defensa | H9: Tipo Proceso | I9: Zona de Riesgo Inherente | J9: ¿Presenta descripción de la valoración de controles? | K9: Descripción del Control | L9: Atributo del Control | M9: ¿El diseño de los controles es efectivo? | N9: ¿Los controles cuentan con responsables de su ejecución? | O9: ¿La periodicidad de los controles es oportuna para mitigar el riesgo? | P9: Tratamiento | Q9: Zona de Riesgo Residual Final | R9: ¿Se cuenta con evidencias de la ejecución del control? | S9: ¿Formuló Plan de Tratamiento (acciones)? | T9: Descripción del Plan de Tratamiento | U9: ¿Cumple con la ejecución del Plan de Tratamiento de manera eficaz? | V9: ¿Se cuenta con evidencias de la ejecución del Plan de Tratamiento? | W9: ¿El proceso reportó Materialización del Riesgo? | X9: ¿Se enunciaron acciones de mejora por materialización? | Y9: ¿Se activaron alertas tempranas para evitar la materialización? | Z9: ¿Se implementaron correctivos por la materialización? | AA9: ¿Se reportaron indicadores? | AB9: ¿Cuántas alertas se convirtieron en denuncias por casos de corrupción? | AC9: Observaciones y recomendaciones por parte de la Tercera Línea de Defensa - Oficina de Control Interno (OCI)
A10: Gestión de las Comunicaciones | B10: =VLOOKUP(A10,'Listas deplegables'!$A$2:$B$19,2,0) -> GC | C10: Posibilidad de que servidores públicos o contratistas reciban dádivas, beneficios o incentivos indebidos, en nombre propio o de terceros, con el fin de divulgar información sensible sin contar con la verificación y aprobación correspondiente | D10: No | E10: 45894 | F10: 46013 | G10: 46022 | H10: Estratégico | I10: Extremo | J10: Si | K10: El Coordinador GIT Comunicaciones, controla a través del seguimiento semanal a los integrantes del GIT Comunicaciones, estableciendo el punto análisis del cumplimiento de los lineamientos de crisis en los consejos de redacción, las cuales se sustentan en acta del consejo cuando se requieran En caso de identificar desviaciones en la ejecución del control se solicitará al responsable un informe del no cumplimiento. Se generará un acta del consejo de redacción. | L10: Preventivo | M10: Si | N10: Si | O10: Si | P10: Reducir (Mitigar) | Q10: Extremo | R10: Si | S10: Si | T10: Generar un mapeo constante para anticiparnos a los riesgos de crisis de la comunicación. | U10: Si | V10: Si | W10: No | X10: No aplica | Y10: No aplica | Z10: No aplica | AA10: Si | AB10: 0 | AC10: En el tercer monitoreo se evidenció la ejecución de los controles y acciones del riesgo de corrupción; sin embargo, no se aportaron soportes que demostraran la socialización interna de los lineamientos de comunicación, como estaba previsto, no obstante, se valida como efectivo ya que se pudieron observar algunas piezas en intranet, así como correos masivos. El proceso cuenta con un Mapa de Riesgos versión 2 para la vigencia 2025, el cual fue revisado y aprobado por la OAP y se encuentra disponible en Isolución, no obstante, se deja salvedad que la versión reportada el tercer cuatrimestre difiere de la versión 2 presentada en el segundo cuatrimestre toda vez que existen cambios en la redacción del riesgo de corrupción y en el plan de tratamiento sin que en el formato se reporte el control los cambio ni una nueva versión. La redacción del riesgo no cumple la metodología ya que no indica si el riesgo es de afectación económica o reputacional. Se verificó el acompañamiento de la primera línea de defensa y se dejaron disponibles las evidencias e indicadores en la carpeta de SharePoint habilitada para el proceso.
A11: Gestión de las Comunicaciones | B11: =VLOOKUP(A11,'Listas deplegables'!$A$2:$B$19,2,0) -> GC | J11: Si | K11: El Coordinador GIT Comunicaciones, verifica la aprobación de las notas de prensa, el cumplimiento se hace mensualmente a través del reporte del indicador de notas de prensa publicadas. En caso de identificar desviaciones en la ejecución del control se devolverá al periodista la nota para su ajuste. De la ejecución del control: mensualmente se entrega la verificación del cumplimiento de los conductos de aprobación de las notas de prensa, mediante el formato establecido. | L11: Preventivo | M11: Si | N11: Si | O11: Si | P11: Reducir (Mitigar) | Q11: Extremo | R11: Si | S11: Si | T11: Actualizar el formato GC-FR-008 NOTAS DE PRENSA para hacer seguimiento mensual del flujo de aprobación y la medición de las devoluciones de las notas de prensa | U11: Si | V11: Si
A12: Gestión de las Comunicaciones | B12: =VLOOKUP(A12,'Listas deplegables'!$A$2:$B$19,2,0) -> GC | J12: Si | K12: El Coordinador GIT Comunicaciones, evalúa la aplicación de la Política Editorial para la toma de decisiones, a través de un instrumento de evaluación que arroja unos resultados y se genera un informe. En caso de desviación se hará retroalimentación. De la ejecución del control se genera informe anual. Frecuencial: Anual | L12: Detectivo | M12: Si | N12: Si | O12: Si | P12: Reducir (Mitigar) | Q12: Extremo | R12: Si | S12: Si | T12: Socializar mediante acciones pedagógicas los lineamientos de comunicación emanados de la Secretaría de Prensa y de la normativa del Gobierno Nacional. | U12: Si | V12: Si
A13: Formulación y Adopción de Políticas, Planes y Programas | B13: =VLOOKUP(A13,'Listas deplegables'!$A$2:$B$19,2,0) -> FP | C13: Posibilidad de favorecer un grupo de interés sobre otro en los procesos de formulación de políticas públicas | D13: No | E13: 45904 | F13: 45901 | G13: 46022 | H13: Misional | I13: Alto | J13: Si | K13: Semestralmente, El profesional designado del viceministerio, debe verificar la existencia del mapa de actores del proceso de formulación de política pública a través de el formato de caracterización de actores para focalizar el grupo objetivo que participa. En caso de identificar desviaciones en la ejecución del control, La Viceministra generará alertas al Profesional designado, para el cumplimiento del registro de caracterización de actores. De la ejecución de los controles se generará la siguiente evidencia: Formato de caracterización de actores diligenciado. | L13: Preventivo | M13: Si | N13: Si | O13: Si | P13: Reducir (Mitigar) | Q13: Alto | R13: No | S13: Si | T13: 1. Documentar el control R3-Control 1, a través del formato de caracterización de actores del proceso de formulación de política pública. | U13: No | V13: No | W13: No | X13: No aplica | Y13: No aplica | Z13: No aplica | AA13: No | AB13: 0 | AC13: La redacción del riesgo no considera los cuatro (4) elementos para los riesgos de corrupción, no se refiere a daño económico o reputacional, ni la desviación específica de la gestión de lo público de manera que recomienda revisar y ajustar la redacción del riesgo. Es necesario ajustar la redacción en relación al beneficio privado y el tipo de afectación, del cual deriva este riesgo. Verificar medición del riesgo, ya que pese a ser de corrupción se tipifica en zona "alto" Control 2 - No tiene periodicidad definida No se cuenta con evidencias de la ejecución del plan de tratamiento ni sus controles, se evidencia que no se diligenció el seguimiento de la primera línea de defensa pese a que se observa que la segunda línea realizó las respectivas solicitudes y seguimiento. Dado que en diferentes informes se reiteró la importancia de formular y cumplir con el plan de tratamiento del mapa de riesgos formulado, se encuentra que no hubo un tratamiento efectivo a los riesgos asociados al proceso de formulación y adopción de políticas públicas.
A14: Formulación y Adopción de Políticas, Planes y Programas | B14: =VLOOKUP(A14,'Listas deplegables'!$A$2:$B$19,2,0) -> FP | J14: Si | K14: El profesional designado del viceministerio, debe verificar los documentos de plan de participación ciudadana remitido por el área técnica encargada de la formulación de la política pública. | L14: Preventivo | M14: No | N14: Si | O14: No | P14: Reducir (Mitigar) | Q14: Alto | R14: No | S14: Si | T14: 1.Documentar el formato de Plan de participación ciudadana del proceso de formulación de política pública. | U14: No | V14: No
A15: Formulación y Adopción de Políticas, Planes y Programas | B15: =VLOOKUP(A15,'Listas deplegables'!$A$2:$B$19,2,0) -> FP | J15: Si | K15: El profesional designado del viceministerio, cada vez que se requiera debe validar la pertinencia, oportunidad y validez de los procesos externos de formulación de política pública que impacten a la entidad. | L15: Preventivo | M15: Si | N15: Si | O15: Si | P15: Reducir (Mitigar) | Q15: Alto | R15: No | S15: Si | T15: 1. Revisar matrices de validación de las líneas de acción de política pública. 2. Realizar mesas técnicas de validación de información. | U15: No | V15: No
A16: Altos Logros | B16: =VLOOKUP(A16,'Listas deplegables'!$A$2:$B$19,2,0) -> AL | C16: Posibilidad de recibir o solicitar cualquiér dadiva o beneficio a nombre propio o de terceros beneficiando a atletas o paraatletas de los programas: Atleta excelencia, glorias del deporte y escuela de talentos y/o beneficiar a federaciones deportivas nacionales que no cumplan con requisitos legales o normativos. | D16: No | E16: 45877 | F16: 46014 | G16: 46022 | H16: Misional | I16: Moderado | J16: Si | K16: Los profesionales de los GIT Deporte de Rendimiento Olimpico, Deporte de Rendimiento Paralímpico, Talento y Reserva Deportiva y Juegos y Eventos Derportivos designados para implementar el apoyo a los organismos del Sistema Nacional del Deporte, verifican el cumplimiento de los requisitos de acceso y permanencia a través del documento solicitud de elaboración del contrato de prestación de servicios y constancia de idoneidad (BS-FR-059) En caso de identificar desviaciones en la ejecución del control, enviar un oficio indicando la situación evidenciada de falta de requisitos que permita subasanar la información requerida de acuerdo con los requisitos establecidos. De la ejecución de los controles se generará la siguiente evidencia: Apoyo a Federaciones deportivas nacionales (deporte olimpico) 1. Verificar en cumplimiento de la Hoja de Ruta para la contratación Formato del proceso de Bienes y Servicios 2. Registro del formato (BS-FR-059) | L16: Preventivo | M16: Si | N16: Si | O16: Si | P16: Reducir (Mitigar) | Q16: Moderado | R16: Si | S16: Si | T16: Realizar de manera trimestral el reporte y control de las gestiones realizadas en cada uno de los programas a cargo del proceso de Altos Logros | U16: No | V16: No | W16: No | X16: No aplica | Y16: No aplica | Z16: No aplica | AA16: Si | AB16: 0 | AC16: Es necesario ajustar la redacción en relación al tipo de afectación (económica o reputacional), del cual deriva este riesgo. Verificar medición del riesgo, ya que pese a ser de corrupción se tipifica moderado. Verificar la frecuencia con la que se realiza la actividad y su valoración ya que inicia en zona de riesgo inherente "Moderada" siendo muy baja en relación a un riesgo de corrupción; esto se puede deber a que no fueron resueltas las 19 preguntas requeridas para la clasificación del impacto del riesgo de corrupción (Hoja <<Tabla Impacto>> del formato DE- FR -002) y la Zona de Riesgo Residual Final no varia después de aplicar los controles, se mantiene en moderada, por lo que se requiere verificar la valoración del riesgo y de los controles. Se evidenció que los controles 1, 2 y 3 se ejecutaron conforme a su descripción y dieron cumplimiento para la vigencia, al ser de implementación permanente. Respecto al Plan de Tratamiento no se aportaron evidencias que permitan verificar su cumplimiento.
A17: Altos Logros | B17: =VLOOKUP(A17,'Listas deplegables'!$A$2:$B$19,2,0) -> AL | J17: Si | K17: El profesional del (GIT Desarrollo Psicosocial) designado para implementar el programa Atleta Excelencia, verifica de manera cuatrimestral el cumplimiento de los requisitos de acceso, permanencia y exclusión para el programa Atleta Excelencia, A traves de la Comisión Evaluadora en la cual se validan que los deportistas cumplan con los requisitos establecidos para acceder, permanecer o ser excluidos del Programa Atleta Excelencia, en caso de presentarse desviación del control se programan comisiones extraordinarias. De la ejecución de los controles se generará la siguiente evidencia: - Actas de la Comisión Evaluadora para el Programa Atleta Excelencia - Resoluciones expedidas frente al reconocimiento del programa Atleta Excelencia. | L17: Preventivo | M17: Si | N17: Si | O17: Si | P17: Reducir (Mitigar) | Q17: Moderado | R17: Si
A18: Altos Logros | B18: =VLOOKUP(A18,'Listas deplegables'!$A$2:$B$19,2,0) -> AL | J18: Si | K18: El profesional designado para implementar el programa de apoyo a deportistas del GIT de Centro de Ciencias del Deporte, verifica que el atleta que se atiende en el Centro de Ciencias del Deporte haga parte de los listados de atletas vigentes en los programas de Altos Logros Con base en los listados de atletas y paraatletas aprobados por las federaciónes deportivas nacionales de cada disciplina deportiva, el personal del Centro de Ciencias del Deporte presta la atención y servicios a los atletas y paraatletas beneficiarios del programa Atleta Excelencia, en caso de desviación se reportará al coordinador del GIT para hacer el respectivo seguimiento. De la ejecución del control se generará la siguiente evidencia: 1. Listado de deportistas selección Colombia aprobado por la federaciónes y/o benefeciarios del programa Atleta Excelencia. 2. Reporte de Atenciones | L18: Preventivo | M18: No | N18: Si | O18: No | P18: Reducir (Mitigar) | Q18: Moderado | R18: Si
A19: Inspección Vigilancia y Control | B19: =VLOOKUP(A19,'Listas deplegables'!$A$2:$B$19,2,0) -> IVC | C19: Posibilidad de recibir o solicitar cualquier dadiva o beneficio a nombre propio o de terceros para favorecer a un organismo deportivo en el desarrollo de tramites, inspección, auditorias y/o procedimientos administrativos | D19: No | E19: 45616 | F19: No diligenciado | G19: 45902 | H19: Misional | I19: Moderado | J19: Si | K19: Cada mes, el gestor documental, verifica los permisos de acceso a las bases de datos en SharePoint, tanto en modo lectura como escritura, otorgados a los miembros de cada Grupo Interno de Trabajo (GIT). Compara estos permisos con los roles definidos para asegurar de que coinciden. En caso de desviación del control, ajusta los accesos a las bases de datos, para que correspondan a los roles definidos del profesional e informa la corrección al coordinador a través de correo electrónico. Las evidencias de la ejecución del control deben incluir: un registro en SharePoint con los permisos otorgados a los miembros de cada GIT, con los correos electrónicos del gestor documental. | L19: Preventivo | M19: Si | N19: Si | O19: Si | P19: Reducir (Mitigar) | Q19: Moderado | R19: Si | S19: Si | T19: Socializar los responsables del manejo, control de cambios, actualización y permisos de acceso a las bases de datos y expedientes de la Dirección. | U19: Si | V19: Si | W19: No | X19: No aplica | Y19: No aplica | Z19: No aplica | AA19: Si | AB19: 0 | AC19: No fueron atendidas las recomendaciones realizadas en el primer y segundo monitoreo en cuanto a: La redacción del riesgo no considera los cuatro (4) elementos para los riesgos de corrupción, no se refiere a daño económico o reputacional, ni la desviación específica de la gestión de lo público de manera que recomienda revisar y ajustar la redacción del riesgo. Verificar la frecuencia con la que se realiza la actividad y su valoración ya que inicia en zona de riesgo inherente "Moderada" siendo muy baja en relación a un riesgo de corrupción; esto se puede deber a que no fueron resueltas las 19 preguntas requeridas para la clasificación del impacto del riesgo de corrupción (Hoja <<Tabla Impacto>> del formato DE- FR -002) En el monitoreo se evidenció que los controles del riesgo fueron ejecutados conforme a lo establecido, contando con soportes en SharePoint, los formatos definidos y los correos que demuestran la revisión de actos administrativos. En cuanto al plan de tratamiento, se verificó la ejecución de las actividades previstas, incluyendo los estudios previos, la actualización documental del proceso y las reuniones de socialización.
A20: Inspección Vigilancia y Control | B20: =VLOOKUP(A20,'Listas deplegables'!$A$2:$B$19,2,0) -> IVC | J20: Si | K20: Cada vez que ingresa la solicitud de un trámite, el profesional responsable verifica la correcta aplicación de los formatos de control de legalidad IVC-FR-003, IVC-FR-004 o IVC-FR-006 vigentes, los cuales deben ser diligenciados después de cada trámite. Al finalizar un proceso, ya sea de Negación, Renovación o Actualización del Reconocimiento Deportivo e inscripción de miembros, se revisa que los formatos correspondientes estén completos y correctamente diligenciados para garantizar un adecuado control de legalidad. En caso de detectar alguna desviación en el control, el coordinador del G.I.T. devuelve el trámite para solicitar su verificación y se modifican los formatos para mejorar la calidad y precisión de los datos. Como evidencia de la ejecución del control, se generará el reporte de los registros realizados en los formatos IVC-FR-003, IVC-FR-004 o IVC-FR-006, los correos electrónicos del coordinador que contengan observaciones (si aplica) y los registros actualizados. | L20: Preventivo | M20: Si | N20: Si | O20: Si | P20: Reducir (Mitigar) | Q20: Moderado | R20: Si | S20: Si | T20: Revisar y actualziar el IVC-MN-002 Manual "Orientaciones para realizar Inspección, Vigilancia y Control en el Ministerio del Deporte". | U20: Si | V20: Si
A21: Inspección Vigilancia y Control | B21: =VLOOKUP(A21,'Listas deplegables'!$A$2:$B$19,2,0) -> IVC | J21: Si | K21: Cada vez que se requiera, el profesional asignado se verifica que los requisitos legales y estatutarios del organismo deportivo sean cumplidos en relación con el estudio y la validez de la documentación requerida para el trámite. Antes de iniciar cualquier trámite, se realiza una revisión preliminar que debe ser aprobada por el Coordinador y el Director. En caso de identificar desviación en la ejecución del control, el Coordinador devolverá la documentación con observaciones para su corrección. Como evidencia de la ejecución del control, se presentarán los flujos de correo que demuestren los filtros de revisión de los actos administrativos emitidos. | L21: Preventivo | M21: Si | N21: Si | O21: Si | P21: Reducir (Mitigar) | Q21: Moderado | R21: Si | S21: Si | T21: Socializar a los profesionales de la Dirección de Inspección, Vigilancia y Control la normatividad y lineamientos vigentes, así como la documentacion asociada al procesoIVC, que se encuentra en ISDLUCION. | U21: Si | V21: Si
A22: Fomento al Desarrollo Humano y Social | B22: =VLOOKUP(A22,'Listas deplegables'!$A$2:$B$19,2,0) -> FD | C22: Posibilidad de recibir cualquier dádiva o beneficio a nombre propio o de terceros para desembolsar recursos a convenios o contratos entre el ministerio y entes ejecutores sin el cumplimiento de los requisitos legales. | D22: No | E22: 45769 | F22: 46022 | G22: 46022 | H22: Misional | I22: Extremo | J22: Si | K22: Cada vez que se requiera el y/o los supervisores de los GIT de la Dirección de Fomento y Desarrollo (Actividad Fìsica, Recreaciòn, Deporte Escolar, Deporte Social Comunitario) Verifican los documentos soportes financieros de los convenios y/o contratos frente a lo establecido en las minutas contractuales. Cada vez que se recibe un informe financiero, valida la informacion recibida frente a la ejecucion de contrato y/o convenios; En caso de identificar desviaciones en la ejecución del control, remitir comunicacion oficial ( Correo electronico u oficios ) al operador solicitandole la completitud de la informacion o la subsanacion de las situaciones encontradas. De la ejecución de los controles se generará la siguiente evidencia: Correos electronicos, Gesdoc. Frecuencia: Cuatrimestral | L22: Detectivo | M22: Si | N22: Si | O22: Si | P22: Reducir (Mitigar) | Q22: Extremo | R22: No | S22: Si | T22: Generar de manera mensual correos a los operadores presentandoles el estado de la ejecucion presupuestal de los contratos y/o convenios, que presenten un menor avance de lo programado. | U22: No | V22: No | W22: No | X22: No aplica | Y22: No aplica | Z22: No aplica | AA22: No | AB22: 0 | AC22: No se acogieron las recomendaciones del primer y segundo monitoreo: no se evidencian cambios en la redacción del riesgo, la cual no considera los cuatro (4) elementos para los riesgos de corrupción, no se refiere a daño económico o reputacional, ni la desviación específica de la gestión de lo público de manera que recomienda revisar y ajustar la redacción del riesgo. No se cuenta con evidencias de la ejecución de los controles ni del plan de tratamiento, con lo que no se adoptaron acciones correctivas asegurando el cumplimiento dentro de la vigencia 2025, tal como fue recomendado por la tercera línea de defensa en el segundo monitoreo. No presenta medición de indicadores. Se evidencia seguimiento por parte de la segunda línea de defensa así como solicitud de gestiones por parte de la primera línea.
A23: Fomento al Desarrollo Humano y Social | B23: =VLOOKUP(A23,'Listas deplegables'!$A$2:$B$19,2,0) -> FD | J23: Si | K23: De manera mensual el y/o los supervisores de los GIT de la Dirección de Fomento y Desarrollo (Actividad Fìsica, Recreaciòn, Deporte Escolar, Deporte Social Comunitario) Realizan comites de seguimientos con los operadores, a traves de mesas de trabajo para monitorear el avance de la ejecucion de los contratos y/o convenios. En caso de identificar desviaciones en la ejecución del control, se solicitara un comite extraordinario con fin de aprobar las modificaciones a la asugnacion presupuestal del contrato o convenio a validar. De la ejecución de los controles se generará la siguiente evidencia: Matriz consolidada de los convenios y/o contratos de la direccion, Actas de comite, Gesdoc Frecuencia: Cuatrimestral | L23: Preventivo | M23: Si | N23: Si | O23: Si | P23: Reducir (Mitigar) | Q23: Extremo | R23: No | S23: Si | T23: Consolidar de manera semestral el estado de la ejecucion de los contratos y/o convenios. | U23: No | V23: No
A24: Apoyo a la Infraestructura Técnica y Científica | B24: =VLOOKUP(A24,'Listas deplegables'!$A$2:$B$19,2,0) -> ATC | C24: Posibilidad de recibir o solicitar cualquier dádiva o beneficio a nombre propio o de terceros para realizar de manera deficiente, el ejercicio de la supervision que para el correcto desembolso de recursos economicos | D24: No | E24: No diligenciado | F24: 46009 | G24: 46022 | H24: Misional | I24: Extremo | J24: Si | K24: Mensualmente, el profesional de apoyo financiero asginado al GIT de infraestructura -Profesional financiero de la Direccion de recursos y Herramientas del SND, debe verificar que los desembosos en el periodo se realicen conforme a los requisitos establecidos en la minuta del convenio y/o contrato para ello, valida los soportes aportados por los entes territoriales en el marco de los contratos y/o convenios suscritos, para el desembolso, a través del documento de trabajo denominado Matriz de seguimiento y control. En caso de identificar desviaciones de la ejecución del control, mediante comunicación (Gesdoc) o correo electrónico, se notifican observaciones encontradas según sea el caso al supervisor para que lo comunique a: Entes territoriales en el marco de convenios y contratos interadministrativos, a interventorías o a convenios solidarios, y asi se subsane y se remitan los soportes y/o documentos que se deben anexar o modificar para la continuidad del trámite de desembolso. De la ejecucion de los controles se generara la siguiente evidencia: Muestra aleatoria (10 desesmbolsos) efectuados mediante el documento check list. | L24: Preventivo | M24: Si | N24: Si | O24: Si | P24: Reducir (Mitigar) | Q24: Extremo | R24: Incompleta | S24: Si | T24: Crear el formato de Check list para los desembolsos | U24: No aplica | V24: No aplica | W24: No | X24: No aplica | Y24: No aplica | Z24: No aplica | AA24: Si | AB24: 0 | AC24: El mapa de riesgos cierra sin fecha de aprobación. La redacción del riesgo no considera los cuatro (4) elementos para los riesgos de corrupción, no se refiere a daño económico o reputacional, ni la desviación específica de la gestión de lo público de manera que recomienda revisar y ajustar la redacción del riesgo, tal como se recomendó en el primer monitoreo de la tercera línea. Se recomienda evaluar el nivel de riesgo inherente, dado que el proceso ha sido establecido con un riesgo alto y considerando las causas identificadas su zona de Riesgo podría ser extremo, para ello se sugiere atender el procedimiento y formato, dando respuesta a las 19 preguntas para la clasificación de impacto. Esto había sido señalado en el primer y segundo seguimiento por parte de la tercera línea y no fueron subsanadas las recomendaciones efectuadas. Se recomienda verificar la pertinencia de documentar la evidencia denominada matriz de seguimiento control, verificación, y cumplimiento de obligaciones apta tramite de pagos y desembolsos para fortalecer la formalización de un procedimiento, así como sus actividades del ciclo de vida de los proyectos de infraestructura y permitir su vinculación con la demás documentación (Formatos, instructivos y guías del proceso). En el monitoreo del riesgo de corrupción correspondiente al tercer cuatrimestre de 2025, se verificó la ejecución del control R1‑Cont‑1; sin embargo, su descripción no detalla el número de desembolsos efectuados, aunque los soportes permiten identificar diecinueve desembolsos asociados a convenios interadministrativos. Pese a revisarse la matriz de seguimiento, no fue posible concluir si hubo devoluciones o si la totalidad de los desembolsos obtuvo aprobación del supervisor. No se evidencian soportes que permitan verificar la ejecución de las acciones del plan de tratamiento, y algunos documentos cargados en SharePoint no corresponden con lo descrito. Se recomienda priorizar la formalización del formato de lista de chequeo en el Sistema de Gestión, con el fin de asegurar registros consistentes en la validación de requisitos para desembolsos.
A25: Apoyo a la Infraestructura Técnica y Científica | B25: =VLOOKUP(A25,'Listas deplegables'!$A$2:$B$19,2,0) -> ATC | J25: Si | K25: Mensualmente, el supervisor del GIT de infraestructura de la Dirección de recursos y Herramientas del SND, debe revisar los tramites de desembolso gestionados por el profesional financiero verificando que cumpla con los requisitos establecidos en la minuta del convenio y/o contrato, en concordancia con el BS-MN-003 Manual de Supervisión e Interventoría y el BS-MN-002 Manual de contratación, a través del formato GF-FR-021 Certificación de Supervisión para pago. En caso de identificar desviaciones de la ejecución del control, mediante comunicación externa (Gesdoc) o correo electrónico, se notifican observaciones encontradas según sea el caso a: Entes territoriales en el marco de convenios y contratos interadministrativos, a interventorías o a convenios solidarios, para que se subsane y se remitan los soportes y/o documentos que se deben anexar o modificar para la continuidad del trámite de desembolso. De la ejecución de los controles se generará la siguiente evidencia: Matriz de seguimiento control. | L25: Preventivo | M25: Si | N25: Si | O25: Si | P25: Reducir (Mitigar) | Q25: Extremo | R25: Incompleta | S25: Si | T25: Crear el procedimiento que se debe surtir para el desembolso y demas temas financieros atribuibles al contrato convenio y compartirlo con los entes ejecutores | U25: No | V25: Incompleta
A26: Apoyo a la Infraestructura Técnica y Científica | B26: =VLOOKUP(A26,'Listas deplegables'!$A$2:$B$19,2,0) -> ATC | C26: Posibilidad de recibir o solicitar cualquier dádiva o beneficio a nombre propio o de terceros por la financiacion y cofinanciacion de proyectos que no cumplen con los requisitos establecidos en la minuta | D26: No | E26: No diligenciado | F26: 46009 | G26: 46022 | H26: Misional | I26: Alto | J26: Si | K26: Semestralmente se designa un profesional del GIT Infraestuctura para verificar de manera aleatoria de los proyectos con concepto favorable con el fin de identificar si efectivamente cumplen con el lleno de requisitos establecidos en el formato de procedimiento ATC-PD-007 con el fin de identificar que se este cumpliendo con los requisitos de revision de proyectos y de procedimientos establecidos. De la ejecucion del control se emitira un informe semestral | L26: Detectivo | M26: Si | N26: Si | O26: Si | P26: Reducir (Mitigar) | Q26: Alto | R26: Incompleta | S26: Si | T26: Actualizar procedimiento de revision de proyetos acorde a la resolucion | U26: No | V26: Incompleta | W26: No | X26: No aplica | Y26: No aplica | Z26: No aplica | AA26: No | AB26: 0 | AC26: La redacción del riesgo no considera los cuatro (4) elementos para los riesgos de corrupción, no se refiere a daño económico o reputacional, ni la desviación específica de la gestión de lo público de manera que recomienda revisar y ajustar la redacción del riesgo. Se recomienda evaluar el nivel de riesgo inherente, dado que el proceso ha sido establecido con un riesgo alto y considerando las causas identificadas su zona de Riesgo podría ser extremo, para ello se sugiere atender el procedimiento y formato, dando respuesta a las 19 preguntas para la clasificación de impacto. Esto había sido señalado en el primer y segundo seguimiento por parte de la tercera línea. se identificó que el proceso adelanta acciones de verificación para otorgar concepto de favorabilidad a proyectos de infraestructura deportiva; sin embargo, los soportes aportados no permiten determinar qué proyectos fueron incluidos en el muestreo aleatorio ni se encontró evidencia con dicha denominación. Tampoco se evidenciaron avances en la actualización del procedimiento de revisión de proyectos, pese a que la versión vigente corresponde a febrero de 2024 y no incorpora los ajustes derivados de la resolución que reglamenta esta actividad, concluyéndose que la actualización no fue iniciada durante la vigencia. Aunque el proceso reportó tener el documento formalizado en el Sistema de Gestión, no se efectuó su actualización ni se cargaron soportes de indicadores para el periodo. Se recomienda actualizar oportunamente el procedimiento y asegurar la carga adecuada de evidencias
A27: Apoyo a la Infraestructura Técnica y Científica | B27: =VLOOKUP(A27,'Listas deplegables'!$A$2:$B$19,2,0) -> ATC | C27: Posibilidad de que servidores públicos o contratistas adscritos al Centro de Alto Rendimiento reciban prevendas o dádivas, en beneficio propio o de terceros, a cambio del préstamo irregular de escenarios deportivos, contrariando los procedimientos establecidos | D27: No | E27: No diligenciado | F27: 46009 | G27: 46022 | H27: Misional | I27: Moderado | J27: Si | K27: Cada vez que se requiera, el profesional designado debe verificar el cumplimiento de los requisitos para el préstamo y uso de los escenarios del Centro de Alto Rendimiento a través del oficio de respuesta de aprobación radicado en el sistema de gestión documental-GESDOC, emitido por el Director de Recursos y Herramientas del SND o la Coordinación del GIT CAR. En caso de identificar desviaciones en la ejecución del control, enviar un oficio indicando la situación evidenciada de falta de requisitos que permita subasanar la información requerida y abstenerse de beneficiar a quien no cumpla con los requisitos establecidos. | L27: Preventivo | M27: Si | N27: Si | O27: Si | P27: Aceptar | Q27: Bajo | R27: Incompleta | S27: Si | T27: Implementar mecanismo de seguimiento por medio de informe periodico. | U27: No | V27: Incompleta | W27: No | X27: No aplica | Y27: No aplica | Z27: No aplica | AA27: No | AB27: 0 | AC27: La redacción del riesgo no considera los cuatro (4) elementos para los riesgos de corrupción, no se refiere a daño económico o reputacional, ni la desviación específica de la gestión de lo público de manera que recomienda revisar y ajustar la redacción del riesgo. Se recomienda evaluar el nivel de riesgo inherente, dado que el proceso ha sido establecido con un riesgo alto y considerando las causas identificadas su zona de Riesgo podría ser extremo, para ello se sugiere atender el procedimiento y formato, dando respuesta a las 19 preguntas para la clasificación de impacto.Como consecuencia, el riesgo residual quedó valorado en zona baja, por lo que se recomienda ajustar su identificación y valoración conforme a la Política de Administración del Riesgo, situación recomendada por la tercera línea en el primer monitoreo. En cuanto a los controles, aunque se reportó la validación de 151 solicitudes, no es posible verificar la trazabilidad de su aplicación dado que la matriz no describe cómo fue implementado el control. Así mismo, la evidencia sobre el seguimiento al préstamo de escenarios del CAR resulta parcial y no permite determinar el estado de la acción.
A28: Servicio Integral al Ciudadano | B28: =VLOOKUP(A28,'Listas deplegables'!$A$2:$B$19,2,0) -> SI | C28: Posibilidad de que servidores públicos soliciten o reciban dádivas, beneficios o prebendas, en nombre propio o de terceros, con el fin de omitir el registro de PQRSD en los canales presenciales, telefónicos o de chat, afectando la integridad del servicio y la trazabilidad institucional. | D28: No | E28: 46009 | F28: 46013 | G28: 46387 | H28: Apoyo | I28: Alto | J28: Si | K28: La coordinadora del grupo interno de trabajo de Servicio Integral al Ciudadano verifica que los responsables de la atención de canales realicen el registro en GESDOC de las atenciones a traves del un cierre diario de la gestión sobre los canales presencial, telefónico y chat . En caso de encontrar faltantes en los registos diarios se realiza el llamado de atención al responsable.. Evidencia: Reporte de gesdoc de atenciones por canal presencial, telefónico y chat e Informe trimestral de PQRSD | L28: Preventivo | M28: Si | N28: Si | O28: Si | P28: Reducir (Mitigar) | Q28: Moderado | R28: Si | S28: Si | T28: Documentar un formato de registro diario de las atenciones para los canales presencial, telefónico y chat | U28: Si | V28: Si | W28: No | X28: No aplica | Y28: No aplica | Z28: No aplica | AA28: Si | AB28: 0 | AC28: La redacción del riesgo no considera los cuatro (4) elementos para los riesgos de corrupción, no se refiere a daño económico o reputacionalo de manera que recomienda revisar y ajustar la redacción del riesgo, pese a que este fue actualizado en la versión 4, ya que además quedaron dos redacciones en la misma casilla. Acorde con el riesgo formulado se recominda al proceso (SI) realizar la identificación de causas relacionadas con garantizar el anonimato de los usuarios y funcionarios que interponen una denuncia, presiones ocultas para inducir a la omisión de radicación de peticiones por motivaciones poco éticas y evasión del procedimiento, debilidades en aplicación de sanciones displiciplinarias por no registrar una PQRSD. En la matriz el proceso (SI) dilgencio por error de transcripción como misional, en vez de apoyo, lo cual tampoco fue corregido. Se recomienda verificar el nivel de riesgo inherente, dado que no se evidencia el diligenciamiento de la Tabla de Impacto y la respuesta a los interrogantes que permite la clasificación en el mapa de calor, terminando en zona de riesgo moderado, siendo un riesgo de corrupción. Durante el periodo, el proceso formalizó el formato SI‑FR‑036 sobre atenciones a la ciudadanía conforme la acción planteada; sin embargo, argumentó su no implementación debido a los reprocesos que generaría y al posible impacto en la oportunidad y calidad del servicio. Considerando esta situación y se recomienda modificar la acción prevista, definiendo un nuevo mecanismo que permita garantizar la constancia o número de radicado de las atenciones y, en caso de requerir recursos, evaluar su inclusión en el Plan Anual de Adquisiciones, así como realizar la respectiva eliminación del documento de Isolución, pues mientras este exista y esté documentado debe utilizarse. Se detalla que el Mapa de Riesgos versión 2 para la vigencia 2025 fue revisado y aprobado por la OAP, no obstante, se reporta versión 4
A29: Gestión de TIC'S | B29: =VLOOKUP(A29,'Listas deplegables'!$A$2:$B$19,2,0) -> GT | C29: Posibilidad de afectación económica o reputacional por acceder, facilitar el acceso o alterar los datos de los sistemas de información de la entidad con el fin de beneficiarse a nombre propio o de terceros | D29: Si | E29: 45845 | F29: 46013 | G29: 46022 | H29: Apoyo | I29: Alto | J29: Si | K29: Cuatrimestralmente, el Coordinador del GIT TIC's debe verificar que los niveles de acceso concedidos a los usuarios correspondan a los solicitados a través de los canales de atención, debe notificar al grupo de Soporte de GIT TIC´S para que revoque los permisos no solicitados. De la ejecución de los controles se generará la siguiente evidencia: reporte de usuarios y permisos por aplicación. debe notificar al grupo de Soporte de GIT TIC´S para que revoque los permisos no solicitados. De la ejecución de los controles se generará la siguiente evidencia: reporte de usuarios y permisos por aplicación. | L29: Preventivo | M29: Si | N29: Si | O29: Si | P29: Reducir (Mitigar) | Q29: Alto | R29: Si | S29: Si | T29: Actualizar y solicitar la publicación de los documentos del proceso en el Sistema de Gestión de Calidad | U29: No | V29: Incompleta | W29: No | X29: No aplica | Y29: No aplica | Z29: No aplica | AA29: Si | AB29: 0 | AC29: Se recomienda verificar medición de la zona de riesgo en Alto, aplicando la encuesta y preguntas. Se realizo monitoreo aportando evidencias de la ejecución de los controles establecidos, incluyendo la verificación de niveles de acceso de usuarios y la asignación o eliminación de permisos en las carpetas de SharePoint, finalizando su aplicación para la vigencia. Respecto al plan de tratamiento, una acción se identificó como incumplida al no encontrarse documentos actualizados en ISOLUCIÓN, mientras que las acciones 2 y 3 fueron ejecutadas conforme a su descripción.
A30: Gestión de TIC'S | B30: =VLOOKUP(A30,'Listas deplegables'!$A$2:$B$19,2,0) -> GT | J30: Si | K30: Cuatrimestralmente, el Coordinador del GIT TIC's debe gestionar que las carpetas compartidas (SharePoint) de Mindeporte, a las cuales todos los usuarios tengan permiso de lectura o escritura, se encuentren configuradas para que accedan a ellas solo los usuarios autorizados. En caso de identificar desviaciones en la ejecución del control, debe notificar a todos los Respónsables del Ministerio del Deporte, para que se eliminen los usuarios ya no vigentes o no autorizados. De la ejecución del control se generará la siguiente evidencia: Correos de reporte de verificación de usuarios vigentes y autorizados en carpetas compartidas y correos de las diferentes dependencias responsables de su acceso notificando los permisos y usuarios autorizados a ingresar a las carpetas compartidas. | L30: Preventivo | M30: Si | N30: Si | O30: Si | P30: Reducir (Mitigar) | Q30: Alto | R30: Si | S30: Si | T30: Monitorear y generar acciones de bloqueo a accesos indebidos detectados en las plataformas de ciberseguridad contratadas por la entidad | U30: No | V30: Si
A31: Gestión de TIC'S | B31: GT | S31: Si | T31: Socializar la politica de seguridad de informacion mediante piezas de comunicación en las que se incluyan tips de seguridad de la información. | U31: No | V31: Si
A32: Gestión del Talento Humano | B32: =VLOOKUP(A32,'Listas deplegables'!$A$2:$B$19,2,0) -> GH | C32: Posibilidad afectación económica y reputacional por Recibir o solicitar dadivas o beneficio por direccionamiento de vinculación en favor propio o de un tercero debido a las posibles debilidades en la implementación de procesos y procedimientos internos | D32: Si | E32: 45897 | F32: 46009 | G32: 46022 | H32: Apoyo | I32: Alto | J32: Si | K32: Profesional designado, verifica los requisitos de los candidatos que se postulan para proveer las vacantes; se validan lo establecido en el manual de funciones en coherencia con el procedimiento GH-PD-026 Procedimiento de Vinculación de Servidores Públicos, para acceder a la vacantes dejando como registro el diligenciamiento del formato GH-FR-061 Documentos Requisitos de Posesión. En caso de desviación del control, el coordinador del GIT: Talento Humano emitirá memorando de verificación de requisitos y de vinculación del candidato a cubrir la vacante. De la ejecución del control, se generará las siguientes evidencias: 1. Registro en el formato GH-FR-061 Documentos Requisitos de Posesión 2. correo de verificación en caso de no cumplir con requisitos (cuando aplique) 3. Memorando de verificación (cuando aplique) Reporte cuatrimestral | L32: Preventivo | M32: Si | N32: Si | O32: No | P32: Reducir (Mitigar) | Q32: Alto | R32: No | S32: Si | T32: Gestionar mediante mesas de trabajo, la revisión del manual de funciones, para su actualización. | U32: No | V32: Incompleta | W32: No | X32: No aplica | Y32: No aplica | Z32: No aplica | AA32: Si | AB32: 0 | AC32: Verificar zona de riesgo aplicando la metodología de las preguntas y. El control no tiene periodicidad definida . Se evidenció la ejecución del control establecido, soportado en siete formatos de verificación de requisitos, cumpliéndose conforme a lo previsto para la vigencia. En cuanto al plan de tratamiento, la acción 1 se identificó como incumplida al no lograrse la actualización del manual de funciones, pese a las mesas de trabajo realizadas, mientras que las acciones 2 y 3 fueron ejecutadas según su descripción
A33: Gestión Documental | B33: =VLOOKUP(A33,'Listas deplegables'!$A$2:$B$19,2,0) -> GD | C33: Posibilidad de afectación economica y reputacional al recibir cualquier dádiva o beneficio a nombre propio o de terceros con el fin de omitir información o perdida de expedientes del archivo central. | D33: Si | E33: 45896 | F33: 46006 | G33: 46022 | H33: Apoyo | I33: Alto | J33: Si | K33: El profesional en Gestión Documental Socializa los lineamientos de la Gestión Documental frente al manejo del archivo y la información, Política e instrumentos archivisticos que genere la entidad, a través de la implementación del cronograma de capacitaciones de Gestión documental.;en caso de identificar desviaciones en la ejecución del control, enviar correo electronico a los enlaces designacinados por dependencia para dar a conocer el cronograma de capacitación.De la ejecución de los controles se generarán las siguientes evidencias: memorando que incluye cronograma , Piezas comunicativas socializadas en la intranet y lista de asistencia y/o actas de reunión de capacitaciones. Nota: El reporte se realizara cuatrimestralmente en coherencia con el monitoreo. | L33: Preventivo | M33: Si | N33: Si | O33: No | P33: Reducir (Mitigar) | Q33: Alto | R33: Si | S33: Si | T33: Reforzar capacitaciones de gestión documental adicionales por demanda. | U33: Si | V33: Incompleta | W33: No diligenció la casilla | X33: No diligenció la casilla | Y33: No diligenció la casilla | Z33: No diligenció la casilla | AA33: Si | AB33: 0 | AC33: En la matriz, el proceso GD no diligenció las casillas correspondientes a la materialización de riesgos. Asimismo, la segunda línea no registró ningún pronunciamiento al respecto en el formato DE-FR-002. No obstante, se evidencia que se ha realizado seguimiento a través de correo electrónico. Se evidenció la ejecución de los controles establecidos; sin embargo, en el control 1 no fue posible verificar la trazabilidad completa del plan de capacitación, dado que no se identificó la implementación progresiva ni actualizaciones frente a lo reportado en el primer cuatrimestre, lo cual afecta el seguimiento del cronograma. En el control 2 se registró el seguimiento, pero los inventarios se encontraron diligenciados en formatos no oficiales, incluidos archivos en Excel sin encabezado y un documento en borrador, lo que evidencia debilidades en la actualización del inventario documental.
A34: Gestión Documental | B34: =VLOOKUP(A34,'Listas deplegables'!$A$2:$B$19,2,0) -> GD | J34: Si | K34: El profesional en Gestión Documental, verifica y ajusta los inventarios del archivo central, a través de la revisión del inventario inicial contra los datos de los expedientes físicos, sus unidades de almacenamiento y conservación para su ubicación topográfica (espacio físico). En caso de desviación, puntear las unidades de almacenamiento y conservación. De la ejecución del control se generan las siguinetes evidencias; inventarios actualizados registro GD_FR-029 formato de inventario documental FUID, correo informando el estado de los expedientes al coordinador del área (cuando aplique) Nota: El reporte se realizara cuatrimestralmente en coherencia con el monitoreo. | L34: Preventivo | M34: Si | N34: Si | O34: No | P34: Reducir (Mitigar) | Q34: Alto | R34: Si
A35: Adquisición de Bienes y Servicios | B35: =VLOOKUP(A35,'Listas deplegables'!$A$2:$B$19,2,0) -> BS | C35: Posibilidad de Afectación Reputacional por recibir cualquier dádiva o beneficio a nombre propio o de terceros por el direccionamiento indebido de procesos de contratación | D35: No | E35: 45642 | F35: 46013 | G35: 46022 | H35: Apoyo | I35: Extremo | J35: Si | K35: Cada vez que se requiera, el Coordinador GIT Contratación Realiza el seguimiento a los procesos asignados a cada estructurador en aras que los contratos se suscriban en un tiempo adecuado. Se realiza el reparto de los procesos a los estructuradores, evidenciando la fecha de asignación del proceso y la fecha de suscripción del contrato en caso de identificar desviaciones en la ejecución del control, propender por la reasignación oportuna a nuevo personal que garantize la continuidad del servicio. De la ejecución de los controles se generará la siguiente evidencia: Muestra de correos asignando los procesos a los estructuradores y/o base de datos con los procesos asignados a cada estructurador | L35: Preventivo | M35: Si | N35: Si | O35: Si | P35: Reducir (Mitigar) | Q35: Extremo | R35: Si | S35: Si | T35: Realizar la actualización de la base de contratación cada vez que se realice una nueva solicitud, es decir incluir aquellas que estan en trámite, para garantizar un seguimiento | U35: Si | V35: Si | W35: No | X35: No aplica | Y35: No aplica | Z35: No aplica | AA35: Si | AB35: 0 | AC35: La redacción del riesgo no considera los cuatro (4) elementos para los riesgos de corrupción, no se refiere a la desviación específica de la gestión de lo público y el beneficio privado, no se atendió esta recomendación realizada en el primer y segundo monitoreo. La acción del plan de tratamiento planteada corresponde a la descripción del control denominado: base de datos con los procesos asignados a cada estructurador. Se recomienda, ajustar la acción de plan de tratamiento. Se evidenció que los dos controles establecidos fueron implementados conforme a su descripción. La acción definida en el plan de tratamiento se considera cumplida. Los indicadores del riesgo y del desempeño del control fueron reportados en el documento de trabajo con sus respectivas evidencias.
A36: Adquisición de Bienes y Servicios | B36: =VLOOKUP(A36,'Listas deplegables'!$A$2:$B$19,2,0) -> BS | J36: Si | K36: Cada vez que se requierael Coordinador GIT Contratación Cita al Comite de Contratación para que se revisen los procesos que tengan un valor superior a la miníma cuantia, y se hagan las recomendaciones necesarias para adelantar la gestión contractual de la mejor manera posible. Se realiza la convocatoria a través de la plataforma Teams acorde alas necesidades expuestas por las áreasEn caso de identificar desviaciones en la ejecución del control, se revisará la normativa para garantizar la legalidad de los procesos que se adelanten. De la ejecución de los controles se generará la siguiente evidencia: Actas y/o grabaciones del Comité de Contratación | L36: Preventivo | M36: Si | N36: Si | O36: Si | P36: Reducir (Mitigar) | Q36: Extremo | R36: Si
A37: Gestión Financiera | B37: =VLOOKUP(A37,'Listas deplegables'!$A$2:$B$19,2,0) -> GF | C37: Posibilidad de Afectación Económica y Reputacional por posibles comportamientos no éticos por parte de servidores públicos, tales como fraude interno, corrupción o soborno, durante la ejecución de actividades asociadas a los movimientos bancarios y/o al cálculo en la liquidación de los pagos, lo que podría dar lugar a la aprobación y ejecución de desembolsos que no cumplen con los lineamientos del proceso de Gestión Financiera ni con la legislación vigente. | D37: Si | E37: 45895 | F37: 46009 | G37: 46022 | H37: Apoyo | I37: Extremo | J37: Si | K37: Mensualmente, el Coordinador (a) del GIT Tesorería y/o profesionales designados, debe conciliar la información financiera generada de las actividades desarrolladas teniendo en cuenta lo dispuesto en el procedimiento GF-PD-019 del proceso de Gestión Financiera, mediante el cruce de información de los registros efectuados . En caso de identificar desviaciones en la ejecución del control, se efectúan los ajustes requeridos mediante las transacciones dispuestas para tal fin. De la ejecución del control se generará la siguiente evidencia: Formato GF-FR–010 Conciliación Bancaria firmado o correo electrónico de devolución para ajuste. | L37: Detectivo | M37: Si | N37: Si | O37: Si | P37: Reducir (Mitigar) | Q37: Extremo | R37: Si | S37: Si | T37: 1. Elaborar el procedimiento de Gestión de Pagos, donde se evidencian las actividades del GIT Tesorería. | U37: No | V37: Incompleta | W37: No | X37: No aplica | Y37: No aplica | Z37: No aplica | AA37: Si | AB37: 0 | AC37: Se identificó que el procedimiento relacionado con las actividades del GIT Tesorería aún se encuentra en fase de elaboración en formato borrador. No se identificó trazabilidad sobre la actualización del procedimiento GF‑PD‑019 de Conciliaciones Bancarias, pese a estar reportado en el formato de actualización documental. Se recomienda priorizar la formalización del formato de lista de chequeo y dar cumplimiento a la actualización del procedimiento GF‑PD‑019, a fin de asegurar consistencia en los procesos asociados a desembolsos y pago. Se evidencia que el proceso reportó indicadores en formato de word anteriormente solicitado por la segunda línea, lo que refuerza lo señalado por esta Oficina en los informes 1 y 2, en los que se recomendó formalizar el mecanimo de medición de indicadores en el procedimiento y en formato codificado de Isolución
A38: Gestión Financiera | B38: =VLOOKUP(A38,'Listas deplegables'!$A$2:$B$19,2,0) -> GF | J38: Si | K38: Diariamente, el Coordinador (a) del GIT Tesorería y/o profesionales designados, debe verificar que la información financiera radicada por las dependencias ejecutoras de recursos cumplan con las directrices impartidas por la Entidad y la normatividad vigente aplicable, por medio de la validación de la documentación. Para el caso de cuentas se realiza contra el formato GF-FR-020, para los casos de expedición o modificación de CDP vía SISEG o formato según corresponda y Registros Presupuestales con la documentación soporte adjunta y para las Ordenes de Pago la verificación visual de la información. En caso de identificar desviaciones en la ejecución del control, se debe devolver la solicitud mediante el formato de Devolución de documentos GF-FR-016 o en SISEG según corresponda. De la ejecución del control se generará la siguiente evidencia: Devolución de documentos mediante el Formato GF-FR-016 o devolución en SISEG según corresponda | L38: Detectivo | M38: Si | N38: Si | O38: Si | P38: Reducir (Mitigar) | Q38: Extremo | R38: Si | S38: Si | T38: 1. Actualizar el procedimiento GF-PD-019-Conciliaciones Bancarias, incluyendo las políticas de operación necesarias y la normatividad vigente. | U38: No | V38: Incompleta
A39: Gestión Jurídica | B39: =VLOOKUP(A39,'Listas deplegables'!$A$2:$B$19,2,0) -> GJ | C39: Posibilidad de recibir cualquier dádiva o beneficio para ejercer una deficiente defensa técnica judicial en el marco de las contestaciones de tutelas. | D39: No | E39: 45595 | F39: 46013 | G39: 46022 | H39: Apoyo | I39: Extremo | J39: Si | K39: Cada vez que se requiera ,el Jefe Oficina Asesora Jurídica, debe revisar y verificar que el contenido de las respuestas a las acciones de tutela remitidos a la Oficina, cumpla con la línea jurídica de la Entidad, a través de la validación del documento mediante la firma del mismo. En caso de identificar desviaciones en la ejecución del control, Solicitar los ajustes del documento al responsable asignado para dar respuesta al requerimiento . | L39: Preventivo | M39: Si | N39: Si | O39: Si | P39: Reducir (Mitigar) | Q39: Extremo | R39: Si | S39: Si | T39: Socializar al personal de la Oficina Asesora Jurídica el Procedimiento Contestación de acciones de Tutela, para su conocimiento e implementación. | U39: Si | V39: Si | W39: No | X39: No aplica | Y39: No aplica | Z39: No aplica | AA39: Si | AB39: 0 | AC39: La redacción del riesgo no considera los cuatro (4) elementos para los riesgos de corrupción, no se refiere a daño económico o reputacional, ni la desviación específica de la gestión de lo público y el beneficio privado, de manera que recomienda revisar y ajustar la redacción del riesgo, no se realizó ajuste pese a que se comunicó en el primer y segundo monitoreo. Se evidenció la ejecución del control establecido, soportado mediante la base de datos detallada de contestaciones de tutelas y la muestra tomada para verificar el registro de auditoría. En cuanto al plan de tratamiento, las acciones se consideran cumplidas.
A40: Gestión Jurídica | B40: =VLOOKUP(A40,'Listas deplegables'!$A$2:$B$19,2,0) -> GJ | S40: Si | T40: Realizar tres (3 )revisiones aleatorias de la aplicación el procedimiento de Acciones de Tutela con el personal de la Oficina Asesora Jurídica. | U40: Si | V40: Si
A41: Gestión Jurídica | B41: =VLOOKUP(A41,'Listas deplegables'!$A$2:$B$19,2,0) -> GJ | S41: Si | T41: Incluir en la base de datos de la Oficina Asesora Jurídica, el fundamento de derecho empleado para la contestación de tutelas . | U41: Si | V41: Si
...

Sheet Sg-MRF
A1: MATRIZ SEGUIMIENTO MAPA DE RIESGOS FISCALES
B2: Entidad: Ministerio del Deporte | I2: ¿Se adelantó seguimiento al Mapa de Riesgos Fiscales?
B3: Responsable: Tercera línea de defensa
B4: Seguimiento: Tercer Cuatrimestre 2025 | I4: Si | J4: Primer y segunda línea de defensa
B5: Fecha de publicación: 16 de enero de 2026
A6: SEGUIMIENTO Y EVALUACIÓN POR PARTE DE LA TERCERA LÍNEA DE DEFENSA
A8: FORMULACIÓN DE RIESGOS Y EVALUACIÓN | J8: VALORACIÓN DE LOS CONTROLES | S8: PLAN DE TRATAMIENTO | W8: MONITOREO, SEGUIMIENTO Y EVALUACIÓN
A9: Nombre del Proceso | B9: Siglas | C9: Descripción Riesgo | D9: ¿Cumple con la redacción del Riesgo Fiscal? | E9: Fecha de Aprobación | F9: Fecha de Monitoreo 1a Línea de Defensa | G9: Fecha de Monitoreo 2da Línea de Defensa | H9: Tipo Proceso | I9: Zona de Riesgo Inherente | J9: ¿Presenta descripción de la valoración de controles? | K9: Descripción del Control | L9: Atributo del Control | M9: ¿Los controles son efectivos? | N9: ¿Los controles cuentan con responsables de su ejecución? | O9: ¿La periodicidad de los controles es oportuna para mitigar el riesgo? | P9: Tratamiento | Q9: Zona de Riesgo Residual Final | R9: ¿Se cuenta con evidencias de la ejecución del control? | S9: ¿Formuló Plan de Tratamiento (acciones)? | T9: Descripción del Plan de Tratamiento | U9: ¿Cumple con la ejecución del Plan de Tratamiento de manera eficaz? | V9: ¿Se cuenta con evidencias de la ejecución del Plan de Tratamiento? | W9: ¿El proceso reportó Materialización del Riesgo? | X9: ¿Se enunciaron acciones de mejora por materialización? | Y9: ¿Se activaron alertas tempranas para evitar la materialización? | Z9: ¿Se implementaron correctivos por la materialización? | AA9: ¿Se reportaron indicadores? | AB9: Observaciones por parte de la Tercera Línea de Defensa - Oficina de Control Interno (OCI)
