Workbook
Name _Hlk170218928: 'T5'!$A$1

Sheet Listas deplegables
A1: Procesos | B1: Siglas | D1: TipoProceso | E1: DescripciónCtr | F1: Atributo | G1: ZonaRiesgo | H1: DescripciónCtr | I1: Periodicididad de los control | J1: Tratamiento | K1: Reporte | L1: Reporte
A2: Direccionamiento Estratégico y Aprendizaje Organizacional | B2: DE | D2: Estratégico | E2: Si | F2: Detectivo | G2: Extremo | H2: Si | I2: SI | J2: Aceptar | K2: Si | L2: Si | M2: Primera línea de defensa
A3: Gestión de las Comunicaciones | B3: GC | D3: Misional | E3: No | F3: Preventivo | G3: Alto | H3: No | I3: NO | J3: Evitar | K3: No | L3: No | M3: Segunda línea de defensa
A4: Formulación y Adopción de Políticas, Planes y Programas | B4: FP | D4: Apoyo | E4: No tiene controles | F4: No definido | G4: Moderado | H4: No tiene plan de tratamiento | I4: Parcialmente | J4: Reducir (Transferir) | K4: No diligenció la casilla | L4: No formuló indicadores | M4: Primer y segunda línea de defensa
A5: Altos Logros | B5: AL | D5: Evaluación | E5: Incompleta | F5: No aplica | G5: Bajo | H5: No aplica | J5: Reducir (Mitigar) | K5: No aplica | L5: No aplica
A6: Inspección Vigilancia y Control | B6: IVC | E6: No aplica | H6: Parcialmente | J6: No identificado
A7: Fomento al Desarrollo Humano y Social | B7: FD
A8: Apoyo a la Infraestructura Técnica y Científica | B8: ATC
A9: Servicio Integral al Ciudadano | B9: SI | D9: ¿Cumple con la ejecución del Plan de Tratamiento de manera eficaz? | E9: ¿Cumple con la ejecución del Plan de Tratamiento de manera eficaz? | F9: ¿Se cuenta con evidencias de la ejecución del control?
A10: Gestión de TIC'S | B10: GT | D10: SI | E10: SI | F10: SI
A11: Gestión del Talento Humano | B11: GH | D11: NO | E11: NO | F11: NO
A12: Gestión Documental | B12: GD | D12: No tiene plan de tratamiento | E12: No aplica para el cuatrimestre | F12: Parcialmente
A13: Adquisición de Bienes y Servicios | B13: BS | D13: En curso | E13: En curso | F13: No aplica
A14: Gestión Financiera | B14: GF | E14: Evidencia extemporánea
A15: Gestión Jurídica | B15: GJ
A16: Gestión de los Recursos Físicos | B16: RF
A17: Evaluación Independiente y Mejora Continua | B17: EI
A18: Gestión Proceso Disciplinario | B18: PD
A19: Proceso Gestión Ambiental | B19: GA

Sheet Sg-MRG
A1: MATRIZ SEGUIMIENTO MAPA DE RIESGOS DE GESTIÓN
B2: Entidad: Ministerio del Deporte | J2: ¿Se adelantó seguimiento al Mapa de Riesgos de Gestión?
B3: Responsable: Tercera línea de defensa
B4: Seguimiento: Primer Cuatrimestre 2026 | J4: Si | K4: Primer y segunda línea de defensa
B5: Fecha de publicación: 25 de junio de 2026
A6: SEGUIMIENTO Y EVALUACIÓN POR PARTE DE LA TERCERA LÍNEA DE DEFENSA
A8: FORMULACIÓN DE RIESGOS Y EVALUACIÓN | I8: VALORACIÓN DE LOS CONTROLES | R8: PLAN DE TRATAMIENTO | X8: MONITOREO, SEGUIMIENTO Y EVALUACIÓN
A9: Nombre del Proceso | B9: Siglas | C9: Descripción Riesgo | D9: Fecha Elaboración y/o actualización | E9: Fecha Aprobación | F9: Fecha de Monitoreo 2da Línea de Defensa | G9: Tipo Proceso | H9: Zona de Riesgo Inherente | I9: ¿Presenta descripción de la valoración de controles? | J9: Descripción del Control | K9: Atributo del Control | L9: ¿El diseño de los controles es efectivo? | M9: ¿Los controles cuentan con responsables de su ejecución? | N9: ¿La periodicidad de los controles es oportuna para mitigar el riesgo? | O9: Tratamiento | P9: Zona de Riesgo Residual | Q9: ¿Se cuenta con evidencias de la ejecución del control? | R9: ¿Formuló Plan de Tratamiento (acciones)? | S9: Descripción del Plan de Tratamiento | T9: Soporte o evidencia de la acción | U9: Fecha implementación | V9: ¿Cumple con la ejecución del Plan de Tratamiento de manera eficaz? | W9: ¿Se cuenta con evidencias de la ejecución del Plan de Tratamiento? | X9: ¿El proceso reportó Materialización del Riesgo? | Y9: ¿Se enunciaron acciones de mejora por materialización? | Z9: ¿Se activaron alertas tempranas para evitar la materialización? | AA9: ¿Se implementaron correctivos por la materialización? | AB9: ¿Se reportaron indicadores? | AC9: Observaciones y recomendaciones por parte de la Tercera Línea de Defensa - Oficina de Control Interno (OCI) | AD9: Cont | AE9: Acc
A10: Direccionamiento Estratégico y Aprendizaje Organizacional | B10: DE | C10: R1: Posibilidad de afectación económica y reputacional por la desarticulación de los planes, programas y proyectos, debido a subestimación de las necesidades de los grupos de valor y las metas de Plan Nacional de Desarrollo. | D10: 46139 | E10: 46140 | F10: 46142 | G10: Estratégico | H10: Extremo | I10: Si | J10: R1-Cont-1: Cada vez que se requiera, el profesional designado del GIT Planeación y Gestión realiza verificación de cumplimiento de los requisitos normativos metodológicos y procedimentales de la formulación de los proyectos de inversión para registrar ajuste en plataforma del DNP "Metodología General Ajustada - MGA WEB " de los proyectos de inversión sobre los cuales se solicita formulación de un nuevo proyectos o requiere ajustes al mismo de acuerdo con las necesidades institucionales. En caso de que el proyecto no cumpla con los requisitos, este será devuelto a la dependencia que lo formuló para su ajuste y que nuevamente se presente a la OAP para su verificación. De la ejecución de los controles se generará la siguiente evidencia: En el formato DE-FR-033 Formulación de Proyectos de Inversión se envia observaciones por parte de la OAP y se deja la trazabilidad por medio de correo electrónico y/o mesas de trabajo por TEAMS e Informe de gestión de trámites presupuestales. | K10: Preventivo | L10: Si | M10: Si | N10: Incompleta | O10: Reducir (Mitigar) | P10: Extrema | Q10: SI | R10: Si | S10: R1-Acc-1: Realizar la verificación de las solicitudes de modificación a los PAI en la vigencia, frente a lo defindo en los programas y proyectos del área funcional solicitante. | T10: Correos electronico de retroalimentación de la solicitud Actas de comité CIGD (cuando aplique) | U10: 46387 | V10: No aplica para el cuatrimestre | W10: No aplica para el cuatrimestre | X10: No | Y10: No aplica | Z10: No aplica | AA10: No aplica | AB10: Si | AC10: Durante el I cuatrimestre de 2026 no se evidenció la materialización del riesgo. Con relación con los controles: R1-Cont-1: Se sugiere al proceso mantener la continuidad en la ejecución del control con el fin de mantener su efectividad dentro del sistema de control interno. R2-Cont-1: Se sugiere al proceso mantener la continuidad en la ejecución del control con el fin de mantener su efectividad dentro del sistema de control interno. Se sugiere en el documento “CRONOGRAMA SEGUIMIENTO 2026” incluir la marcación del estado de cada actividad, con el fin de fortalecer el control y seguimiento de su ejecución. R2-Cont-2: Se sugiere al proceso mantener la continuidad en la ejecución del control con el fin de mantener su efectividad dentro del sistema de control interno. R3-Cont-1: Se sugiere al proceso mantener la continuidad en la ejecución del control con el fin de mantener su efectividad dentro del sistema de control interno. Adicionalmente, al revisar el contenido del archivo: "Tablero de Ejecución MIPG_GIT de P y G" se sugiere atender las actividades en estado incumplida. R3-Cont-2: Se sugiere al proceso mantener la continuidad en la ejecución del control con el fin de mantener su efectividad dentro del sistema de control interno, tal como se ejecutó el control mediante el documento: "Lineamientos institucionales FURAG 2025 v1" R3-Cont-3: Se sugiere al proceso mantener la continuidad en la ejecución del control con el fin de mantener su efectividad dentro del sistema de control interno. Con relación al Plan de Tratamiento del Riesgo: R1-Acc-1: La acción para el presente cuatrimestre no requiere inicio de ejecución R2-Acc-1: La acción para el presente cuatrimestre no requiere inicio de ejecución R2-Acc-2: Aplica para el primer avance 0/04/2026, las evidencias aportadas no corresponden al avance del Plan de trabajo, versiones actualizadas de procedimientos, instructivos y documentos, cargue y/o actualizacion en ISOLUCION, actas de revision y aprobacion de documentos, correo de socializacion y validacion, dado que el proceso aporta evidenciua distintas como: documentos de GIT ONAD, Instructivo Gestión Programa Paradero 24032026, PROCEDIMIENTO ELABORACION, MODIFICACION Y SEGUIMIENTO DEL PLAN ESTRATEGICO INSTITUCIONAL Y DEL PLAN DE ACCION INSTITUCIONAL R3-Acc-1: La acción para el presente cuatrimestre no requiere inicio de ejecución R3-Acc-2: La acción para el presente cuatrimestre no requiere inicio de ejecución R3-Acc-3: La acción para el presente cuatrimestre no requiere inicio de ejecución. Indicadores R1 y R2: Se solicita al proceso (DE) realizar en una carpeta separada las evidencias correspondientes a los indicadores. Indicadores R1 , R2 y R3: En la revisión realizada no se evidenció el monitoreo por parte de la segunda línea de defensa para los indicadores mencionados. Por lo anterior, se recomienda fortalecer el cumplimiento de las actividades de monitoreo. | AD10: R1-Cont-1 R2-Cont-1 R2-Cont-2 R3-Cont-1 R3-Cont-2 R3-Cont-3 | AE10: R1-Acc-1 R2-Acc-1 R2-Acc-2 R3-Acc-1 R3-Acc-2 R3-Acc-3
C11: R2: Posibilidad de afectación reputacional por falta de seguimiento de los planes, programas y proyectos formulados, debido a la entrega inoportuna de la información por parte de las dependencias | H11: Moderado | I11: Si | J11: R2-Cont-1: De acuerdo con la programación del seguimiento a indicadores, el Profesional encargado perteneciente al GIT de seguimiento o quien designe el Coordinador, verifica que la información reportada por las dependencias en los sistemas de información y/o archivos designados sea congruente con lo programado para el cumplimiento de las actividades del GIT de seguimiento en los tiempos establecidos y entregará el reporte de manera cuatrimestral. verifica que la información reportada por las dependencias en los sistemas de información y/o archivos designados sea congruente con lo programado para el cumplimiento de las actividades de los proyectos de inversión en los tiempos establecidos y entregará el reporte de manera cuatrimestral. | K11: Preventivo | L11: Si | M11: Si | N11: Si | O11: Reducir (Mitigar) | P11: Moderada | Q11: SI | R11: Si | S11: R2-Acc-1: . Realizar alertas para el reporte oportuno de la información de los planes, programas y proyectos. | T11: 1. Correos electrónicos y/o memorandos de alertas y reiteraciones enviados a las depentencias, mesas de trabajo por TEAMS, pantallazos, actas de reuniones | U11: 1. 30/04/2026 2. 30/08/2026 3. 20/12/2026 | V11: Si | W11: Si | AB11: Si
S12: R2-Acc-2: Realizar alertas para el reporte oportuno de la información de los planes, programas y proyectos. | T12: 2. Plan de trabajo, versiones actualizadas de procedimientos, instructivos y documentos, cargue y/o actualizacion en ISOLUCION, actas de revision y aprobacion de documentos, correo de socializacion y validacion. | U12: 01/01/2026 al 30/10/2026 | V12: En curso | W12: En curso
C13: R3: Posibilidad de afectación Reputacional por la falta de apropiación del MIPG, debido a desarticulación entre las políticas y las acciones definidas en los planes institucionales, que incidan en la medición del índice de desempeño | H13: Moderado | I13: Si | J13: R3-Cont-1: Cada vez que se requiera, el Profesional designado del GIT de Planeación y Gestión, verifica las actividades programadas en el Plan de Trabajo establecido para el mantenimiento del Modelo Integrado de Planeación y Gestión, a través de reuniones con los enlaces y/o líderes de políticas constatando el avance de las actividades programadas. En caso de identificar desviaciones en la ejecución del control, se notifica al responsable de la actividad el incumplimiento para ejecute las actividades y entregué la evidencia correspondiente. De la ejecución de los controles se generará la siguiente evidencia: Actas de reunión y comunicaciones de seguimiento. | K13: Detectivo | L13: Si | M13: Si | N13: Si | O13: Reducir (Mitigar) | P13: Moderada | Q13: SI | R13: Si | S13: R3-Acc-1: Cada vez que se requiera, el Profesional designado del GIT de Planeación y Gestión, verifica las actividades programadas en el Plan de Trabajo establecido para el mantenimiento del Modelo Integrado de Planeación y Gestión, a través de reuniones con los enlaces y/o líderes de políticas constatando el avance de las actividades programadas. En caso de identificar desviaciones en la ejecución del control, se notifica al responsable de la actividad el incumplimiento para ejecute las actividades y entregué la evidencia correspondiente. De la ejecución de los controles se generará la siguiente evidencia: Actas de reunión y comunicaciones de seguimiento. | T13: 1. Correos electronicos y/o memorandos, alertas y reiteraciones, Reportes consolidados de seguimiento, Cargue de información en Sharepoint, Actas de reuniones, planes de mejora | U13: 01/07/2026 al 30/11/2026 | V13: No aplica para el cuatrimestre | W13: No aplica para el cuatrimestre | AB13: No aplica
I14: Si | J14: R3-Cont-2: Anualmente, el Coordinador del GIT de Planeación y Gestión y/o profesional asignado del GIT , verifica y emite lineamientos para el reporte anual del Formulario Único de Reporte de Avances a la Gestión - FURAG, a través del aplicativo Gesdoc y aplicativo FURAG. En caso de identificar desviaciones en la ejecución del control, se notificará a los líderes de política de la entrega de evidencias para el reporte oportuno de la información. De la ejecución de los controles se generará la siguiente evidencia: Lineamientos emitidos a través del sistema de gestión documental del Ministerio y/o certificado de diligenciamiento del FURAG emitido por el DAFP | K14: Preventivo | L14: Si | M14: Si | N14: Si | Q14: SI | R14: Si | S14: R3-Acc-2: Anualmente, el Coordinador del GIT de Planeación y Gestión y/o profesional asignado del GIT , verifica y emite lineamientos para el reporte anual del Formulario Único de Reporte de Avances a la Gestión - FURAG, a través del aplicativo Gesdoc y aplicativo FURAG. En caso de identificar desviaciones en la ejecución del control, se notificará a los líderes de política de la entrega de evidencias para el reporte oportuno de la información. De la ejecución de los controles se generará la siguiente evidencia: Lineamientos emitidos a través del sistema de gestión documental del Ministerio y/o certificado de diligenciamiento del FURAG emitido por el DAFP | T14: Informe generado, socializacion del informe, publicacion del informe, planes de mejora, correos y/o retroalimentacion a los procesos | U14: 46325 | V14: No aplica para el cuatrimestre | W14: No aplica para el cuatrimestre
I15: Si | J15: R3-Cont-3: Cada vez que se requiera, el Jefe de la Oficina Asesora de Planeación, convoca al Comité Institucional de Gestión y Desempeño para presentar el avance de las actividades ejecutadas para el mantenimiento de las políticas de MIPG, a través de solicitud a los líderes de política (cuando aplique) para la consolidación de la información por parte del profesional designado. En caso de identificar desviaciones en la ejecución del control, se solicitará a los líderes de política el cumplimiento de las recomendaciones dadas por los miembros del comité. De la ejecución de los controles se generará la siguiente evidencia: Correo de solicitud de insumo a los lideres de políticas y actas del CIGD | K15: Preventivo | L15: Si | M15: Si | N15: Si | Q15: SI | R15: Si | S15: R3-Acc-3: Cada vez que se requiera, el Jefe de la Oficina Asesora de Planeación, convoca al Comité Institucional de Gestión y Desempeño para presentar el avance de las actividades ejecutadas para el mantenimiento de las políticas de MIPG, a través de solicitud a los líderes de política (cuando aplique) para la consolidación de la información por parte del profesional designado. En caso de identificar desviaciones en la ejecución del control, se solicitará a los líderes de política el cumplimiento de las recomendaciones dadas por los miembros del comité. De la ejecución de los controles se generará la siguiente evidencia: Correo de solicitud de insumo a los lideres de políticas y actas del CIGD
A16: Adquisición de Bienes y Servicios | B16: BS | C16: R2: Posibilidad de afectación económica por multas o sanciones de los entes de control debido a la celebración de Contratos sin que se cumplan con todos los requisitos legales. | D16: 46140 | E16: 46140 | F16: 46143 | G16: Apoyo | H16: Extremo | I16: Si | J16: R2-Cont-1: Cada vez que se requiera, el Coordinador GIT Contratación y/o Profesional desigando, debe Verificar que tanto la norma como el proceso se aplique en cada elaboración de contratos y/o convenios de manera adecuada (Etapa Precontractual), Validar por el abogado encargado, en el manual de contratación y el Estatuto de Contratación, la modalidad del mismo según su naturaleza y cuantía. (Etapa Precontractual), a traves de la revisión de los estudios previos. En caso de identificar desviaciones en la ejecución del control, De no adecuarse la modalidad a la naturaleza y a la cuantía, comunicar al área solicitante para que ajuste su requerimiento según el caso. . De la ejecución de los controles se generará la siguiente evidencia: Base de datos de contratos en los que se registra la modalidad de contratación utilizada en el proceso | K16: Preventivo | L16: Si | M16: Si | N16: Si | O16: Reducir (Mitigar) | P16: Extrema | Q16: SI | R16: Si | S16: R2-Acc-1: Implementar Flujos de aprobación en Secop, que garanticen que el contrato sea revisado por varios profesionales que puedan identificar posibles inconsistencias | T16: Flujo de aprobación en Secop | U16: 01/01/2026 al 30/11/2026 | V16: En curso | W16: En curso | X16: No | Y16: No aplica | Z16: No aplica | AA16: No aplica | AB16: Si | AC16: Durante el I cuatrimestre de 2026 no se evidenció la materialización del riesgo. Con relación con los controles: R2-Cont-1: Se sugiere al proceso mantener la continuidad en la ejecución del control con el fin de mantener su efectividad dentro del sistema de control interno de la ejecución del control se identifico como evidencia el archivo: "CONTRATOS PRIMER CUATRIMESTRE - BASE CON MODALIDAD" R3-Cont-1: Se sugiere al proceso mantener la continuidad en la ejecución del control con el fin de mantener su efectividad dentro del sistema de control interno de la ejecución del control se identifico como evidencia el archivo: "Base Liquidaciones 2026". R4-Cont-1: Se sugiere al proceso mantener la continuidad en la ejecución del control con el fin de mantener su efectividad dentro del sistema de control interno de la ejecución del control se identifico como evidencia el archivo: "CONTRATOS PRIMER CUATRIMESTRE - EVALUACION COMPETITIVOS". R2-Acc-1: Acción iniciada para el presente cuatrimestre, presenta el documento 20260427 FLUJOS DE APROBACION, el cual se sugiere sea considerada su inclusión enla estructira documental del proceso Adquisición de Bienes y Servicios . R3-Acc-1: Acción iniciada para el presente cuatrimestre. Se identifican 27 archivos relacionados con alertas de contratosestan próximos a perder competencia para liquidar para las dependencias del Despacho del Ministerio, Dirección de Fomento y Desarrollo, Dirección de Recursos y Herramientas, Dirección de Posicionamiento y Despacho Secretario General (en particular para TICS, Talento Humano, Gestión Contable, Gestión Administrativa). R4-Acc-1: La acción se encuentra iniciada para el presente cuatrimestre, evidenciándose la identificación de 15 documentos correspondientes a subsanaciones de inconsistencias contractuales. No obstante, en términos de fortalecimiento del control y seguimiento, se recomienda implementar un cuadro de alertas que permita identificar oportunamente los contratos próximos a perder competencia para su liquidación, con el fin de mitigar riesgos asociados a vencimientos de términos y asegurar la gestión oportuna de los procesos contractuales. Indicadores R2, R3 y R4: Se evidencia la medición de los indicadores por lo que se recomienda fortalecer la gestión en la medición y análisis de indicadores como insumo clave para la gestión preventiva del riesgo. | AD16: R2-Cont-1 R3-Cont-1 R4-Cont-1 | AE16: R2-Acc-1 R3-Acc-1 R4-Acc-1 | AI16: =3+3+3+5+3+3+3+2+2 -> 27
C17: R3: Posibilidad de afectación económica por multas, sanciones o investigaciones disciplinarias, fiscales y penales debido a la liquidación incorrecta de contratos o no liquidación de los mismos en los plazos acordados en el contrato o los establecidos por la Ley | H17: Extremo | I17: Si | J17: R3-Cont-1: Cada vez que se requiera, el Coordinador GIT Contratación y/o el profesional designado, debe realizar el seguimiento a la base de datos de los procesos para liquidar, actualizando el listado de los procesos que deben entrar en esta fase . En caso de identificar desviaciones en la ejecución del control, se deberá reportar al director y/o jefe del área los procesos que no estan incluidos y realizar la actualización de manera inmediata. De la ejecución de los controles se generará la siguiente evidencia: Base de datos de Liquidaciones. | K17: Detectivo | L17: Si | M17: Si | N17: Si | O17: Reducir (Mitigar) | P17: Extrema | Q17: SI | R17: Si | S17: R3-Acc-1: Generar alertas con los lideres del equipo liquidaciones de las diferentes areas del Ministerio del deporte | T17: Memorandos enviados a los directores y jefes de área con lo contratos que estan próximos a perder competencia para liquidar | U17: 01/01/2026 al 30/11/2026 | V17: En curso | W17: En curso | AB17: Si
C18: R4: Posibilidad de afectación económica y reputacional por multas o sanciones de los entes de control debido al incumplimiento de las formalidades legales para la selección objetiva del contratista | H18: Extremo | I18: Si | J18: R4-Cont-1: Cada vez que se requiera, el Coordinador GIT Contratación y/o el profesional designado, debe verificar la evaluación de propuestas de manera rigurosa, realizando la revisión de propuestas mediante la lista de chequeo corespondiente. A través de un análisis de los requisitos y verificación del cumplimiento de los mismos. En caso de identificar desviaciones en la ejecución del control, reportar al oferente en la lista de chequeo y en la evaluación el resultado de la misma para el subsane o rechazo, según el caso. De la ejecución de los controles se generará la siguiente evidencia: Evaluación de los procesos competitivos en los casos que aplique | K18: Preventivo | L18: Si | M18: Si | N18: Si | O18: Reducir (Mitigar) | P18: Extrema | Q18: SI | R18: Si | S18: R4-Acc-1: Revisar los estudios previos buscando identificar posibles incumplimientos en las formalidades legales requeridas para la suscripción del proceso | T18: Muestra de correos electrónicos solicitando subsanar las inconsistencias encontradas | U18: 01/01/2026 al 30/11/2026 | V18: En curso | W18: En curso | AB18: Si
A19: Inspección Vigilancia y Control | B19: IVC | C19: R2: Posibilidad de afectación Reputacional por fallas en la articulación entra e intersectorial, que generen discontinuidad en los procesos de política pública, específicamente en su implementación , seguimiento y evaluación. | D19: 46113 | E19: 46146 | F19: 46146 | G19: Misional | H19: Moderado | I19: Si | J19: R2-Cont-1: Mensualmente, el coordinador GIT responsable, reorganiza las tareas de de acuerdo con las cargas laborales del personal existente, priorizando las actividades según su nivel de criticidad en cumplimiento de los procedimientos de la Dirección. En caso de desviación, el coordinador informará al Director, especificando las actividades pendientes y el número de trámites por ejecutar, así como la cantidad de personal disponible, con el fin de apoyar la toma de decisiones. De la ejecución del control, se genera la siguiente evidencia: correos informando al Director situaciones críticas, informes mensuales de gestión, alertas de los coordinadores. | K19: Preventivo | L19: Si | M19: Si | N19: Si | O19: Reducir (Mitigar) | P19: Moderada | Q19: Parcialmente | R19: Si | S19: R1-Acc-1: Socializar los responsables del manejo, control de cambios, actualización y permisos de acceso a las bases de datos y expedientes de la Dirección. | T19: 1. Correo electronico de socialización | U19: 01/05/2026 al 12/12/2026 | V19: No aplica para el cuatrimestre | W19: No aplica para el cuatrimestre | X19: Si | Y19: Si | Z19: Si | AA19: Si | AB19: No | AC19: Durante el I cuatrimestre de 2026 no se evidenció la materialización del riesgo. R2-Cont-1: Se sugiere al proceso mantener la continuidad en la ejecución del control con el fin de mantener su efectividad dentro del sistema de control interno de la ejecución del control se identifico como evidencia los archivos: Informe De Gestión de los meses de enero, febrero y marzo de la vigencia 2026 del GIT de Deporte Aficionado. No se identifica evidencia de gestión de los otros grupos internos de trabajo de IVC. R2-Cont-2:Se sugiere al proceso mantener la continuidad en la ejecución del control, con el propósito de preservar su efectividad dentro del Sistema de Control Interno. En la verificación realizada, se identificó como evidencia los archivos “Permisos Dirección” y “Base_05_Reparto de correspondencia”; sin embargo, al revisar el contenido de este último, se evidenció que la columna “entregado” no se encuentra diligenciada, lo cual limita la trazabilidad y el cumplimiento del objetivo del control. Con relación al Plan de Tratamiento del Riesgo: R1-Acc-1: La acción para el presente cuatrimestre no requiere inicio de ejecución R1-Acc-2: Acción iniciada para el presente cuatrimestre. Se identifica como evidencia la Base da datos de los actos administrativos por cada GIT de la Dirección de la que se identifican 13 registros que carece de la información explicita de los responsables de la actuación administrativa. Indicadores R1: No se evidencia la medición de los indicadores por lo que se recomienda fortalecer la gestión en la medición y análisis de indicadores como insumo clave para la gestión preventiva del riesgo. | AD19: R2-Cont-1 R2-Cont-2 | AE19: R1-Acc-1 R1-Acc-2
I20: Si | J20: R2-Cont-2: Semestralmente, el Coordinador del GIT responsable, verifica la información almacenada en las bases de datos de los procesos administrativos sancionatorios con vencimientos próximos. Cada coordinador, junto con el gestor documental, revisa las bases de datos para elaborar el plan de descongestion, priorizando los expedientes que están a punto de vencer. En caso de detectarse una desviación del proceso sancionatorio se tramitará de manera perentoria. De la ejecución del control, se generarán las siguientes evidencias: la base de datos de asignación de procesos y los correos electrónicos (cuando aplique). | K20: Detectivo | L20: Si | M20: Si | N20: Si | Q20: SI | R20: Si | S20: R1-Acc-2: Llevar un registro detallado de los actos administrativos por cada GIT de la Dirección, para identificar los actos que se expiden así como los responsables del mismo. | T20: Base da datos | U20: 01/01/2026 al 12/12/2026 | V20: En curso | W20: En curso
A21: Gestión Jurídica | B21: GJ | C21: R2: Posibilidad de afectación reputacional por debilidades en el seguimiento al registro de las actuaciones procesales en el sistema e-KOGUI por parte de los abogados que asumen la defensa judicial, debido a la desactualización de la información reportada de los procesos judiciales en el sistema e-KOGUI | D21: 45595 | E21: 45595 | F21: 46147 | G21: Apoyo | H21: Moderado | I21: Si | J21: R2-Cont-1: Cada vez que se requiera (de acuerdo a las actuaciones procesales suceptibles de reporte en la plataforma e- KOGUI respecto de los procesos judiciales y de las solicitudes de conciliacion extrajudicial a cargo del respectivo abogado) , el jefe de la Oficina Asesora Juridica, debera verificar la información que es suceptible de reporte en la plataforma para su registro correspondiente através del aplicativo y demás insumos documentales que se requieran para este efecto a nivel interno. En caso de identificar desviaciones en la ejecución del control, el Jefe de la Oficina Asesora Jurídica solicitara al abogado que corresponda de manera inmediata el informes remitidos por los apoderados que ejercen la defensa judicial sobre las actualizaciones y/o actuaciones en el sistema E-Kogui y correo electrónico institucional remisorio por parte de la Jefe de la OAJ requiriendo la actualización. | K21: Preventivo | L21: Si | M21: Si | N21: Si | O21: Aceptar | P21: Moderada | Q21: SI | R21: SI | S21: R2-Acc-1: Reportar las actualizaciones realizadas en el aplicativo e-KOGUI , dentro del informe mensual remitidos por los apoderados que ejercen la defensa judicial al jefe de la OAJ sobre las actualizaciones y/o actuaciones en el sistema E-Kogui | T21: Informe mensual de las actualizaciones en E-Kogui al Jefe de la OAJ | U21: 01/03/2026 al 05/12/2026 | V21: En curso | W21: En curso | X21: No | Y21: No aplica | Z21: No aplica | AA21: No aplica | AB21: Si | AC21: Durante el I cuatrimestre de 2026 no se evidenció la materialización del riesgo. Con relación con los controles: R2-Cont-1: Se sugiere al proceso mantener la continuidad en la ejecución del control con el fin de mantener su efectividad dentro del sistema de control interno de la ejecución del control se identifico como evidencia el archivo:Informe mensuales apoderados actualizaciones en el sistema E-Kogui R4-Cont-1: Se sugiere al proceso mantener la continuidad en la ejecución del control, con el fin de preservar su efectividad dentro del Sistema de Control Interno. En la verificación realizada, se identificó como evidencia el archivo denominado “Informe mensuales apoderados actualizaciones en el sistema E-Kogui”; no obstante, al revisar su contenido, se evidenció que la columna “¿SE PRESENTÓ OPORTUNAMENTE? SI/NO” se encuentra sin diligenciar, lo que limita la validación del cumplimiento oportuno y la efectividad del control. Con relación al Plan de Tratamiento del Riesgo: R2-Acc-1: Acción iniciada para el presente cuatrimestre. R2-Acc-2: La acción para el presente cuatrimestre no requiere inicio de ejecución, el proceso (GJ) presenta el Informe mensuales apoderados actualizaciones en el sistema E-Kogui, evidencia que corresponde a la periodicidad y lo establecido en el plan de tratamiento. R4-Acc-1: La acción para el presente cuatrimestre no requiere inicio de ejecución Indicadores R2 y R4: Se sugiere a la segunda línea de defensa realizar una retroaliamentación más explicita en los monitoreos. El proceso (GJ) presenta: Evidenica Indicador Clave del Riesgo - Reporte Ekogui y Evidencia Indicador Clave del Riesgo - BASE PROCESOS CONTROVERSIAS CONTRACTUALES, en este sentido, se evidencia la medición de los indicadores por lo que se recomienda fortalecer la gestión en la medición y análisis de indicadores. | AD21: R2-Cont-1 R4-Cont-1 | AE21: R2-Acc-1 R2-Acc-2 R4-Acc-1
S22: R2-Acc-2: Elaborar y socializar circular que imparta los lineamientos frente al reporte de la información oportuna en la plataforma e-KOGUI. | T22: Circular | U22: 46189 | V22: No aplica para el cuatrimestre | W22: No aplica para el cuatrimestre
C23: R4: Posibilidad de afectación económica por caducidad del medio de control de controversias contractuales, debido a debilidades en el ejercicio de la supervisión sobre los convenios interadministrativos suscritos por el Ministerio del Deporte y los entes territoriales | H23: Moderado | I23: Si | J23: R4-Cont-1: Cada vez que se requiera, el abogado designado por el Jefe de la Oficina, verifica los términos para la presentación de las demandas a instaurar oportunamente a través del medio de control de controversias contractuales con el fin de determinar si se configura el fenomeno juridico de la caducidad. En caso de identificar desviaciones en la ejecución del control, el abogado designado comunicará a la direccion tecnica que haya remitido la solicitud de inicio de accion judicial con ocasion del incumplimiento y liquidacion judicial de los contratos o convenios suscritos por el Ministerio del Deporte mediante correo electronico y/o memorando GESDOC. Como evidencia de la actividad se aportará la base de datos con el número de demandas instauradas opotunamente a traves del medio de control de controversias contractuales. | K23: Preventivo | L23: Si | M23: Si | N23: Si | O23: Reducir (Mitigar) | P23: Baja | Q23: SI | R23: SI | S23: R4-Acc-1: Elaborar y socializar circular en la cual se conmine a las direcciones tecnicas del Ministerio del Deporte a adelantar la liquidacion de los contratos o convenios dentro de los plazos contractuales y legales con el fin de evitar que opere el fenomeno juridico de la caducidad de la accion del medio de control | T23: Circular | U23: 20/08/2026 al 15/11/2026 | V23: No aplica para el cuatrimestre | W23: No aplica para el cuatrimestre
A24: Gestión de los Recursos Físicos | B24: RF | C24: R2: Posibilidad de afectación económica y reputacional por la falta de lineamientos para contingencias en el Servicio de Vigilancia y Seguridad, debido a deficiencias en la comunicación entre el GIT de Gestión Administrativa y servicios tercerizados, ausencia de controles operativos. | D24: 46107 | E24: 46107 | F24: 46146 | G24: Apoyo | H24: Moderado | I24: Si | J24: R2-Cont-1: El Supervisor o apoyo a la supervisión del Contrato, realizará seguimientos bimensuales con el supervisor designado de la empresa de vigilancia, a través de reuniones, para hacer seguimiento preventivo a las novedades presentadas en el periodo en concordancia con la ejecución del contrato. En caso de desviación, el(la) coordinador(a) del GIT: Administrativa, notificara al supervisor designando por el Ministerio y al supervisor del contrato tercerizado de Vigilancia y Seguridad para tomar decisiones de acuerdo con el evento o situación presentada. De ejecución de los controles se generan las siguientes evidencias: 1. Actas de reunión y correos electronicos. 2. correos electronicos e Informes de novedad de la empresa de vigilancia (cuando se requiera) | K24: Preventivo | L24: Si | M24: Si | N24: Si | O24: Reducir (Mitigar) | P24: Moderada | Q24: Parcialmente | R24: Si | S24: R2-Acc-1: Realizar visita de inspección de imprevisto, para verificar el funcionamiento del circuito. | T24: Acta de visita y registro fotografico | U24: 30/01/2026 al 15/12/2026 | V24: En curso | W24: En curso | X24: Si | Y24: No aplica | Z24: No aplica | AA24: No aplica | AB24: No | AC24: Durante el I cuatrimestre de 2026 no se evidenció la materialización del riesgo. Con relación con los controles: R2-Cont-1: Se sugiere al proceso mantener la continuidad en la ejecución del control, con el fin de preservar su efectividad dentro del Sistema de Control Interno. En la verificación realizada, se identificó como evidencias archivos de ejecución del control de los meses enero, febrero y marzo de 2026, sin la presentación de la información del mes de abril, lo que limita la validación del cumplimiento oportuno y la efectividad del control. R2-Cont-2: En la verificación realizada, se identificó como evidencias archivos de ejecución del control de los meses enero, febrero y marzo de 2026, sin la presentación de la información del mes de abril, lo que limita la validación del cumplimiento oportuno y la efectividad del control. R3-Cont-1: Se sugiere al proceso mantener la continuidad en la ejecución del control, con el fin de garantizar su efectividad dentro del Sistema de Control Interno. En la revisión realizada, se evidencian soportes correspondientes a los meses de enero, febrero y marzo en relación con el mantenimiento de los vehículos, exceptuando el mes de abril. Adicionalmente, en el archivo denominado “Plan Anual de Mantenimiento y Suministro de Combustible al Parque Automotor – RF-FR-030” se identificó que el campo “VIGENCIA DEL PLAN DE MANTENIMIENTO” se encuentra sin diligenciar, lo cual afecta la integridad de la información y la trazabilidad del control. Con relación al Plan de Tratamiento del Riesgo: R2-Acc-1: Acción iniciada para el presente cuatrimestre. El proceso presenta como evidencia cinco (5) elementos correspondientes a la ejecución de la acción. No obstante, el acta de visita de inspección imprevista correspondiente a la reunión del 31/03/2023 se encuentra incompleta, lo cual limita la verificación por parte de la tercera línea de defensa, especialmente considerando que la periodicidad del control es mensual. R3-Acc-1: Para el presente cuatrimestre se evidencia el inicio de la acción; sin embargo, el proceso no presenta el procedimiento “Mantenimiento y Control de Vehículos” (RF-PD-005), el cual tiene como plazo de ejecución el 30/07/2026, por lo que su verificación deberá realizarse en el siguiente seguimiento cuatrimestral de la vigencia 2026. De igual forma, no se evidencia avance en el diligenciamiento o implementación del formato de inspección preoperacional, lo que limita la trazabilidad de la ejecución de la acción. Adicionalmente, el proceso aporta como soporte el Plan de Mejoramiento EI-FR-017; no obstante, este documento no corresponde al plan de tratamiento definido para la acción, generando inconsistencias en la evidencia presentada frente a lo programado. Indicadores R2 y R3:No se evidenció la medición de los indicadores establecidos para los riesgos evaluados para la identificación oportuna de desviaciones y la adopción de acciones preventivas en materia de gestión del riesgo. As imismo, en la revisión efectuada se observó que la segunda línea de defensa no registró pronunciamientos frente a la ausencia de medición de los indicadores. | AD24: R2-Cont-1 R2-Cont-2 R3-Cont-1 R2-Cont-1 R2-Cont-2 R3-Cont-1 | AE24: R2-Acc-1 R3-Acc-1 R2-Acc-1 R3-Acc-1
I25: Si | J25: R2-Cont-2: El Supervisor o apoyo a la supervisión del Contrato, Realizará mesa tecnica mensual de seguimiento preventivo con la empresa de vigilancia y seguridad, A traves de reuniones convocadas por correo electronico. En caso de desviación, Se reprogramara la reunión. De ejecución de los controles se generan las siguientes evidencias: 1. Actas de reunión y correos electronicos. 2. correos electronicos e Informes de novedad de la empresa de vigilancia (cuando se requiera) | K25: Preventivo | L25: Si | M25: Si | N25: Si | O25: Reducir (Mitigar) | P25: Moderada | Q25: Parcialmente | R25: Si
C26: R3: Posibilidad de afectación económica y/o reputacional por vida útil vencida del parque automotor, imprevistos en el parque automotor: fallas mecánicas inesperadas, desgastes físicos, Incumplimiento de obligaciones legales, accidentes de tránsitos, debido a Falta de un diagnóstico técnico para identificar la vulnerabilidad y estado del parque automotor | I26: Si | J26: R3-Cont-1: El Profesional y/o Contratista del GIT asignado,realiza seguimiento mensual del estado del parque automotor en relación al cumplimiento de tecnomecanica,SOAT, mantenimientos preventivos y correctivos. A través de seguimientos mensual diligenciando los formatos correspondientes en el que registran cada uno de los vehiculos activos de aucerdo con el plan de mantenimiento preventivo y correctivos, SOAT y Tecnicomecánica, para su control.En caso de desviacion, se escalan las situaciones ante el coordinador del GIT: Gestión Administrativa para la toma decisiones, teniendo en cuenta lo establecido los contratos.Evidencia: 1. Registro de formatos (RF-FR-003, RF-FR030,RF-FR-004) 2. Correo electronico al coordinador del GIT: Gestión Administrativa (Cuando aplique) | K26: Preventivo | L26: Si | M26: Si | N26: Si | Q26: Parcialmente | R26: Si | S26: R3-Acc-1: Actualización del procedimiento mantenimiento y control de vehiculos RF-PD-005 y sus documentos asociados e: Incluir la creación del formato inspección preoperacional | T26: Procedimiento y formatos aprobado en ISOLUCION. | U26: 30/03/2026 al 30/07/2026 | V26: En curso | W26: NO | AB26: No
A27: Gestión Documental | B27: GD | C27: R2: Posibilidad de afectación reputacional por falencias en la organización documental de acuerdo con las series y subseries, resistencia al cambio por parte de los funcionarios y Contratistas y Socialización de los lineamientos documentados que permitan articular la gestión documental. debido a la Inadecuada aplicación de los instrumentos archivísticos | D27: 46134 | E27: 46136 | F27: 46139 | G27: Apoyo | H27: Moderado | I27: Si | J27: R2-Cont-1: El profesional en Gestión Documental, realiza la verificacion de la organización documental por dependencia de acuerdo a lo establecido en los intrumentos de gestión documental..A traves de visitas programadas con los gestores documentales, se realiza la revisión de estado de la organización de los expedientes de acuerdo a los intrumentos de gestión documenta. En caso de identificar desviaciones del control se deja mediante acta las observaciones encontradas para que la dependencia subsane o en su defecto se apliquen los procedimientos o manuales que correspondan. De la ejecución de los controles se generará la siguiente evidencia: actas de reunión, listas de asistencia. | K27: Detectivo | L27: Si | M27: Si | N27: Si | O27: Reducir (Mitigar) | P27: Moderada | Q27: SI | R27: Si | S27: R2-Acc-1: Realizar capacitaciones a funcionarios y contratistas por dependencia para la socialización de la tabla de retención documental y los instrumentos archivisticos de competencia. | T27: Lista de Asistencia y actas | U27: 15/01/2026 al 15/12/2026 | V27: En curso | W27: NO | X27: No | Y27: No aplica | Z27: No aplica | AA27: No aplica | AB27: No | AC27: Durante el I cuatrimestre de 2026 no se evidenció la materialización del riesgo. Con relación con los controles: R2-Cont-1: Se sugiere al proceso mantener la continuidad en la ejecución del control, con el fin de preservar su efectividad dentro del Sistema de Control Interno. En la verificación realizada, se identificó como evidencia el archivo denominado “lista de asistencia_incentivos”; no obstante, el proceso no aporta las actas de reunión correspondientes, lo cual limita la trazabilidad de la actividad ejecutada y la validación integral del cumplimiento del control. Con relación al Plan de Tratamiento del Riesgo: R2-Acc-1: La acción debía encontrarse iniciada para el presente cuatrimestre; no obstante, el proceso (GD) no evidencia avance en su ejecución, lo cual denota un posible incumplimiento frente a la programación establecida y limita el seguimiento actual. Indicadores R2: No se evidenció la medición de los indicadores establecidos para los riesgos evaluados para la identificación oportuna de desviaciones y la adopción de acciones preventivas en materia de gestión del riesgo. As imismo, en la revisión efectuada se observó que la segunda línea de defensa no registro pronunciamientos frente a la ausencia de medición de los indicadores. | AD27: R2-Cont-1 | AE27: R2-Acc-1
A28: Gestión Proceso Disciplinario | B28: GP | C28: R3: Posibilidad de afectación reputacional, por represamiento de las noticias disciplinarias, pendientes por reparto, para iniciar impulso procesal debido a fallas en el monitoreo de las quejas y/o denuncias disciplinarias, allegadas por los canales atención del Ministerio Del Deporte | D28: 46132 | E28: No informa | F28: 46149 | G28: Evaluación | H28: Moderado | I28: Si | J28: R3-Cont-1: El jefe de la Oficina de Control Interno Disciplinario o el profesional asignado verifica diariamente el registro y la asignación de las noticias disciplinarias recibidas a través de los canales de atención, asegurando que estas sean repartidas oportunamente a los abogados instructores para el inicio del impulso procesal. Para ello, realiza seguimiento a los registros en los sistemas institucionales y valida su asignación mediante los reportes generados en el aplicativo GESDOC, que permiten evidenciar la trazabilidad del ingreso, registro y reparto de las noticias disciplinarias. La evidencia de la ejecución del control es un muestreo de los reportes generados desde el aplicativo GESDOC, los cuales evidencian el ingreso, registro y asignación por reparto de las noticias disciplinarias, garantizando la trazabilidad del proceso | K28: Preventivo | L28: Si | M28: Si | N28: Si | O28: Reducir (Mitigar) | P28: Moderada | Q28: SI | R28: Si | S28: R3-Acc-1: Gestionar la asignación oportuna de las noticias disciplinarias que se encuentren pendientes o con retraso en su reparto, mediante el seguimiento a la base de datos de procesos disciplinarios, con el fin de garantizar el inicio del impulso procesal. | T28: Base de datos de procesos disciplinarios que evidencie el número de expediente, fecha de la última acta de reparto y abogado asignado, permitiendo verificar la trazabilidad y asignación de los procesos disciplinarios. La información se presenta de manera parcial o anonimizada, en cumplimiento de la reserva legal de la información disciplinaria. | U28: 01/01/2026 al 31/12/2026 | V28: En curso | W28: En curso | X28: No | Y28: No aplica | Z28: No aplica | AA28: No aplica | AB28: No | AC28: Durante el I cuatrimestre de 2026 no se evidenció la materialización del riesgo. Con relación con los controles: R3-Cont-1: Se sugiere al proceso mantener la continuidad en la ejecución del control con el fin de mantener su efectividad dentro del sistema de control interno de la ejecución del control se identifico como evidencia el archivo: 2026424_1935 con 62 registros. Con relación al Plan de Tratamiento del Riesgo: R3-Acc-1: Para el presente cuatrimestre se evidencia el inicio de la acción. El proceso (GP) presenta como soporte una base de datos correspondiente a los procesos disciplinarios de la vigencia 2026, en la cual se registran 19 ID EXPEDIENTES. Indicadores R3: Se evidenció que el indicador reportado en la ficha de seguimiento no coincide con la fórmula del indicador definida en el mapa de riesgos, situación que puede afectar la consistencia y confiabilidad de la información utilizada para el monitoreo del riesgo. Asimismo, no se encontraron las evidencias que soportan la medición y los resultados del indicador descritos en el seguimiento, lo que limita la trazabilidad y verificación de la información reportada. Adicionalmente, se observó que la segunda línea de defensa no realizó observaciones ni emitió pronunciamiento respecto de estas inconsistencias, por lo que se recomienda fortalecer las actividades de monitoreo y revisión. | AD28: R3-Cont-1 | AE28: R3-Acc-1
A29: Proceso Gestión Ambiental | B29: GA | C29: R1: Posibilidad de afectación reputacional por la inobservancia de la normatividad ambiental vigente aplicable a nivel Administrativo, debido a la falta de seguimiento a los lineamientos emitidos por el ente rector en la gestión Ambiental en concordancia con el Plan de Trabajo Ambiental | D29: 46134 | E29: 46141 | F29: 46142 | G29: Apoyo | H29: Moderado | I29: Si | J29: R1-Cont-1: El profesional designado para el proceso Gestión Ambiental_GIT Gestión Administrativa, verificará que se de cumplimiento a lo establecido en los programas ambientales, a través del monitoreo mensual al Plan de trabajo ambiental, en el reporte al indicador "porcentaje de avance en la implementación del Plan de trabajo del Sistema de Gestión Ambiental . En caso de presentarse desviación del control, se realizara el reporte de la actividad incumplida en el siguiente mes, siempre y cuando, no implique incumplimiento normativo. De la ejecución del control, se genera la siguiente evidencia: 1-Plan de trabajo 2- Reporte del indicador: incluye evidencias aportadas. | K29: Preventivo | L29: Si | M29: Si | N29: Si | O29: Reducir (Mitigar) | P29: Baja | Q29: SI | R29: Si | S29: R1-Acc-1: Realizar mesa de trabajo en conjunto con el coordinador del GIT de Contratación para establecer lineamientos normativos de la Gestión Ambiental, en la minuta y que apliquen a las OPS y demás contratos que afecten el funcionamiento administrativo de la entidad | T29: Acta de reunión de la mesa de trabajo. Modelo del párrafo a incluir en la minuta de los contrato | U29: 15/03/2026 al 01/11/2026 | V29: En curso | W29: En curso | X29: No | Y29: No aplica | Z29: No aplica | AA29: No aplica | AB29: Si | AC29: Durante el I cuatrimestre de 2026 no se evidenció la materialización del riesgo. Con relación con los controles: R1-Cont-1: Se sugiere al proceso mantener la continuidad en la ejecución del control, con el fin de preservar su efectividad dentro del Sistema de Control Interno. En la verificación realizada, se identificaron evidencias correspondientes a la ejecución del Plan de Trabajo del Sistema de Gestión Ambiental para los meses de enero, febrero y marzo de 2026; no obstante, no se evidencia la información correspondiente al mes de abril, lo cual limita la validación del cumplimiento oportuno y la efectividad del control conforme a su periodicidad. R1-Acc-1: El proceso presenta avance de la acción mediante la presentación del acta de reunión del dia 17/02/2026 con la inclusión de tres (3) compromisos. Indicadores R1: No se evidenció la medición de los indicadores definidos para el seguimiento de los riesgos, Asi mismo, se observó que la segunda línea de defensa no realizó observaciones , por lo que se recomienda fortalecer las actividades de monitoreo y acompañamiento. | AD29: R1-Cont-1 | AE29: R1-Acc-1
A30: Fomento al Desarrollo Humano y Social | B30: FD | C30: R2: Posibilidad de afectación económica y reputacional por las demoras en el inicio de la ejecución de los programas a desarrollar en los convenios interadministrativos o contratos debido a la entrega incompleta y/o inoportuna de la documentación precontractual en el marco de los convenios y/o contratos | D30: 46138 | E30: 46139 | F30: No informa | G30: Misional | H30: Alto | I30: Si | J30: R2-Cont-1: Para el primer trimestre de la vigencia el y/o los supervisores de los GIT de la Dirección de Fomento y Desarrollo (Actividad Fìsica, Recreaciòn, Deporte Escolar, Deporte Social Comunitario), Inician el proceso de planeacion estrategica de la Direccion de Fomento y Desarrollo desde el mes de Diciembre del anterior , con el fin de iniciar los procesos contractuales en el primer trimestre de la vigencia, a través del Plan de Acción las prioridades a ejecutar en la vigencia siguientes. En caso de identificar desviaciones en la ejecución del control, notificar al Director de Fomento y Desarrollo la clusula que establece el inicio de los programas, ., para solicitar modificación al PAI. De la ejecución del control se registran las siguientes evidencias: 1- cronograma de inversión 2- Proyecto de PAI | K30: Detectivo | L30: Si | M30: Si | N30: Si | O30: Reducir (Mitigar) | P30: Alto | Q30: SI | R30: Si | S30: R2-Acc-1: Generar alertas preventivas a los operadores, frente al cumplimiento y avance de acuerdo con el cronograma | T30: Correos electrónicos. Comunicaciones oficiales remitidas a operadores. Registros en Gesdoc. Cronogramas de seguimiento y ejecución contractual. Matrices de seguimiento al avance contractual. | U30: 1/03/2026 al 15//12/2026 | V30: En curso | W30: En curso | X30: No | Y30: No aplica | Z30: No aplica | AA30: No aplica | AB30: No | AC30: Durante el I cuatrimestre de 2026 no se evidenció la materialización del riesgo Con relación con los controles: R2-Cont-1: El proceso no presentó las evidencias de ejecución del control establecidas, correspondientes al cronograma de inversión y al Proyecto de PAI, lo cual limita la verificación del cumplimiento del control y su efectividad dentro del Sistema de Control Interno. R2-Cont-2: Se evidencia que las evidencias aportadas por el proceso son inexistentes frente a lo definido en el control. No obstante, únicamente el GIT de Recreación remitió soportes para el seguimiento realizado, mientras que los demás Grupos Internos de Trabajo no aportaron evidencias relacionadas con la ejecución de los controles y acciones establecidos para el riesgo. Esta situación limita la verificación integral del cumplimiento de las actividades definidas y la efectividad de los controles en el marco del Sistema de Control Interno. Con relación al Plan de Tratamiento del Riesgo: R2-Acc-1: El proceso presenta avance de la acción mediante la presentación del cronogrma de eventos del GIT de Recreación para abril, mayo y junio de 2026. No obstante, no se encuentran cronogramas de los otros grupos internos de trabajo de la Dirección de Fomento y Desarrollo. Indicadores R2: El proceso (FD) presenta la ficha del indicador sin evidencia. La segunda linea de defensa no presenta el monitoreo. | AD30: R2-Cont-1 R2-Cont-2 | AE30: R2-Acc-1
I31: Si | J31: R2-Cont-2: Cada vez que se requiera, el y/o los supervisores de los GIT de la Dirección de Fomento y Desarrollo (Actividad Fìsica, Recreaciòn, Deporte Escolar, Deporte Social Comunitario), deben revisar y verificar el cronograma de inicio de las actividades, De acuerdo con un cronograma de actividades aceptado por el ministerio del deporte En caso de identificar desviaciones en la ejecución del control, notificar al Director de Fomento y Desarrollo las dificultades presentadas por el ente ejecutor y establecer un plan de trabajo que permita subsanar la situacion. De la ejecución del control se genera las siguientes evidencias: 1. minuta del contrato 2- cronograma de actividades 3- Oficio al operador (cuando aplique) Frecuencia: Cuattrimestral | K31: Preventivo | L31: Si | M31: Si | N31: Si | O31: Reducir (Mitigar) | P31: Alta | Q31: Parcialmente | V31: SI | W31: SI
A32: Evaluación Independiente y Mejora Continua | B32: EI | C32: R2: Posibilidad de afectación reputacional por insuficiencia de recursos técnicos, presupuestales o de talento humano, por falta de seguimiento al cumplimiento del PAAI o por falta de entrega de información de por parte de los procesos, debido a la deficiente ejecución del Plan Anual de Auditoría Interna -PAAI. | D32: 45771 | E32: 46139 | F32: 46140 | G32: Evaluación | H32: Moderado | I32: Si | J32: R2-Cont-1: Mensualmente el Jefe de la Oficina de Control Interno o quien haga sus veces realizará seguimiento al cumplimiento del Plan Anual de Auditoría Interna a través de un documento de trabajo en Excel para el seguimiento de las actividades de la OCI, validando su estado, el número radicado de cada informe emitido y el cumplimiento de la programación establecida. Además, una vez aprobado el PAAI de la vigencia, socializará el resultado en una mesa de trabajo con el equipo de la OCI para definición de responsables de las actividades. En caso de identificar desviaciones en la ejecución del control, tales como insuficiencia de recursos técnicos, presupuestales o de talento humano, realizará requerimiento al Despacho de la Ministra o a la Secretaría General; en el caso de ser atribuible al auditor, se le requierá mediante correo electrónico para el cumplimiento de este y si se debe a falta de entrega de información de por parte de los procesos se genera alerta mediante memorando GESDOC. De la ejecución de los controles se generará la siguiente evidencia: archivo de Excel del seguimiento y, cuando aplique, correo electrónico o GESDOC y actas de seguimiento. | K32: Preventivo | L32: Si | M32: Si | N32: Si | O32: Reducir (Mitigar) | P32: Moderada | Q32: SI | R32: Si | S32: 1. Efectuar revisión y análisis de la documentación del proceso Evaluación Independiente y Mejora Continua -EI, incluyendo los puntos de control, elementos e insumos para la ejecución de actividades. | T32: 1. Plan de Trabajo 2. Documentos proyectados por el proceso y revisados por la Oficina Asesora de Planeación, en flujo de aprobación de Isolución | U32: 02/05/2026 al 31/10/2026 | V32: SI | W32: SI | X32: No | Y32: Si | Z32: Si | AA32: Si | AB32: Si | AC32: Durante el I cuatrimestre de 2026 no se evidenció la materialización del riesgo Con relación con los controles: R2-Cont-1: Se sugiere al proceso mantener la continuidad en la ejecución del control con el fin de mantener su efectividad dentro del sistema de control interno de la ejecución del control se identifico como evidencian los archivos de Matriz Seguimiento PAAI y Correos Alertas R2-Cont-2: Se sugiere al proceso mantener la continuidad en la ejecución del control con el fin de mantener su efectividad dentro del sistema de control interno de la ejecución del control se identifico como evidencian los archivos de Actualizacion PAAI y Convocatoria CICCI R2-Acc-1: La acción para el presente cuatrimestre no requiere inicio de ejecución. Indicadores R2: El proceso presenta la ficha del indicador junto con sus evidencias. | AD32: R2-Cont-1 R2-Cont-2 | AE32: R2-Acc-1
I33: Si | J33: R2-Cont-2: Trimestralmente el jefe de la Oficina de Control Interno o quien haga sus veces evaluará la planeación del PAAI mediante el seguimiento mensual al cumplimiento del PAAI, las solicitudes de modificación o actualización de PAAI recibidas o cambios normativos. En caso de identificar desviaciones en la ejecución del control, debe solicitar la actualización requerida del PAAI para aprobación en sesión del Comité Institucional de Coordinación de Control Interno -CICCI. De la ejecución de los controles se generará la siguiente evidencia: correo electrónico de le agenda de la sesión del Comité Institucional de Coordinación de Control Interno - CICCI y acta de reunión del CICCI. | K33: Preventivo | L33: Si | M33: Si | N33: Si | Q33: SI
